BEGIN:VCALENDAR
VERSION:2.0
PRODID:-//KuBa Jülich - ECPv6.2.9//NONSGML v1.0//EN
CALSCALE:GREGORIAN
METHOD:PUBLISH
X-ORIGINAL-URL:https://www.kuba-juelich.de
X-WR-CALDESC:Veranstaltungen für KuBa Jülich
REFRESH-INTERVAL;VALUE=DURATION:PT1H
X-Robots-Tag:noindex
X-PUBLISHED-TTL:PT1H
BEGIN:VTIMEZONE
TZID:Europe/Berlin
BEGIN:DAYLIGHT
TZOFFSETFROM:+0100
TZOFFSETTO:+0200
TZNAME:CEST
DTSTART:20260329T010000
END:DAYLIGHT
BEGIN:STANDARD
TZOFFSETFROM:+0200
TZOFFSETTO:+0100
TZNAME:CET
DTSTART:20261025T010000
END:STANDARD
END:VTIMEZONE
BEGIN:VEVENT
DTSTART;TZID=Europe/Berlin:20261219T150000
DTEND;TZID=Europe/Berlin:20261219T160000
DTSTAMP:20260425T025949
CREATED:20251216T141452Z
LAST-MODIFIED:20251216T141452Z
UID:10000584-1797692400-1797696000@www.kuba-juelich.de
SUMMARY:PLANSCHEMALÖÖR
DESCRIPTION:Planschemalöörs Kinderweihnachtsplansch 2026 \nAuch 2026 laden die Planschis wieder zum großen Kinder-Weihnachtsplansch nach Jülich ein! Der Kulturbahnhof wird an diesem Tag zur kleinen Winterwelt voller Bewegung\, Mitmachmomenten und Planschis-Zauber. Gemeinsam entdecken wir eine weihnachtliche Geschichte\, lachen\, tanzen und verbringen einen fröhlichen und manchmal auch besinnlichen Nachmittag miteinander. \nWir freuen uns auf euch.\nEure Planschis \nBeginn: 15:00 Uhr\nEinlass: 14:00 Uhr \nWichtig: Kinder können nur in Begleitung von einem Erziehungsberechtigten kommen.
URL:https://www.kuba-juelich.de/event/planschemaloeoer-5/
CATEGORIES:Konzert
ATTACH;FMTTYPE=image/jpeg:https://www.kuba-juelich.de/wp-content/uploads/2025/12/Kinderplansch-scaled.jpg
END:VEVENT
BEGIN:VEVENT
DTSTART;TZID=Europe/Berlin:20261219T200000
DTEND;TZID=Europe/Berlin:20261219T220000
DTSTAMP:20260425T025949
CREATED:20251216T141754Z
LAST-MODIFIED:20251216T141754Z
UID:10000585-1797710400-1797717600@www.kuba-juelich.de
SUMMARY:PLANSCHEMALÖÖR
DESCRIPTION:Am 19. Dezember 2026 kehren Planschemalöör für ihren Weihnachtsplansch in den Kulturbahnhof Jülich zurück. In der warmen\, vorweihnachtlichen Atmosphäre des KuBa entsteht ein Abend voller Nähe\, Energie und emotionaler Momente. Gemeinsam tauchen wir in die Musik ein und schaffen einen Konzertabend\, der den Dezember besonders macht. \nEin Konzert zum Mitsingen\, Mitfühlen und einfach Wohlfühlen!
URL:https://www.kuba-juelich.de/event/planschemaloeoer-6/
CATEGORIES:Konzert
ATTACH;FMTTYPE=image/jpeg:https://www.kuba-juelich.de/wp-content/uploads/2025/12/Abendplansch-scaled.jpg
END:VEVENT
END:VCALENDAR