BEGIN:VCALENDAR
VERSION:2.0
PRODID:-//KuBa Jülich - ECPv6.2.9//NONSGML v1.0//EN
CALSCALE:GREGORIAN
METHOD:PUBLISH
X-WR-CALNAME:KuBa Jülich
X-ORIGINAL-URL:https://www.kuba-juelich.de
X-WR-CALDESC:Veranstaltungen für KuBa Jülich
REFRESH-INTERVAL;VALUE=DURATION:PT1H
X-Robots-Tag:noindex
X-PUBLISHED-TTL:PT1H
BEGIN:VTIMEZONE
TZID:Europe/Berlin
BEGIN:DAYLIGHT
TZOFFSETFROM:+0100
TZOFFSETTO:+0200
TZNAME:CEST
DTSTART:20260329T010000
END:DAYLIGHT
BEGIN:STANDARD
TZOFFSETFROM:+0200
TZOFFSETTO:+0100
TZNAME:CET
DTSTART:20261025T010000
END:STANDARD
END:VTIMEZONE
BEGIN:VEVENT
DTSTART;TZID=Europe/Berlin:20261203T200000
DTEND;TZID=Europe/Berlin:20261203T220000
DTSTAMP:20260425T025107
CREATED:20260210T131452Z
LAST-MODIFIED:20260224T102714Z
UID:10000611-1796328000-1796335200@www.kuba-juelich.de
SUMMARY:MILJÖ - MITSING-TOUR 2026
DESCRIPTION:Ölt die Stimmen\, das Ö de Cologne und ihr rollendes Wohnzimmer sind in der Stadt! Alle Jahre wieder\, wenn es draußen kalt und ungemütlich wird\, touren die fünf Jungs vun d’r Schäl Sick höösch und akustisch durch die Region. In der Kommodenschublade alle bekannten Hits aus 14 Jahren Bandgeschichte\, nicht selten verpackt in neuen musikalischen Gewändern quer durch alle Stilrichtungen. Ihre Mitsingabende sind ein Safe Singing Space. Mitsingen jederzeit und unbedingt erlaubt – Tonart egal\, Hauptsache man tut’s. Texthefte inklusive. Handgemachte kölsche Töne\, Heimatverbundenheit und eine gesunde Prise Humor – hier wird nichts unter den Perser gekehrt.
URL:https://www.kuba-juelich.de/event/miljoe-mitsing-tour-2025-2/
CATEGORIES:Konzert
ATTACH;FMTTYPE=image/jpeg:https://www.kuba-juelich.de/wp-content/uploads/2024/12/MILJOE_Unplugged_2025__Ticket-IO_Thumb_v2.jpg
END:VEVENT
END:VCALENDAR