BEGIN:VCALENDAR
VERSION:2.0
PRODID:-//KuBa Jülich - ECPv6.2.9//NONSGML v1.0//EN
CALSCALE:GREGORIAN
METHOD:PUBLISH
X-WR-CALNAME:KuBa Jülich
X-ORIGINAL-URL:https://www.kuba-juelich.de
X-WR-CALDESC:Veranstaltungen für KuBa Jülich
REFRESH-INTERVAL;VALUE=DURATION:PT1H
X-Robots-Tag:noindex
X-PUBLISHED-TTL:PT1H
BEGIN:VTIMEZONE
TZID:Europe/Berlin
BEGIN:DAYLIGHT
TZOFFSETFROM:+0100
TZOFFSETTO:+0200
TZNAME:CEST
DTSTART:20260329T010000
END:DAYLIGHT
BEGIN:STANDARD
TZOFFSETFROM:+0200
TZOFFSETTO:+0100
TZNAME:CET
DTSTART:20261025T010000
END:STANDARD
END:VTIMEZONE
BEGIN:VEVENT
DTSTART;TZID=Europe/Berlin:20260911T200000
DTEND;TZID=Europe/Berlin:20260911T220000
DTSTAMP:20260424T184048
CREATED:20250617T091851Z
LAST-MODIFIED:20250617T091851Z
UID:10000467-1789156800-1789164000@www.kuba-juelich.de
SUMMARY:Willi & Ernst - "Programm Nr. 7 - Verflixt nochemol!"
DESCRIPTION:Der Titel des neuen Programms der beiden Koblenzer „Rentner aus Leidenschaft“ ist schnell erklärt. Denn es ist wirklich das 7. Programm der beiden Womanizer und um sich das besser merken zu können\, haben sie es auch so genannt. Des Weiteren ist „Verflixt nochemol!“ die Antwort auf alles: „Verflixt nochemol!“- Ist dat wirklich schon unser 7. Abendfüllendes Programm? „Verflixt nochemol!“- Wat is nur in der Welt los? Oder auch „Verflixt nochemol!“\, wat sind wir attraktiv. \nErleben Sie einen Abend voller positiver Energie und Liebe\, voller Wärme und unglaublicher Freude. Auch in ihrem siebten abendfüllendem Programm erfinden sich „Willi & Ernst“ – Dirk Zimmer & Markus Kirschbaum – nicht neu\, sondern setzen auf das\, was sie seit vielen Jahren ausmacht: Komödiantischer Slapstick\, rheinischer Humor\, Improvisation\, Theater\, Publikumsnähe\, eine riesige Portion Charme und ihre begnadeten Körper im Takt der Musik. Die Zwei sind Stammgast in der ZDF Mädchensitzung seit vielen Jahren und feiern 2025 ihr 20 jähriges Bühnenjubliläum!
URL:https://www.kuba-juelich.de/event/willi-ernst-programm-nr-7-verflixt-nochemol/
CATEGORIES:Kleinkunst
ATTACH;FMTTYPE=image/jpeg:https://www.kuba-juelich.de/wp-content/uploads/2025/06/WuE-Plakat2025_Flyer-A6_front-CMYK.jpg
END:VEVENT
END:VCALENDAR