BEGIN:VCALENDAR
VERSION:2.0
PRODID:-//KuBa Jülich - ECPv6.2.9//NONSGML v1.0//EN
CALSCALE:GREGORIAN
METHOD:PUBLISH
X-WR-CALNAME:KuBa Jülich
X-ORIGINAL-URL:https://www.kuba-juelich.de
X-WR-CALDESC:Veranstaltungen für KuBa Jülich
REFRESH-INTERVAL;VALUE=DURATION:PT1H
X-Robots-Tag:noindex
X-PUBLISHED-TTL:PT1H
BEGIN:VTIMEZONE
TZID:Europe/Berlin
BEGIN:DAYLIGHT
TZOFFSETFROM:+0100
TZOFFSETTO:+0200
TZNAME:CEST
DTSTART:20260329T010000
END:DAYLIGHT
BEGIN:STANDARD
TZOFFSETFROM:+0200
TZOFFSETTO:+0100
TZNAME:CET
DTSTART:20261025T010000
END:STANDARD
END:VTIMEZONE
BEGIN:VEVENT
DTSTART;TZID=Europe/Berlin:20260617T190000
DTEND;TZID=Europe/Berlin:20260617T210000
DTSTAMP:20260424T173517
CREATED:20260421T120854Z
LAST-MODIFIED:20260423T143906Z
UID:10000676-1781722800-1781730000@www.kuba-juelich.de
SUMMARY:Green Science Slam
DESCRIPTION:Wenn Ideen schäumen und Zukunft neu gedacht wird\nGreen Science Slam | 17. Juni 2026\, 19 Uhr | Kulturbahnhof Jülich \nWenn Kresse\, Künstliche Intelligenz und neue Materialien plötzlich mehr Zukunft haben als Kohle? Was\, wenn Schaum kein Fehler ist\, sondern ein Feature? Und wenn klar wird\, dass echter Fortschritt nur entsteht\, wenn wir den Mut haben\, die Spielregeln zu verändern?\nBeim Green Science Slam im Kulturbahnhof Jülich wird genau das auf die Bühne gebracht – pointiert\, verständlich und mit ordentlich Energie. \nHier wird Bioökonomie lebendig: Zukunftsthemen rund um neue Fasern\, vegane Wolle und intelligente Technologien treffen auf die großen Fragen des Strukturwandels und liefern überraschende Aha-Momente. Wissenschaft verlässt ihre Komfortzone\, wird persönlich\, greifbar\, emotional – und vor allem unterhaltsam. Kein Fachchinesisch\, sondern starke Geschichten über Ideen\, die unsere Region verändern können. \nJetzt seid ihr dran.\nKommt\, hört zu\, lacht\, staunt – und entscheidet mit eurem Applaus. Lasst euch inspirieren\, stellt Fragen\, mischt euch ein. Denn Zukunft passiert nicht irgendwann. Sie passiert dort\, wo Menschen zuhören\, mitdenken und mitgehen.\nModeriert wird der Abend von den Poetry Slam Profis Oscar Malinowski & Lukas Knoben von satznachvorn\, mit denen wir das Format bewusst nah am Poetry Slam entwickeln: mit Show-Qualität\, Humor und Kulturbühnen-Atmosphäre. \nDer Green Science Slam wird vom Bundesministerium für Forschung\, Technologie und Raumfahrt gefördert und in Zusammenarbeit mit den Partnern im Forschungsverbund Modellregion Bioökonomie im Rheinischen Revier – Bioökonomie Verstehen. Verbinden. Unterstützen.\, dem Kompetenzzentrum Bio4MatPro sowie dem Innovationscluster BioökonomieREVIER organisiert. Unterstützt wird die Veranstaltung von AUFBRUCH – Graduate Cluster\, dem Kreis Düren und der AGIT MBH. \nTickets gibt es über Eventbrite: HIER \nSeid dabei\, wenn Wissenschaft berührt\, Zukunft Spaß macht. \nWeitere Informationen:\nhttps://www.forschungsverbund-biooekonomie.de/science-slam
URL:https://www.kuba-juelich.de/event/green-science-slam/
CATEGORIES:Sonstiges
ATTACH;FMTTYPE=image/jpeg:https://www.kuba-juelich.de/wp-content/uploads/2026/04/Ankuendigung-Juelich-KUBA-1.jpg
END:VEVENT
END:VCALENDAR