BEGIN:VCALENDAR
VERSION:2.0
PRODID:-//KuBa Jülich - ECPv6.2.9//NONSGML v1.0//EN
CALSCALE:GREGORIAN
METHOD:PUBLISH
X-ORIGINAL-URL:https://www.kuba-juelich.de
X-WR-CALDESC:Veranstaltungen für KuBa Jülich
REFRESH-INTERVAL;VALUE=DURATION:PT1H
X-Robots-Tag:noindex
X-PUBLISHED-TTL:PT1H
BEGIN:VTIMEZONE
TZID:Europe/Berlin
BEGIN:DAYLIGHT
TZOFFSETFROM:+0100
TZOFFSETTO:+0200
TZNAME:CEST
DTSTART:20260329T010000
END:DAYLIGHT
BEGIN:STANDARD
TZOFFSETFROM:+0200
TZOFFSETTO:+0100
TZNAME:CET
DTSTART:20261025T010000
END:STANDARD
END:VTIMEZONE
BEGIN:VEVENT
DTSTART;TZID=Europe/Berlin:20260603T200000
DTEND;TZID=Europe/Berlin:20260603T230000
DTSTAMP:20260424T184228
CREATED:20260415T134634Z
LAST-MODIFIED:20260415T135314Z
UID:10000665-1780516800-1780527600@www.kuba-juelich.de
SUMMARY:KLARE KANTE 3
DESCRIPTION:Am Mittwoch\, 3. Juni 2026 heißt es wieder ab 20 Uhr „Klare Kante!“ im Jülicher Kulturbahnhof\, wenn die 3 Bands The Snouters\, Kommando Butterfahrt und Wegbier die Bühne in der KuBa Kneipe rocken. \nThe Snouters aus Italien ist ein Punkrock-Projekt\, das von einer Mischung verschiedenster Einflüsse charakterisiert wird\, die von Roots-Ska bis zu California Punk reichen. Das Resultat ist ein origineller Sound\, der von einer warmen aber knallharten weiblichen Stimme ergänzt wird. Die Bandmitglieder bringen Erfahrungen aus aktiven Ska- und Punk-Projekten mit\, die international auftreten. \nDie Kölner Band Kommando Butterfahrt haucht den „ollen Kamellen“ neues Leben ein – mit Leidenschaft\, Witz und ordentlich Druck. Ihr unverwechselbares Rezept: gut abgehangene deutsche Schlager der 60er bis 80er Jahre\, verfeinert mit einer Prise NDW\, treibendem Kontrabass und einer kräftigen Portion melodischem Punk. Heraus kommt ein energiegeladener Mix\, den die Band selbstbewusst als „Punk’n’Schlager“ serviert – voller Selbstironie\, Spielfreude und Herzblut. Nicht ohne Grund werden sie immer wieder mit Me First and the Gimme Gimmes verglichen – nur eben auf Deutsch und mit ganz eigener Note. \nWEGBIER ballert seit 2012 rohen Punkrock aus Aachen – direkt\, laut und ohne Filter. Kein Mainstream\, kein Scheiß: Punk\, Alternative und bisschen Jazz fliegen zusammen gegen jede Regel. Auf der Bühne gibt’s keine halben Sachen – Schweiß\, Energie und Haltung statt Hochglanz. Egal ob Clubkeller\, Festival oder Oma’s Garten – Wegbier spielt\, als wär’s das letzte Mal. Mit Shows neben Die Kassierer\, Slime oder Swiss & Die Anderen hat sich die Band ihren Platz erspielt: mitten drin in der Szene\, laut\, ehrlich und garantiert ohne Kompromisse.
URL:https://www.kuba-juelich.de/event/klare-kante-3/
CATEGORIES:Konzert
ATTACH;FMTTYPE=image/jpeg:https://www.kuba-juelich.de/wp-content/uploads/2026/04/260413_Kuba_Konzert-KlareKante-Plakat_web.jpg
END:VEVENT
END:VCALENDAR