BEGIN:VCALENDAR
VERSION:2.0
PRODID:-//KuBa Jülich - ECPv6.2.9//NONSGML v1.0//EN
CALSCALE:GREGORIAN
METHOD:PUBLISH
X-ORIGINAL-URL:https://www.kuba-juelich.de
X-WR-CALDESC:Veranstaltungen für KuBa Jülich
REFRESH-INTERVAL;VALUE=DURATION:PT1H
X-Robots-Tag:noindex
X-PUBLISHED-TTL:PT1H
BEGIN:VTIMEZONE
TZID:Europe/Berlin
BEGIN:DAYLIGHT
TZOFFSETFROM:+0100
TZOFFSETTO:+0200
TZNAME:CEST
DTSTART:20260329T010000
END:DAYLIGHT
BEGIN:STANDARD
TZOFFSETFROM:+0200
TZOFFSETTO:+0100
TZNAME:CET
DTSTART:20261025T010000
END:STANDARD
END:VTIMEZONE
BEGIN:VEVENT
DTSTART;TZID=Europe/Berlin:20260504T200000
DTEND;TZID=Europe/Berlin:20260504T220000
DTSTAMP:20260424T125402
CREATED:20260401T095708Z
LAST-MODIFIED:20260401T095708Z
UID:10000655-1777924800-1777932000@www.kuba-juelich.de
SUMMARY:Horst Schlämmer sucht das Glück
DESCRIPTION:Komödie | Deutschland 2025 | FSK: ab 6 | 97 Min. | 6.50 Euro / 6.00 Euro erm. \nRegie: Sven Unterwaldt | Darsteller: Hape Kerkeling\, Tahnee Schaffarczyk\, Meltem Kaptan\, Laura Thomas\, Jördis Triebel \nHorst Schlämmer hat die Faxen dicke: Die Preise steigen\, die Stimmung sinkt\, die Kneipen schließen. Kurzum: Deutschland hat Rücken! Und zwar im Gesicht. Also geht der stellvertretende Chefredakteur vom Grevenbroicher Tagblatt auf eine große Reise mit noch größerem Ziel: Er will den Leuten ihr Lächeln zurückbringen! Doch wie wird man glücklich? Schwere Zeiten verlangen nach klaren Antworten – und weil man die in Grevenbroich nicht finden kann\, begibt sich Horst Schlämmer auf die Reise seines Lebens: Von Süddeutschland bis Sylt\, von Berlin bis Büsum – per Anhalter\, Krabbenkutter oder Schienenersatzverkehr. Er trifft Passanten\, Promis und Psychologen\, fragt knallhart nach und verliert\, trotz vieler Rückschläge\, nie seine Mission aus den Augen: Die Menschen wieder glücklich zu machen!
URL:https://www.kuba-juelich.de/event/horst-schlaemmer-sucht-das-glueck/
CATEGORIES:Kino
ATTACH;FMTTYPE=image/jpeg:https://www.kuba-juelich.de/wp-content/uploads/2026/04/Horst-SSdG_Artwork_DIN_A4_300ppi_sRGB_RZ-scaled.jpg
END:VEVENT
BEGIN:VEVENT
DTSTART;TZID=Europe/Berlin:20260505T200000
DTEND;TZID=Europe/Berlin:20260505T220000
DTSTAMP:20260424T125402
CREATED:20260401T095750Z
LAST-MODIFIED:20260401T095750Z
UID:10000656-1778011200-1778018400@www.kuba-juelich.de
SUMMARY:Horst Schlämmer sucht das Glück
DESCRIPTION:Komödie | Deutschland 2025 | FSK: ab 6 | 97 Min. | 6.50 Euro / 6.00 Euro erm. \nRegie: Sven Unterwaldt | Darsteller: Hape Kerkeling\, Tahnee Schaffarczyk\, Meltem Kaptan\, Laura Thomas\, Jördis Triebel \nHorst Schlämmer hat die Faxen dicke: Die Preise steigen\, die Stimmung sinkt\, die Kneipen schließen. Kurzum: Deutschland hat Rücken! Und zwar im Gesicht. Also geht der stellvertretende Chefredakteur vom Grevenbroicher Tagblatt auf eine große Reise mit noch größerem Ziel: Er will den Leuten ihr Lächeln zurückbringen! Doch wie wird man glücklich? Schwere Zeiten verlangen nach klaren Antworten – und weil man die in Grevenbroich nicht finden kann\, begibt sich Horst Schlämmer auf die Reise seines Lebens: Von Süddeutschland bis Sylt\, von Berlin bis Büsum – per Anhalter\, Krabbenkutter oder Schienenersatzverkehr. Er trifft Passanten\, Promis und Psychologen\, fragt knallhart nach und verliert\, trotz vieler Rückschläge\, nie seine Mission aus den Augen: Die Menschen wieder glücklich zu machen!
URL:https://www.kuba-juelich.de/event/horst-schlaemmer-sucht-das-glueck-2/
CATEGORIES:Kino
ATTACH;FMTTYPE=image/jpeg:https://www.kuba-juelich.de/wp-content/uploads/2026/04/Horst-SSdG_Artwork_DIN_A4_300ppi_sRGB_RZ-scaled.jpg
END:VEVENT
BEGIN:VEVENT
DTSTART;TZID=Europe/Berlin:20260506T200000
DTEND;TZID=Europe/Berlin:20260506T220000
DTSTAMP:20260424T125402
CREATED:20260401T095807Z
LAST-MODIFIED:20260401T095807Z
UID:10000657-1778097600-1778104800@www.kuba-juelich.de
SUMMARY:Horst Schlämmer sucht das Glück
DESCRIPTION:Komödie | Deutschland 2025 | FSK: ab 6 | 97 Min. | 6.50 Euro / 6.00 Euro erm. \nRegie: Sven Unterwaldt | Darsteller: Hape Kerkeling\, Tahnee Schaffarczyk\, Meltem Kaptan\, Laura Thomas\, Jördis Triebel \nHorst Schlämmer hat die Faxen dicke: Die Preise steigen\, die Stimmung sinkt\, die Kneipen schließen. Kurzum: Deutschland hat Rücken! Und zwar im Gesicht. Also geht der stellvertretende Chefredakteur vom Grevenbroicher Tagblatt auf eine große Reise mit noch größerem Ziel: Er will den Leuten ihr Lächeln zurückbringen! Doch wie wird man glücklich? Schwere Zeiten verlangen nach klaren Antworten – und weil man die in Grevenbroich nicht finden kann\, begibt sich Horst Schlämmer auf die Reise seines Lebens: Von Süddeutschland bis Sylt\, von Berlin bis Büsum – per Anhalter\, Krabbenkutter oder Schienenersatzverkehr. Er trifft Passanten\, Promis und Psychologen\, fragt knallhart nach und verliert\, trotz vieler Rückschläge\, nie seine Mission aus den Augen: Die Menschen wieder glücklich zu machen!
URL:https://www.kuba-juelich.de/event/horst-schlaemmer-sucht-das-glueck-3/
CATEGORIES:Kino
ATTACH;FMTTYPE=image/jpeg:https://www.kuba-juelich.de/wp-content/uploads/2026/04/Horst-SSdG_Artwork_DIN_A4_300ppi_sRGB_RZ-scaled.jpg
END:VEVENT
BEGIN:VEVENT
DTSTART;TZID=Europe/Berlin:20260507T100000
DTEND;TZID=Europe/Berlin:20260507T110000
DTSTAMP:20260424T125402
CREATED:20260401T100152Z
LAST-MODIFIED:20260401T100152Z
UID:10000658-1778148000-1778151600@www.kuba-juelich.de
SUMMARY:Kindertheater: "Das NEINhorn und der Geburtstag"
DESCRIPTION:Wenn es etwas gibt\, was das NEINhorn und die KönigsDOCHter besonders gut können\, dann ist es streiten: „Nein.“ – „Doch.“ – „NEIN!“ – „DOCH!“ schallt es jeden Tag durch den Herzwald. Dabei sind sie eigentlich gute Freund*innen! Und dann passiert es: Die KönigsDOCHter lädt das NEINhorn nicht zu ihrem Geburtstag ein\, weil es sie geschubst haben soll. Da ist die Enttäuschung groß! Eine Feier mit Hüpfburg\, Clowns und Trötenkrötenorchester\, mit Torte und einem Turnier kurz nach vier soll es verpassen? Nein! Auf Rat des WASbären macht sich das NEINhorn auf die Suche nach einem Geschenk\, um wieder alles in Ordnung zu bringen. Dabei trifft es allerhand neue und nervige Freund*innen. Über die freut sich sicherlich auch die KönigsDOCHter\, oder? \nMit „Das NEINhorn und der Geburtstag“\, dem neuen Kinderbuch von Marc-Uwe Kling\, kehrt das quirlige Fabelwesen mit viel Spaß zurück auf unsere Bühne. Alle ab drei Jahren erleben eine humorvolle Geschichte über Freundschaft\, Streiten und Versöhnen und darüber\, wie wichtig es ist\, Kompromisse zu finden. Eine musikalische Erzählung\, die kindgerecht soziale Werte vermittelt und Mut macht\, offen für Neues zu sein. \nNUR Gruppenanmeldungen über das Kulturbüro der Stadt Jülich bei Frau Klingebiel unter 02461/ 63-243 oder unter Kulturbuero@juelich.de.\nab 3 Jahren | Eintritt: Kinder 6\,00 € | Begleitpersonen sind frei
URL:https://www.kuba-juelich.de/event/kindertheater-das-neinhorn-und-der-geburtstag/
CATEGORIES:Kleinkunst
ATTACH;FMTTYPE=image/jpeg:https://www.kuba-juelich.de/wp-content/uploads/2026/04/das-neinhorn-07.05.26_socialmedia.jpg
END:VEVENT
BEGIN:VEVENT
DTSTART;TZID=Europe/Berlin:20260508T200000
DTEND;TZID=Europe/Berlin:20260508T220000
DTSTAMP:20260424T125402
CREATED:20260311T134925Z
LAST-MODIFIED:20260311T134925Z
UID:10000637-1778270400-1778277600@www.kuba-juelich.de
SUMMARY:Pure Blues
DESCRIPTION:Georg Schroeter\, Marc Breitfelder\, Kalle Reuter and Torsten Zwingenberger \nEine Veranstaltung vom Jazzclub Jülich.
URL:https://www.kuba-juelich.de/event/pure-blues/
CATEGORIES:Konzert
ATTACH;FMTTYPE=image/avif:https://www.kuba-juelich.de/wp-content/uploads/2026/03/Foto3_SBZR_©Sven-Zimmermann.avif
END:VEVENT
BEGIN:VEVENT
DTSTART;TZID=Europe/Berlin:20260509T150000
DTEND;TZID=Europe/Berlin:20260509T220000
DTSTAMP:20260424T125402
CREATED:20260325T120021Z
LAST-MODIFIED:20260325T120021Z
UID:10000650-1778338800-1778364000@www.kuba-juelich.de
SUMMARY:NEXT-GEN DISCO NIGHT
DESCRIPTION:NEXT-GEN DISCO NIGHT – Level 1 bringt frischen Sound nach Jülich! Am 9. Mai 2026 verwandelt sich der Kulturbahnhof in den Hotspot für alle zwischen 12 und 18 Jahren.  \nMit DJ Nightjacks steht ein erfahrener DJ aus Dinslaken an den Decks\, der genau weiß\, worauf es ankommt: keine Standard-Playlist\, sondern ein Gespür für die Crowd. Er liest die Stimmung live und liefert genau die Beats\, die ihr feiern wollt – von aktuellen Hits bis zu treibenden Club-Sounds. \nSichert euch jetzt die Early-Bird-Tickets und seid dabei\, wenn aus guter Musik echte Party entsteht. Gemeinsam\, energiegeladen und genau auf euch abgestimmt – so fühlt sich Next-Gen an. \nVeranstalter: Stadt Jülich
URL:https://www.kuba-juelich.de/event/next-gen-disco-night/
CATEGORIES:Party
ATTACH;FMTTYPE=image/png:https://www.kuba-juelich.de/wp-content/uploads/2026/03/NextGen-DISCO-NIGHT-09.05.2026.png
END:VEVENT
END:VCALENDAR