BEGIN:VCALENDAR
VERSION:2.0
PRODID:-//KuBa Jülich - ECPv6.2.9//NONSGML v1.0//EN
CALSCALE:GREGORIAN
METHOD:PUBLISH
X-ORIGINAL-URL:https://www.kuba-juelich.de
X-WR-CALDESC:Veranstaltungen für KuBa Jülich
REFRESH-INTERVAL;VALUE=DURATION:PT1H
X-Robots-Tag:noindex
X-PUBLISHED-TTL:PT1H
BEGIN:VTIMEZONE
TZID:Europe/Berlin
BEGIN:DAYLIGHT
TZOFFSETFROM:+0100
TZOFFSETTO:+0200
TZNAME:CEST
DTSTART:20260329T010000
END:DAYLIGHT
BEGIN:STANDARD
TZOFFSETFROM:+0200
TZOFFSETTO:+0100
TZNAME:CET
DTSTART:20261025T010000
END:STANDARD
END:VTIMEZONE
BEGIN:VEVENT
DTSTART;TZID=Europe/Berlin:20260320T200000
DTEND;TZID=Europe/Berlin:20260320T223000
DTSTAMP:20260424T160140
CREATED:20251126T095946Z
LAST-MODIFIED:20251126T095946Z
UID:10000570-1774036800-1774045800@www.kuba-juelich.de
SUMMARY:Nessi Tausenschön
DESCRIPTION:30 Jahre Zenit – Operation „Goldene Nase“ \nMenschen wollen lachen. Wir sind Menschen\, wir wollen glücklich sein und nicht immer nur hadern. Aber oft eben auch doch. Und genau das ist es\, was abends auf den Kabarett-\nbühnen im besten Fall passiert: Elegantes\, kluges und schönes Hadern mit den großen\, aber auch mit den kleinen Themen des Lebens. Scheitern als Schanze\, Erfolg durch Zufall\, Glück als Resultat kontinuierlichen Strebens nach Erkenntnis. \nSeit 30 Jahren ist Nessi Tausendschön nicht von der Bühne zu bomben. 30 Jahre mondän kultiviertes Schabrackentum\, geschmeidige Groß- und Kleinkunst\, Verblüffungstanz\, melancholische Zerknirschungslyrik und schöne Musik. Wenn Nessi die Brüche des Lebens zelebriert\, dann erwachen selbst die Seelenblinden im Publikum aus der distanzierten Erstarrung\, dann verwischen sich die Grenzen zwischen innerer\, erinnerter seelischer Realität und äußerer leibhaftiger Gegenwart\, zwischen Öffentlichkeit und Privatem\, ja Intimem und kein Auge bleibt trocken. Kurz gesagt: Nessi hat als Kabarettistin eine Zunge wie eine Reitpeitsche\, als Sängerin aber eine Stimme wie ein Engel. Eine wunderbare Kombination. \nDer Vollständigkeit halber sei gesagt\, dass 30 Jahre Bühnen-Dasein an Frau Tausendschön aber auch nicht spurlos vorübergegangen sind: Sie ist Trägerin des Deutschen Kleinkunstpreises und des Salzburger Stiers. Diese Auszeichnungen mögen stellvertretend für die zahlreichen anderen Ehrungen stehen\, mit der die Kulturindustrie das kabarettistische Naturereignis Nessi Tausendschön gewürdigt hat. Und eines noch: Seit der Böhmermannaffäre wissen wir alle: Satire bewirkt doch etwas\, und wenn es nur eine Staatsaffäre ist\, haha. Und mit dem Wissen um das kleine Rädchen im großen Weltengefüge\, das ich bin\, kann ich guten Gewissens sagen: ich bin gerne Kabarettistin. Eine Amüsierdame\, eine Lustigkeitshure\, eine Witzeprostituierte\, eine Scherzkeksin\, eine Spaßkurtisane\, eine Fezdirne\, eine Joke-Bitch\, eine Juxnutte\, eine Gagschlampe\, ein Ulk-Callgirl\, heute auf Neusprech heißt das wohl „Joke Account Facility Managerin“. \nVeranstalter: Stadt Jülich/ Kulturbüro
URL:https://www.kuba-juelich.de/event/nessi-tausenschoen/
CATEGORIES:Kleinkunst
ATTACH;FMTTYPE=image/jpeg:https://www.kuba-juelich.de/wp-content/uploads/2025/11/nessi_tausendschoen_30-jahre-zenit-©-Carsten-Bockermann-scaled.jpg
END:VEVENT
BEGIN:VEVENT
DTSTART;TZID=Europe/Berlin:20260321T200000
DTEND;TZID=Europe/Berlin:20260321T220000
DTSTAMP:20260424T160140
CREATED:20260203T132824Z
LAST-MODIFIED:20260203T132824Z
UID:10000608-1774123200-1774130400@www.kuba-juelich.de
SUMMARY:L.D. STARDUST
DESCRIPTION:Es kommt einem Zungenbrecher nahe:\nL.D. Stardust (and the Ziggies from Mars) spielen „The Rise and Fall of Ziggy Stardust and the Spiders from Mars“. \nErstmals in ihrem inzwischen elfjährigen Bestehen lädt die Band zu einer Reise durch ein komplettes Album David Bowies ein. \nIm Mittelpunkt steht „The Rise and Fall of Ziggy Stardust and the Spiders from Mars“ – eines der prägendsten Werke der Rockgeschichte und für L.D. Stardust eine besondere Herzensangelegenheit. Viele Songs des Albums gehören seit jeher zum Repertoire\, doch erstmals wird das Werk in voller Länge und in seiner ursprünglichen Dramaturgie auf die Bühne gebracht. Der rohe\, kantige Glam- und Proto-Punk-Sound dieser Bowie-Phase trifft dabei den musikalischen Kern der Band besonders direkt.\nDas 1972 erschienene Konzeptalbum erzählt die Geschichte des androgynen Rock-Messias Ziggy Stardust\, seines kometenhaften Aufstiegs und unvermeidlichen Falls. Zwischen Science-Fiction\, Größenwahn und Melancholie entstanden Songs- kompromisslos\, stilbildend und bis heute erstaunlich aktuell- die David Bowie endgültig zur Pop-Ikone machten.\nNach einer kurzen Pause folgt im zweiten Set eine Auswahl zentraler Bowie-Songs aus verschiedenen Schaffensphasen\, die L.D. Stardust nah am Original und doch unverkennbar im eigenen Klang präsentieren.\nSeit 2015 widmet sich die Band dem Künstler mit großer Besetzung\, weiblichem Leadgesang und außergewöhnlicher Instrumentierung. Neben Klassikern erklingen bewusst auch weniger bekannte Stücke\, interpretiert mit eigener Handschrift\, Spielfreude und großem Respekt vor dem Original.
URL:https://www.kuba-juelich.de/event/l-d-stardust/
CATEGORIES:Konzert
ATTACH;FMTTYPE=image/png:https://www.kuba-juelich.de/wp-content/uploads/2026/02/Bandfoto_4K_entrauscht_geschaerft-scaled.png
END:VEVENT
END:VCALENDAR