BEGIN:VCALENDAR
VERSION:2.0
PRODID:-//KuBa Jülich - ECPv6.2.9//NONSGML v1.0//EN
CALSCALE:GREGORIAN
METHOD:PUBLISH
X-WR-CALNAME:KuBa Jülich
X-ORIGINAL-URL:https://www.kuba-juelich.de
X-WR-CALDESC:Veranstaltungen für KuBa Jülich
REFRESH-INTERVAL;VALUE=DURATION:PT1H
X-Robots-Tag:noindex
X-PUBLISHED-TTL:PT1H
BEGIN:VTIMEZONE
TZID:Europe/Berlin
BEGIN:DAYLIGHT
TZOFFSETFROM:+0100
TZOFFSETTO:+0200
TZNAME:CEST
DTSTART:20260329T010000
END:DAYLIGHT
BEGIN:STANDARD
TZOFFSETFROM:+0200
TZOFFSETTO:+0100
TZNAME:CET
DTSTART:20261025T010000
END:STANDARD
END:VTIMEZONE
BEGIN:VEVENT
DTSTART;TZID=Europe/Berlin:20260227T100000
DTEND;TZID=Europe/Berlin:20260227T110000
DTSTAMP:20260424T155926
CREATED:20260219T085240Z
LAST-MODIFIED:20260219T085240Z
UID:10000631-1772186400-1772190000@www.kuba-juelich.de
SUMMARY:Kindertheater: Artisanen "OHNE DICH\, das geht doch nicht!"
DESCRIPTION:Bär und Eichhörnchen kennen sich gut. Bär weiß immer wo Eichhörnchen´s Schätze liegen und welche Musik es gar nicht mag. Eichhörnchen kennt Bär´s Lieblingsversteck und den Trick\, wie man Bär weckt. Sie machen fast alles gemeinsam\, obwohl sie so unterschiedlich sind. Das geht lange gut\, aber auf einmal ist da ein Knacks. Ein Streit und Stille. Eichhörnchen ist weg und Bär ist allein. Aber ohne einander geht es doch nicht…oder? \nMit feinem Witz und ohne Worte erzählen die Artisanen in ihrem Stück für Kinder ab 4 Jahren und Erwachsene über die Herausforderungen und das Glück von Freundschaft\, vom Alleinsein und davon\, dass Unterschiede kein Hindernis sein müssen. \nNUR Gruppenanmeldungen über das Kulturbüro der Stadt Jülich bei Frau Klingebiel unter 02461/ 63-243 oder unter Kulturbuero@juelich.de. \nab 4 Jahren | Eintritt: Kinder 6\,00 € | Begleitpersonen sind frei | NUR Gruppenanmeldungen unter Kulturbuero@juelich.de oder 02461 63243 | Ort: Kulturbahnhof Jülich
URL:https://www.kuba-juelich.de/event/kindertheater-artisanen-ohne-dich-das-geht-doch-nicht/
CATEGORIES:Kleinkunst
ATTACH;FMTTYPE=image/jpeg:https://www.kuba-juelich.de/wp-content/uploads/2026/02/ohne-dich-instagram.jpg
END:VEVENT
BEGIN:VEVENT
DTSTART;TZID=Europe/Berlin:20260228T200000
DTEND;TZID=Europe/Berlin:20260228T220000
DTSTAMP:20260424T155926
CREATED:20241206T123521Z
LAST-MODIFIED:20241206T123521Z
UID:10000348-1772308800-1772316000@www.kuba-juelich.de
SUMMARY:Jürgen Becker
DESCRIPTION:Deine Disco – Geschichte in Scheiben – wie Musik Politik macht \nOhne die revolutionäre Erfindung der E-Gitarre wäre die Geschichte anders verlaufen: So hatten die 68er Jimy Hendrix\, die Hippies Janis Joplin und Woodstock\, die Hausbesetzer Ton Steine Scherben\, die Friedensbewegung Bots & BAP\, die Frauenbewegung Ina Deter\, die Punker Patti Smith. Es ist der Soundtrack und seine Resonanzen in der Gesellschaft\, die eine Bewegung erfolgreich macht. Die Klimabewegung steht heute ohne eigenen Sound da und droht zu verlieren; die Erde wird unaufhörlich heißer. Eine Katastrophe\, die Jürgen Becker mit „Deine Disco“ perfekt analysiert. Ein Kabarettprogramm\, wie es noch keines gab: Politik\, Platten\, Protest und Pointen werden als mitreißende Radioshow auf der Bühne live gemischt\, man taucht satirisch tief in die Soundfiles der bewegten Jugend und rettet damit am Ende sogar die Zukunft: Follow the Science. Doch vergesst die Emotionen nicht!
URL:https://www.kuba-juelich.de/event/juergen-becker/
CATEGORIES:Kleinkunst
ATTACH;FMTTYPE=image/jpeg:https://www.kuba-juelich.de/wp-content/uploads/2024/12/juergen-becker_deine-disco_plakat_9261_rgb_a3_c-Sven-Knoch-scaled.jpg
END:VEVENT
BEGIN:VEVENT
DTSTART;TZID=Europe/Berlin:20260301T150000
DTEND;TZID=Europe/Berlin:20260301T170000
DTSTAMP:20260424T155926
CREATED:20260108T120722Z
LAST-MODIFIED:20260108T120722Z
UID:10000588-1772377200-1772384400@www.kuba-juelich.de
SUMMARY:Goush Kon und Ham Sayeh
DESCRIPTION:Kultur ohne Grenzen präsentiert: \nGOUSH KON – EINE BEGEGNUNG\nFithe V.o.G. Das Figurentheater aus Ostbelgien\nEin Theaterstück für Menschen ab 14 Jahren \nHAM SAYEH\nPersisch-hoffnungsvolle Lieder\, in Ostbelgien zubereitet \nGoush Kon (Theaterstück – Dauer ca. 30 Minuten)\nEin tierähnliches Wesen\, das auch menschliche Züge trägt\, fühlt sich durch die Musik einer persischen Sängerin und eines Gitarristen auf magische Weise angezogen. Scheu\, ängstlich\, aber auch neugierig nähert es sich Schritt für Schritt den Musizierenden. Durch den berührenden Klang der Lieder\, entwickelt das fremde Wesen Vertrauen und lässt sich auf eine Begegnung in nächster Nähe ein. Die Zuschauer beobachten gebannt diese Annäherung\, und ein faszinierendes Zusammenspiel der drei Beteiligten beginnt… \nMitwirkende\nSpiel und Figurenbau: Verena Volland\nGesang: Sanaz Zaresani\nGitarre: Boris Bansbach\nRegie: Heinrich Heimlich \nMit Unterstützung der Deutschsprachigen Gemeinschaft Belgiens: Ostbelgien \nHam Sayeh (Konzert – Dauer ca. 60 Minuten)\nWenn Menschen ihre Köpfe zusammenstecken\, um Ideen auszutauschen\, verschmelzen ihre Schatten zu einem einzigen. Im Persischen gibt es dafür einen poetischen Ausdruck: Ham Sayeh. Gleichgesinnte\, die so nah zusammenstehen\, dass sie nur einen einzigen Schatten werfen.  \nDieser Spirit lebt in den Liedern des Duos Sanaz Zaresani und Boris Bansbach und durchdringt ihre Musik wie eine pulsierende Lebensader. Persischer Gesang trifft westliche Harmonien\, Lebensfreude trifft Philosophisches\, Weltmusik trifft Pop und Reggae. Die Lieder verbinden nicht nur verschiedene Sprachen und Musikstile\, sondern vor allem Menschen.  \nDas Duo-Projekt ist entstanden aus einer tiefen Verbundenheit\, die sich in kreativer Energie gezeigt hat. Es hat mit Markus Wach (Kontrabass\, Gadulka\, Tar & Kamanche)\, Uwe Böttcher (Geige & Bratsche) und Simon Tressin (Perkussionsinstrumente) weitere Mitreisende gefunden\, die die Band mit ihren Klängen bereichern. \n Beginn: 01.03.2026\, 15:00 Uhr – Einlass ab 14:30 Uhr\nEintritt frei – Die Künstler freuen sich jedoch über eine Spende
URL:https://www.kuba-juelich.de/event/goush-kon-und-ham-sayeh/
CATEGORIES:Kleinkunst,Konzert
ATTACH;FMTTYPE=image/png:https://www.kuba-juelich.de/wp-content/uploads/2026/01/Foto-Goush-Kon.png
END:VEVENT
END:VCALENDAR