BEGIN:VCALENDAR
VERSION:2.0
PRODID:-//KuBa Jülich - ECPv6.2.9//NONSGML v1.0//EN
CALSCALE:GREGORIAN
METHOD:PUBLISH
X-ORIGINAL-URL:https://www.kuba-juelich.de
X-WR-CALDESC:Veranstaltungen für KuBa Jülich
REFRESH-INTERVAL;VALUE=DURATION:PT1H
X-Robots-Tag:noindex
X-PUBLISHED-TTL:PT1H
BEGIN:VTIMEZONE
TZID:Europe/Berlin
BEGIN:DAYLIGHT
TZOFFSETFROM:+0100
TZOFFSETTO:+0200
TZNAME:CEST
DTSTART:20260329T010000
END:DAYLIGHT
BEGIN:STANDARD
TZOFFSETFROM:+0200
TZOFFSETTO:+0100
TZNAME:CET
DTSTART:20261025T010000
END:STANDARD
END:VTIMEZONE
BEGIN:VEVENT
DTSTART;TZID=Europe/Berlin:20260204T193000
DTEND;TZID=Europe/Berlin:20260204T213000
DTSTAMP:20260424T142051
CREATED:20250926T095823Z
LAST-MODIFIED:20260203T103126Z
UID:10000527-1770233400-1770240600@www.kuba-juelich.de
SUMMARY:Kölsches Mitsingkonzert mit Martin Schädlich
DESCRIPTION:Das Team vom KUBA Jülich und der Trompeter Martin Schädlich laden herzlich ein zum „kölschen Mitsingkonzert“ am Mittwoch den 4.Februar. Mitsingabende im KUBA erfreuen sich großer Beliebtheit und mit dem „kölschen Mitsingkonzert“ gibt es nun eine besondere Ausgabe\, um alle Jülicher auf die kommende Karnevalszeit einzustimmen. „Ming eetste Fründin“ ist dabei\, „wenn dat Trömmelche jeht“\, denn dann „losse mer de Dom in Kölle“ und „Stonn zum Fc Kölle“\, bis dass die „Stääne am Himmel danze“ und wirklich jeder „Eine mitdrinkt“. Denn „Et jitt keen Wood\, wat sage könnt“\, was der „Kölsche Jung“ fühlt\, wenn er mit der „Leev Marie“ zum „Wolkeplatz“ fliegt und nur noch denke kann: „Nie mehr Fastelovend ohne Dich“!! \nLiedhefte sorgen dafür\, dass jeder textsicher und lautstark mitsingen kann und einem wunderschönen Abend mit guten Freunden nichts mehr im Wege steht. \nMartin Schädlich\, der vielen als Trompeter der JULIACUM BRASSERS und als Dirigent des Collegium Musicums\, der Brass Band Düren und von Brass für Spass bekannt ist\, führt als „kölscher Trötejung“ durch den Abend\, garniert die Stücke mit interessanten und amüsanten Anekdoten wird das Publikum mit seinem warmen Trompetenton begeistern. \nDie Veranstaltung findet im Saal statt.
URL:https://www.kuba-juelich.de/event/koelsches-mitsingkonzert-mit-martin-schaedlich/
CATEGORIES:Brauchtum,Konzert
ATTACH;FMTTYPE=image/jpeg:https://www.kuba-juelich.de/wp-content/uploads/2025/09/251020_Koelsches-Mitsingkonzert-WEB.jpg
END:VEVENT
END:VCALENDAR