BEGIN:VCALENDAR
VERSION:2.0
PRODID:-//KuBa Jülich - ECPv6.2.9//NONSGML v1.0//EN
CALSCALE:GREGORIAN
METHOD:PUBLISH
X-ORIGINAL-URL:https://www.kuba-juelich.de
X-WR-CALDESC:Veranstaltungen für KuBa Jülich
REFRESH-INTERVAL;VALUE=DURATION:PT1H
X-Robots-Tag:noindex
X-PUBLISHED-TTL:PT1H
BEGIN:VTIMEZONE
TZID:Europe/Berlin
BEGIN:DAYLIGHT
TZOFFSETFROM:+0100
TZOFFSETTO:+0200
TZNAME:CEST
DTSTART:20260329T010000
END:DAYLIGHT
BEGIN:STANDARD
TZOFFSETFROM:+0200
TZOFFSETTO:+0100
TZNAME:CET
DTSTART:20261025T010000
END:STANDARD
END:VTIMEZONE
BEGIN:VEVENT
DTSTART;TZID=Europe/Berlin:20260131T200000
DTEND;TZID=Europe/Berlin:20260131T230000
DTSTAMP:20260424T160048
CREATED:20251218T115814Z
LAST-MODIFIED:20251218T115814Z
UID:10000587-1769889600-1769900400@www.kuba-juelich.de
SUMMARY:LOWKNOX | VYNTER
DESCRIPTION:KONZERT IM KUBA: LOWKNOX und VYNTER \nLowknox sind seit 2009 bekannt für ihre energiegeladenen Li-ve-Auftritte\, die das Publikum jedes Mal aufs Neue mitreißen.\nIhre deutschen Texte\, die von tiefgehenden und kontroversen Themen handeln\, schaffen es\, die Herzen und Köpfe ihrer Zuhörer zu er-reichen. Die Band versteht es\, aktuelle gesellschaftliche und politische Fragen in ihren Songs zu reflektieren und so eine Verbindung zu ihrem Publikum herzustellen.\nMit ihrem einzigartigen Sound\, der Elemente des klassischen Punkrock mit modernen Einflüssen vereint\, haben Lowknox einen unverkennbaren Stil entwickelt\, der sie von anderen Bands abhebt.\nVYNTER von diesem Planeten – ein Schlagzeug\, das dich in Bewegung schickt\, eine Gitarre\, die deinen Kopf einen Spalt weit öffnet\, ein Bass\, der dich in einer Hand aus Nebel hält\, und Stimmen\, die dir Gewissen einsäuseln. Kurz da im Licht\, dann wieder weg\, und du bist wütend\, müde und ein bisschen glücklich.
URL:https://www.kuba-juelich.de/event/lowknox-vynter/
CATEGORIES:Konzert
ATTACH;FMTTYPE=image/jpeg:https://www.kuba-juelich.de/wp-content/uploads/2025/12/251205_Kuba_Konzert-Poster_WEB.jpg
END:VEVENT
END:VCALENDAR