BEGIN:VCALENDAR
VERSION:2.0
PRODID:-//KuBa Jülich - ECPv6.2.9//NONSGML v1.0//EN
CALSCALE:GREGORIAN
METHOD:PUBLISH
X-WR-CALNAME:KuBa Jülich
X-ORIGINAL-URL:https://www.kuba-juelich.de
X-WR-CALDESC:Veranstaltungen für KuBa Jülich
REFRESH-INTERVAL;VALUE=DURATION:PT1H
X-Robots-Tag:noindex
X-PUBLISHED-TTL:PT1H
BEGIN:VTIMEZONE
TZID:Europe/Berlin
BEGIN:DAYLIGHT
TZOFFSETFROM:+0100
TZOFFSETTO:+0200
TZNAME:CEST
DTSTART:20260329T010000
END:DAYLIGHT
BEGIN:STANDARD
TZOFFSETFROM:+0200
TZOFFSETTO:+0100
TZNAME:CET
DTSTART:20261025T010000
END:STANDARD
END:VTIMEZONE
BEGIN:VEVENT
DTSTART;TZID=Europe/Berlin:20260116T200000
DTEND;TZID=Europe/Berlin:20260116T230000
DTSTAMP:20260424T155928
CREATED:20251022T115333Z
LAST-MODIFIED:20251221T141330Z
UID:10000550-1768593600-1768604400@www.kuba-juelich.de
SUMMARY:Loss mer singe
DESCRIPTION:AUSVERKAUFT \nLoss mer Singe! Diese Veranstaltungsreihe muss man in Köln niemandem mehr erklären. Aber auch in Jülich hat sich das „Einsingen in den Karneval“ über die letzten Jahre etabliert und die Fangemeine wird von Jahr zu Jahr größer. Da ist es nur logisch\, dass es auch in der anstehenden Session wieder eine Veranstaltung geben wird. \nDie Spielregeln für einen solchen Einsing-Abend sind weiterhin unverändert: aus den erneut über 300 kölschen (beziehungsweise auf den rheinischen Karneval bezogenen) Musiktiteln\, die in dieser Session auf Tonträger oder im Internet erscheinen\, werden im Vorfeld 20 Titel ausgewählt.\nAlle Besucher erhalten Textzettel mit den Refrains der Lieder und dann geht’s los: die 20 Stücke werden nacheinander gespielt – selbstverständlich gibt es auch ein paar interessante Infos vom Moderator zu den jeweiligen Liedern. Am Ende wird abgestimmt und der „Kneipenhit der Session“ gewählt.
URL:https://www.kuba-juelich.de/event/loss-mer-singe-3/
CATEGORIES:Brauchtum
ATTACH;FMTTYPE=image/jpeg:https://www.kuba-juelich.de/wp-content/uploads/2023/12/tom_beys.jpg
END:VEVENT
BEGIN:VEVENT
DTSTART;TZID=Europe/Berlin:20260118T150000
DTEND;TZID=Europe/Berlin:20260118T170000
DTSTAMP:20260424T155928
CREATED:20251201T132205Z
LAST-MODIFIED:20251201T132205Z
UID:10000571-1768748400-1768755600@www.kuba-juelich.de
SUMMARY:Pablo Cámpora
DESCRIPTION:„Gitarre und Herz“ \nPablo Cámpora ist einer der besten Gitarristen Uruguays. In unserem Neujahrskonzert präsentiert er sein Programm „Gitarre und Herz“\, eine Hommage an die Leidenschaft\, Sensibilität und Tiefe der klassischen Gitarre.\nMit außergewöhnlicher Ausdruckskraft und technischer Präzision vermittelt Cámpora die Vielfalt und Schönheit der Gitarrenmusik – von zarter Poesie bis hin zu intensiver Klangfülle\, immer getragen von Herz und Seele.\nEr bietet seinem Publikum ein ausgereiftes Konzertprogramm mit berühmten Werken der Guitarra Española (Recuerdos de la Alhambra\, Asturias) und Werken aus Lateinamerika (Brouwer\, VillaLobos\, Barrios).\nEin Abend\, der Musikliebhaber berührt und die Gitarre in ihrer reinsten Form erlebbar macht. \nBeginn: 18.01.2026\, 15:00 Uhr – Einlass ab 14:30 Uhr\nEintritt frei – Die Musiker freuen sich jedoch über eine Spende \nVeranstalter: Kultur ohne Grenzen e.V.
URL:https://www.kuba-juelich.de/event/pablo-campora-2/
CATEGORIES:Konzert
ATTACH;FMTTYPE=image/jpeg:https://www.kuba-juelich.de/wp-content/uploads/2025/12/Foto-Pablo-Campora-16-1-scaled.jpg
END:VEVENT
END:VCALENDAR