BEGIN:VCALENDAR
VERSION:2.0
PRODID:-//KuBa Jülich - ECPv6.2.9//NONSGML v1.0//EN
CALSCALE:GREGORIAN
METHOD:PUBLISH
X-WR-CALNAME:KuBa Jülich
X-ORIGINAL-URL:https://www.kuba-juelich.de
X-WR-CALDESC:Veranstaltungen für KuBa Jülich
REFRESH-INTERVAL;VALUE=DURATION:PT1H
X-Robots-Tag:noindex
X-PUBLISHED-TTL:PT1H
BEGIN:VTIMEZONE
TZID:Europe/Berlin
BEGIN:DAYLIGHT
TZOFFSETFROM:+0100
TZOFFSETTO:+0200
TZNAME:CEST
DTSTART:20250330T010000
END:DAYLIGHT
BEGIN:STANDARD
TZOFFSETFROM:+0200
TZOFFSETTO:+0100
TZNAME:CET
DTSTART:20251026T010000
END:STANDARD
END:VTIMEZONE
BEGIN:VEVENT
DTSTART;TZID=Europe/Berlin:20251213T160000
DTEND;TZID=Europe/Berlin:20251213T170000
DTSTAMP:20260424T184058
CREATED:20241220T105651Z
LAST-MODIFIED:20241221T133207Z
UID:10000354-1765641600-1765645200@www.kuba-juelich.de
SUMMARY:PLANSCHEMALÖÖR
DESCRIPTION:KINDER-Weihnachtsplansch \nAm 13. Dezember 2025 gibt es nach dem erfolgreichen Startschuss in 2024 wieder einen Kinder-Weihnachtsplansch in Jülich! Und auch dieses Jahr nehmen Euch die Planschis wieder mit auf eine große\, weihnachtliche Abenteuerreise. Also\, packt Eure Eltern ein und kommt vorbei!\nWird es schön? \nJa\, es wird schön 🙂 \nWir freuen uns sehr auf euch\, Eure Planschis. \nWichtig: Kinder können nur in Begleitung von einem Erziehungsberechtigten kommen.
URL:https://www.kuba-juelich.de/event/planschemaloeoer-3/
CATEGORIES:Konzert
ATTACH;FMTTYPE=image/jpeg:https://www.kuba-juelich.de/wp-content/uploads/2024/12/w4HyBgpe.jpg
END:VEVENT
BEGIN:VEVENT
DTSTART;TZID=Europe/Berlin:20251213T200000
DTEND;TZID=Europe/Berlin:20251213T200000
DTSTAMP:20260424T184058
CREATED:20241220T105819Z
LAST-MODIFIED:20241221T133305Z
UID:10000355-1765656000-1765656000@www.kuba-juelich.de
SUMMARY:PLANSCHEMALÖÖR
DESCRIPTION:Weihnachtsplansch \n\nAm 13.Dezember spielt Planschemalöör ihren legendären „Weihnachtsplansch“ zum zweiten Mal im Kulturbahnhof in Jülich!\nDabei garantieren die vier Kölner Jungs in Badehosen eine Mischung aus Besinnlichkeit und dem ganz normalen Plansche-Wahnsinn.\nDer Weihnachtsplansch ist wie ein dicker Komödien-Blockbuster aus den 2000er Jahren:\nLustig\, romantisch und ein Fest für die ganze Familie!
URL:https://www.kuba-juelich.de/event/planschemaloeoer-4/
CATEGORIES:Konzert
ATTACH;FMTTYPE=image/png:https://www.kuba-juelich.de/wp-content/uploads/2024/01/plansche_abend.png
END:VEVENT
BEGIN:VEVENT
DTSTART;TZID=Europe/Berlin:20251214T160000
DTEND;TZID=Europe/Berlin:20251214T190000
DTSTAMP:20260424T184058
CREATED:20250922T125746Z
LAST-MODIFIED:20251124T130141Z
UID:10000511-1765728000-1765738800@www.kuba-juelich.de
SUMMARY:RABAUE – Weihnachtsshow 2025 - FÄLLT AUS
DESCRIPTION:Die Veranstaltung fällt leider aus. Bereits erworbene Tickets werden automatisch rückerstattet. \nKomm ein bißchen mit nach Italien…\nWeihnachten bei Familie Quanz! \nSchon seit 11 Jahren touren die Rabaue mit ihrer Weihnachtsshow durchs Rheinland und haben sich mit den Figuren des Prinzenführers\, Adjutant Schuster und der Familie Quanz mittlerweile Kultstatus erarbeitet. \nGekonntes Chaos\, immer wieder Rabaue Weihnachtslieder und kleine musikalische Ausﬂüge in den Karneval garantieren einen unvergesslichen Abend\, bei dem kein Auge trocken bleibt. \nAuch in diesem Jahr wollen die Rabaue wieder eine nicht so ganz besinnliche Weihnachtszeit mit Euch feiern.
URL:https://www.kuba-juelich.de/event/rabaue-weihnachtsshow-2025/
CATEGORIES:Konzert
ATTACH;FMTTYPE=image/jpeg:https://www.kuba-juelich.de/wp-content/uploads/2025/09/rabaue1.jpg
END:VEVENT
END:VCALENDAR