BEGIN:VCALENDAR
VERSION:2.0
PRODID:-//KuBa Jülich - ECPv6.2.9//NONSGML v1.0//EN
CALSCALE:GREGORIAN
METHOD:PUBLISH
X-WR-CALNAME:KuBa Jülich
X-ORIGINAL-URL:https://www.kuba-juelich.de
X-WR-CALDESC:Veranstaltungen für KuBa Jülich
REFRESH-INTERVAL;VALUE=DURATION:PT1H
X-Robots-Tag:noindex
X-PUBLISHED-TTL:PT1H
BEGIN:VTIMEZONE
TZID:Europe/Berlin
BEGIN:DAYLIGHT
TZOFFSETFROM:+0100
TZOFFSETTO:+0200
TZNAME:CEST
DTSTART:20250330T010000
END:DAYLIGHT
BEGIN:STANDARD
TZOFFSETFROM:+0200
TZOFFSETTO:+0100
TZNAME:CET
DTSTART:20251026T010000
END:STANDARD
END:VTIMEZONE
BEGIN:VEVENT
DTSTART;TZID=Europe/Berlin:20251016T180000
DTEND;TZID=Europe/Berlin:20251016T200000
DTSTAMP:20260425T013221
CREATED:20250924T095732Z
LAST-MODIFIED:20251015T091040Z
UID:10000517-1760637600-1760644800@www.kuba-juelich.de
SUMMARY:Rheinisches Landestheater Neuss "Happy End (Keine Grantie)"
DESCRIPTION:Die Veranstaltung fällt aus! \nHaben Sie sich auch schon gefragt\, was sich alles dringend ändern müsste? Und wie wichtig es wäre\, dass endlich etwas passiert – am besten sofort? Doch wie oft haben Sie tatsächlich versucht\, selbst aktiv etwas zu verändern? Nicht nur im Kleinen – früher aufstehen\, gesünder essen\, öfter lesen – sondern wirklich grundlegend? Mit genau diesem Vorhaben stürmen drei Menschen die Bühne: Sie wollen die Bundesregierung erpressen – per Telefon. Doch wie stellt man so etwas eigentlich an? Was sind die konkreten Forderungen? Und – Moment mal – wie lautet eigentlich die Telefonnummer der Regierung? \nFelix Krakaus sympathisch-chaotischer Text malt weder das Bild einer düsteren Zukunft noch das einer perfekten Welt. Stattdessen begegnen uns drei Figuren\, die nicht mehr und nicht weniger versprechen als ein „Happy End – für alle!“ Der Rechtsweg ist selbstverständlich ausgeschlossen. \nEintritt: VVK 20\,00 € inkl. Gebühren | AK 25\,00 € inkl. Gebühren | Tickets NUR online \nVeranstalter: Stadt Jülich / Kulturbüro
URL:https://www.kuba-juelich.de/event/rheinisches-landestheater-neuss-happy-end-keine-grantie/
CATEGORIES:Kleinkunst
ATTACH;FMTTYPE=image/jpeg:https://www.kuba-juelich.de/wp-content/uploads/2025/09/instagram.jpg
END:VEVENT
BEGIN:VEVENT
DTSTART;TZID=Europe/Berlin:20251017T200000
DTEND;TZID=Europe/Berlin:20251017T220000
DTSTAMP:20260425T013221
CREATED:20251009T104026Z
LAST-MODIFIED:20251009T104026Z
UID:10000530-1760731200-1760738400@www.kuba-juelich.de
SUMMARY:The Airlettes
DESCRIPTION:THE AIRLETTES – Die Swingband mit besonderem Flair – Swing\, Jazz ’n‘ Close Harmony \nEine Veranstaltung vom Jazzclub Jülich
URL:https://www.kuba-juelich.de/event/the-airlettes/
CATEGORIES:Konzert
ATTACH;FMTTYPE=image/avif:https://www.kuba-juelich.de/wp-content/uploads/2025/10/The-Airlettes_Swing-it_6_©-Sergey-Sanin_JPEG.avif
END:VEVENT
END:VCALENDAR