BEGIN:VCALENDAR
VERSION:2.0
PRODID:-//KuBa Jülich - ECPv6.2.9//NONSGML v1.0//EN
CALSCALE:GREGORIAN
METHOD:PUBLISH
X-WR-CALNAME:KuBa Jülich
X-ORIGINAL-URL:https://www.kuba-juelich.de
X-WR-CALDESC:Veranstaltungen für KuBa Jülich
REFRESH-INTERVAL;VALUE=DURATION:PT1H
X-Robots-Tag:noindex
X-PUBLISHED-TTL:PT1H
BEGIN:VTIMEZONE
TZID:Europe/Berlin
BEGIN:DAYLIGHT
TZOFFSETFROM:+0100
TZOFFSETTO:+0200
TZNAME:CEST
DTSTART:20250330T010000
END:DAYLIGHT
BEGIN:STANDARD
TZOFFSETFROM:+0200
TZOFFSETTO:+0100
TZNAME:CET
DTSTART:20251026T010000
END:STANDARD
END:VTIMEZONE
BEGIN:VEVENT
DTSTART;TZID=Europe/Berlin:20250919T200000
DTEND;TZID=Europe/Berlin:20250919T230000
DTSTAMP:20260425T041958
CREATED:20250306T121558Z
LAST-MODIFIED:20250709T133753Z
UID:10000394-1758312000-1758322800@www.kuba-juelich.de
SUMMARY:The Slapstickers
DESCRIPTION:Und plötzlich sind 30 Jahre rum\, seit The Slapstickers als Nachwuchs-Skaband losgezogen sind. Voller Leidenschaft für Offbeats\, eingängige Melodien und spannende Harmonien. Daran hat sich bis heute genau gar nichts geändert. Ihre Träume von damals hat sich die Band aber längst erfüllt: Unzählige Festival- und Clubshows\, Gigs mit Madness und The Skatalites\, zahlreiche Studioalben\, ein Live- und ein Big-Band-Album und zuletzt Beiträge auf dem legendären „Ska… Ska… Skandal!“ -Sampler und einer Tributecompilation für The Hotknives stehen zu Buche. Aber es wurde Zeit für ein neues Album\, das nun zum 30-jährigen Bandjubiläum erscheint: Mit dem ungestümen Punch von 1995\, aber gut gereift\, auch mal sanft und nachdenklich – wie ein Silberrücken eben. Das sind The Slapstickers mit ihrem neuen Album „Silverback“. \nSupport: The Quicksteps
URL:https://www.kuba-juelich.de/event/the-slapstickers/
CATEGORIES:Konzert
ATTACH;FMTTYPE=image/jpeg:https://www.kuba-juelich.de/wp-content/uploads/2025/03/250709_Kuba_Konzert-Slapstickers_Anzeige.jpg
END:VEVENT
END:VCALENDAR