BEGIN:VCALENDAR
VERSION:2.0
PRODID:-//KuBa Jülich - ECPv6.2.9//NONSGML v1.0//EN
CALSCALE:GREGORIAN
METHOD:PUBLISH
X-ORIGINAL-URL:https://www.kuba-juelich.de
X-WR-CALDESC:Veranstaltungen für KuBa Jülich
REFRESH-INTERVAL;VALUE=DURATION:PT1H
X-Robots-Tag:noindex
X-PUBLISHED-TTL:PT1H
BEGIN:VTIMEZONE
TZID:Europe/Berlin
BEGIN:DAYLIGHT
TZOFFSETFROM:+0100
TZOFFSETTO:+0200
TZNAME:CEST
DTSTART:20250330T010000
END:DAYLIGHT
BEGIN:STANDARD
TZOFFSETFROM:+0200
TZOFFSETTO:+0100
TZNAME:CET
DTSTART:20251026T010000
END:STANDARD
END:VTIMEZONE
BEGIN:VEVENT
DTSTART;TZID=Europe/Berlin:20250705T200000
DTEND;TZID=Europe/Berlin:20250705T220000
DTSTAMP:20260425T052434
CREATED:20250428T125341Z
LAST-MODIFIED:20250428T125341Z
UID:10000431-1751745600-1751752800@www.kuba-juelich.de
SUMMARY:Biergarten Konzert: Mr. Pleasant
DESCRIPTION:Sunny Saturday Evening beim NoiseFull Tribute im Kulturbahnhof Jülich. \nTHE KINKS ARE BACK! \nDeutschlands einzige Kinks Tribute Band Mr. Pleasant aus Köln kommt nach Jülich in den Kulturbahnhof. Präsentiert werden alle (!) Top 40 Hits dieser legendären\, bahnbrechenden Britpopband und auch einige der egozentrischen Songs aus der Feder von Ray Davies. Wem kommt nicht schon beim Hören des Namens Lola das Lächeln und Augenzwinkern von Ray in den Sinn und wer hört nicht beim Lesen des Titels You really got me im Geiste mit\, wie dessen Bruder Dave das berühmte Gitarrenriff intoniert\, mit dem die Kinks die moderne Rockmusik mitbegründet haben. Highlights unseres Repertoires sind auch das coole Sunday afternoon und das traumhaft-melancholische Waterloo Sunset\, sowie das süffisante Dandy\, 1966 die Nummer 1 hierzulande. Glanzlicht bildet der Music-Hall-Klassiker Death of a Clown\, garniert mit einer feinen Portion Hippy-Vibe. So beleben wir die Fans der Kinks mit musikalisch schillernden und inhaltlich fesselnden Stories aus dem Alltagsleben der englischen Unterschicht. Das powervoll dramatische Dead End Street ist dafür ein guter Beleg. Heute so brillant und relevant wie damals! Alle genannten Titel uvm. werden von den 5 bühnenerfahrenen Musikern in mitreißenden Live-Versionen gespielt. Authentisch\, leidenschaftlich\, intensiv und mit einem leichten Hang zum Understatement und zur Parodie\, so wie sich das für die Musik der Kinks gehört. Denn das macht sie auch heute noch so sehr unterhaltsam und symphatisch. Mr. Pleasant kann auf erfolgreiche\, teils ausverkaufte Gastspiele in Köln und Umgebung (Kantine\, Kubana\, RheinAue\, Quirls\, Outbaix\, BeatClub Greven uvm.) und Gigs im benachbarten Ausland zurückblicken.\nRelive your memories und lasst euch mitnehmen auf eine Zeitreise durch den Kinks Kosmos mit den großartigen Klassikern dieser legendären Britpopband.  \nPassend zur Musik wird die Band Mr. Pleasand am 05. Juli 2025 ein Open Air Konzert im Biergarten des Kulturbahnhofs geben. Einlass ist um 19:00 Uhr\, Beginn um 20:00 Uhr\, Bei Regen findet das Konzert in der Kuba Kneipe statt. \nDer Eintritt an der Abendkasse beträgt 15\,00 Euro. \nReservierungen gerne über virginialisken@gmail.com. Es gibt keine festen Plätze\, es gilt freie Platzwahl.
URL:https://www.kuba-juelich.de/event/biergarten-konzert-mr-pleasant/
CATEGORIES:Konzert
ATTACH;FMTTYPE=image/jpeg:https://www.kuba-juelich.de/wp-content/uploads/2025/04/Mr.-Pleasant.jpg
END:VEVENT
END:VCALENDAR