BEGIN:VCALENDAR
VERSION:2.0
PRODID:-//KuBa Jülich - ECPv6.2.9//NONSGML v1.0//EN
CALSCALE:GREGORIAN
METHOD:PUBLISH
X-ORIGINAL-URL:https://www.kuba-juelich.de
X-WR-CALDESC:Veranstaltungen für KuBa Jülich
REFRESH-INTERVAL;VALUE=DURATION:PT1H
X-Robots-Tag:noindex
X-PUBLISHED-TTL:PT1H
BEGIN:VTIMEZONE
TZID:Europe/Berlin
BEGIN:DAYLIGHT
TZOFFSETFROM:+0100
TZOFFSETTO:+0200
TZNAME:CEST
DTSTART:20250330T010000
END:DAYLIGHT
BEGIN:STANDARD
TZOFFSETFROM:+0200
TZOFFSETTO:+0100
TZNAME:CET
DTSTART:20251026T010000
END:STANDARD
END:VTIMEZONE
BEGIN:VEVENT
DTSTART;TZID=Europe/Berlin:20250509T200000
DTEND;TZID=Europe/Berlin:20250509T220000
DTSTAMP:20260425T214534
CREATED:20250314T135735Z
LAST-MODIFIED:20250314T135735Z
UID:10000398-1746820800-1746828000@www.kuba-juelich.de
SUMMARY:KataStrophe
DESCRIPTION:Der Aachener Chor KataStrophe wird 35! \nDas möchten wir festlich\, bunt\, laut\, leise\, schön und auch ein bisschen schrill feiern. \nUnsere beiden Chorleiter Manuela Frey und Manfred Gnädig geben sich alle Mühe\, uns geordnet und wohlklingend auf die Bühne zu bringen. Unsere Entwicklung vom KataStrophal undisziplinierten StudentInnenchor (mit wochenlangen basisdemokratischen Diskussionen über jeden Liedinhalt) zum fest im Aachener Chorleben verankerten Ensemble mit anspruchsvollem Repertoire begleiten sie nicht nur musikalisch\, sondern vor allem auch mit viel Geduld. Unser vielseitiges Programm mit überwiegend A-Cappella-Gesang reicht quer durch alle Stilrichtungen von Neubearbeitungen traditioneller deutscher Lieder über Anklänge aus Musicals bis hin zu Pop und Jazz. \nFreuen Sie sich auf ein abwechslungsreiches buntes Chorkonzert! \nTickets gibt es online und im KuBa-Kiosk.
URL:https://www.kuba-juelich.de/event/katastrophe/
CATEGORIES:Konzert
ATTACH;FMTTYPE=image/jpeg:https://www.kuba-juelich.de/wp-content/uploads/2025/03/IMG_6747.jpeg
END:VEVENT
BEGIN:VEVENT
DTSTART;TZID=Europe/Berlin:20250510T200000
DTEND;TZID=Europe/Berlin:20250510T220000
DTSTAMP:20260425T214534
CREATED:20250314T140959Z
LAST-MODIFIED:20250314T140959Z
UID:10000399-1746907200-1746914400@www.kuba-juelich.de
SUMMARY:JUGEND JAZZ ORCHESTER NRW
DESCRIPTION:Das JugendJazzOrchester NRW (JJO NRW) besteht seit 1975. Nordrhein-Westfalen war das erste Bundesland\, das mit Unterstützung seines damaligen Ministerpräsidenten Johannes Rau ein Landesjugendjazzorchester einrichtete und förderte. Viele ehemalige Mitglieder dieses Landesensembles spielen heute in etablierten Orchestern\, darunter die Big Bands des Westdeutschen und des Norddeutschen Rundfunks. \nEinen Namen hat sich das Orchester u.a. durch ausgefallene und innovative Projekte gemacht. Dazu gehört insbesondere die Zusammenarbeit mit klassischen Orchestern. \nAls Repräsentant des Landes NRW gibt das JJO NRW Konzerte auf der ganzen Welt. Bisherige Reisen führten u.a. in die ehemalige Sowjetunion\, in die Türkei\, nach Afrika\, \nNord- u. Südamerika\, in die Karibik\, nach Australien\, Neuseeland und Indien. Im Mai 1996 begeisterte die Band vor ausverkauften Häusern das Publikum in China\, das JJO NRW ist das erste deutsche Jugendorchester überhaupt\, das im ‘Reich der aufgehenden Sonne’ tourte. 1998 und 2009 fanden erneut Konzertreisen nach China statt. \nIm Frühjahr 2000 feierte das Orchester sein 25-jähriges Jubiläum zusammen mit bekannten Größen der deutschen Jazzgeschichte: Paul Kuhn und Klaus Doldinger waren die Gäste sowie Mitglieder der WDR-Big Band. Die Moderation übernahm Roger Willemsen. Die Auftritte fanden statt u.a. in der Philharmonie Köln und in der Tonhalle Düsseldorf. Alle Konzerte waren ausverkauft. \nIm April 2001 tourte die Band durch Weißrussland. Aus Anlass des 15. Jahrestages der Tschernobylkatastrophe komponierten die Dirigenten des JJO NRW eine Suite für Sinfonieorchester und Big Band\, die zusammen mit dem Orchester Minsk in der dortigen Philharmonie uraufgeführt wurde. Auf Einladung des Goetheinstituts absolvierte das Ensemble in 2003 Tourneen nach Südkorea und Marokko\, im Sommer 2004 in 7 Länder Mittelamerikas. Griechenland und Estland waren die Reiseziele in 2005 und 2006; Südostasien stand 2007 und Israel 2008 auf dem Tourneeplan. 2010 bereiste die Band den Senegal\, 2011 die Vereinigten Arabischen Emirate und Kuwait\, 2012 Südfrankreich\, 2013 Finnland und Irland\, 2014 Island. \nIm Herbst 2010 feierte das JJO NRW sein 35-jähriges Bestehen u.a. in der Philharmonie Essen. Im gleichen Jahr wurde es\, wie auch schon in 2006\, als bestes Landesensemble auf dem Bundeswettbewerb für Auswahlorchester ausgezeichnet. \nZudem wurde ihm „WDR-Jazzpreis 2013“ in der Kategorie „NRW-Jazznachwuchs“ zugesprochen. 2015 beging das Orchester sein 40-jähriges Jubiläum in der Philharmonie Essen und im Konzerthaus Dortmund; NRW-Ministerpräsidentin Frau Hannelore Kraft zählte zu den Gästen.\nDas JugendJazzOrchester NRW ist ein Förderprojekt des Ministeriums für Kultur und Wissenschaft des Landes Nordrhein-Westphalen und des Landesmusikrats NRW und steht in der Trägerschaft des „Vereins zur Förderung junger Jazzmusiker in NRW e.V.“ \nEine Veranstaltung vom Jazzclub Jülich e.V. und Kultur im Bahnhof e.V.
URL:https://www.kuba-juelich.de/event/jugend-jazz-orchester-nrw/
CATEGORIES:Konzert
ATTACH;FMTTYPE=image/jpeg:https://www.kuba-juelich.de/wp-content/uploads/2025/03/JJO-NRW-Rebecca-ter-Braak-1-scaled.jpg
END:VEVENT
END:VCALENDAR