BEGIN:VCALENDAR
VERSION:2.0
PRODID:-//KuBa Jülich - ECPv6.2.9//NONSGML v1.0//EN
CALSCALE:GREGORIAN
METHOD:PUBLISH
X-WR-CALNAME:KuBa Jülich
X-ORIGINAL-URL:https://www.kuba-juelich.de
X-WR-CALDESC:Veranstaltungen für KuBa Jülich
REFRESH-INTERVAL;VALUE=DURATION:PT1H
X-Robots-Tag:noindex
X-PUBLISHED-TTL:PT1H
BEGIN:VTIMEZONE
TZID:Europe/Berlin
BEGIN:DAYLIGHT
TZOFFSETFROM:+0100
TZOFFSETTO:+0200
TZNAME:CEST
DTSTART:20250330T010000
END:DAYLIGHT
BEGIN:STANDARD
TZOFFSETFROM:+0200
TZOFFSETTO:+0100
TZNAME:CET
DTSTART:20251026T010000
END:STANDARD
END:VTIMEZONE
BEGIN:VEVENT
DTSTART;TZID=Europe/Berlin:20250321T200000
DTEND;TZID=Europe/Berlin:20250321T200000
DTSTAMP:20260425T155014
CREATED:20231213T133827Z
LAST-MODIFIED:20241206T110021Z
UID:10000094-1742587200-1742587200@www.kuba-juelich.de
SUMMARY:Sascha Thamm
DESCRIPTION:Am Freitag\, den 21. März 2025 um 20.00 Uhr freut sich Sascha Thamm das Jülicher Publikum in der Kneipe im Kulturbahnhof Jülich begrüßen zu dürfen. \nSascha Thamm hatte zunächst überlegt sein Soloprogramm „Pilgern für Genießer – mit dem Braunkohlebagger auf dem Jakobsweg“ zu nennen\, verwarf den Gedanken aber recht schnell\, da der Titel dann doch etwas sperrig erschien. Auch „Ich krähe was\, was du nicht liest“ fand er eigentlich nicht schlecht\, es wurden jedoch Bedenken an ihn herangetragen\, da der Titel marketingstrategisch nicht alle Wünsche erfüllt. Also Gesammelte Abrissbirnen. Mit Abrissbirnen kann man einfach nichts falsch machen. Sie streicheln die Grundmauern der Muttersprache wie zarte Knospen\, legen sie für Sekunden in Schutt und Asche und lassen auf der Brache sofort neue\, ebenso blumige Bilder entstehen. Eine brachiale Pointendichte sozusagen\, die auf fruchtbaren Boden fällt. \nDie Welt von Sascha Thamm ist eine Welt zwischen akribischem Beobachten von scheinbaren Nebensächlichkeiten und völligem Desinteresse an den gesellschaftlichen ‚must haves‘. Star Wars? Nie gesehen. Fitnessarmband mit Schrittzähler? Wofür? Man erkennt doch selber den Unterschied\, ob man sich sportlich betätigt oder auf der Couch die dritte Tüte Zwiebelringe kaum aufbekommt\, weil die Finger so fettig sind. Instagram? Irgendwelchen Heiopeis dabei zuzusehen wie sie sich selbst und ihre Welt künstlich aufpimpen? Nein\, Thamms Welt ist real. Sie pendelt irgendwo zwischen Bürgertum und Punkrock\, zwischen Rasenmähen vor der Mittagsruhe und unbändiger Wildblumenwiese. Eloquent\, mitten aus dem Leben\, saulustig\, voll auf die Zwölf. Lesung ist ruhig und besinnlich? Falsch! Ihr werdet Tränen lachen \nTickets sind auf Ztix erhältlich. \nVVK: 17\,00 € zzgl. Gebühren | AK: 20\,00 € inkl. Gebühren.
URL:https://www.kuba-juelich.de/event/sascha-thamm/
CATEGORIES:Kleinkunst
ATTACH;FMTTYPE=image/jpeg:https://www.kuba-juelich.de/wp-content/uploads/2023/12/Sascha-Thamm_GesammelteAbrissbirnen.jpg
END:VEVENT
BEGIN:VEVENT
DTSTART;TZID=Europe/Berlin:20250322T200000
DTEND;TZID=Europe/Berlin:20250322T230000
DTSTAMP:20260425T155014
CREATED:20241210T100724Z
LAST-MODIFIED:20250129T111241Z
UID:10000350-1742673600-1742684400@www.kuba-juelich.de
SUMMARY:Minoh - Dead Bees In Bourbon - Fleshtronic
DESCRIPTION:MINOH ist das deutsch-koreanische Disco-Punk-Duo aus Aachen\, das Tradition über Bord wirft. Gegründet 2022 während der Pandemie\, mischen Jamin und Guido jahrzehntelange Einflüsse aus Punk\, New Wave und Synthesizer-Musik zu etwas\, das sowohl vertraut als auch vollkommen unvorhersehbar ist. Ihre Musik ist nicht nur ein Sound – sie ist ein Energieschub\, der Lo-Fi-Disco-Beats mit roher Punk-Attitüde verschmilzt\, begleitet von verzerrten Gitarren und Synthesizern. \nMINOH spielt nicht auf Sicherheit. Ihre Texte gehen tief\, ihre Performances sind kraftvoll\, und ihr Sound ist darauf ausgelegt\, einen zu bewegen\, während man alles hinterfragt. Auf der Bühne sind sie bekannt dafür\, eine Live-Erfahrung zu schaffen\, die ebenso chaotisch wie fesselnd ist.  \nMit 50 Jahren kombinierter Erfahrung von Hardcore über Metal bis hin zu Synth-Punk hat MINOH ihren Sound in aller Ruhe verfeinert. 2023 haben sie den Code geknackt – Musik\, die aggressiv und hypnotisch zugleich ist\, mit elektronischen Beats\, die tief gehen. \n2024 ist das Jahr\, in dem MINOH auf das nächste Level geht. Mit dem Signing beim Indie-Label Dackelton Records und einem Live-Schlagzeuger in ihrem Set werden ihre Shows noch größer\, lauter und wilder. Mit ihrem Debütalbum in den Startlöchern ist es klar\, dass sie ihre grenzüberschreitende Energie einem völlig neuen Publikum präsentieren werden. \nDEAD BEES IN BOURBON bewegen sich im breitgefächerten Bereich des Post-Punks\, Gothic- und Indie-Rocks. In der Besetzung Schlagzeug\, Gitarre und Bass kombiniert mit elektronischen Klanglandschaften und einer charismatischen weiblichen Stimme\, kreieren DEAD BEES IN BOURBON ihren charakteristischen dunklen\, teilweise rauhen aber immer eingängigen Sound.\nWenn du auf der Suche nach einer Band bist\, die es schafft\, geheimnisvoll dunkle\, aber gleichzeitig lichtvolle Atmosphären zu erschaffen\, dann solltest du DEAD BEES IN BOURBON unbedingt hören. Ihre Musik verbindet tiefgründige Melancholie mit energiegeladenen Melodien\, die den Hörer in eine andere Welt entführen.\nDEAD BEES IN BOURBON bestehen aus vier erfahrenen Musikern\, die zuvor in den Musikgenres Metal\, Gothic\, Synthpop\, Industrial und Progressive Rock tätig waren und im Sommer 2023 zusammenkamen.\nNach dem erfolgreichen Einstieg mit ihren ersten beiden Singles\, freuen sich DEAD BEES IN BOURBON ihre Debut-EP “SHOTS ‚N‘ PLEASURES“ zu präsentieren\, die 5 Songs enthält und am 8. November 2024 veröffentlicht wird. Als ersten Vorboten gibt es bereits das Lyric Video zur zweiten Single „In Vain“ (VÖ 11/10/2024).\nDas ist nur der Anfang. Stay tuned!
URL:https://www.kuba-juelich.de/event/minoh-dead-bees-in-bourbon-fleshtronic/
CATEGORIES:Konzert
ATTACH;FMTTYPE=image/jpeg:https://www.kuba-juelich.de/wp-content/uploads/2024/12/250118_Konzert-Anzeige_WEB-03.jpg
END:VEVENT
END:VCALENDAR