BEGIN:VCALENDAR
VERSION:2.0
PRODID:-//KuBa Jülich - ECPv6.2.9//NONSGML v1.0//EN
CALSCALE:GREGORIAN
METHOD:PUBLISH
X-ORIGINAL-URL:https://www.kuba-juelich.de
X-WR-CALDESC:Veranstaltungen für KuBa Jülich
REFRESH-INTERVAL;VALUE=DURATION:PT1H
X-Robots-Tag:noindex
X-PUBLISHED-TTL:PT1H
BEGIN:VTIMEZONE
TZID:Europe/Berlin
BEGIN:DAYLIGHT
TZOFFSETFROM:+0100
TZOFFSETTO:+0200
TZNAME:CEST
DTSTART:20250330T010000
END:DAYLIGHT
BEGIN:STANDARD
TZOFFSETFROM:+0200
TZOFFSETTO:+0100
TZNAME:CET
DTSTART:20251026T010000
END:STANDARD
END:VTIMEZONE
BEGIN:VEVENT
DTSTART;TZID=Europe/Berlin:20250312T190000
DTEND;TZID=Europe/Berlin:20250312T200000
DTSTAMP:20260425T142339
CREATED:20250225T131103Z
LAST-MODIFIED:20250225T131435Z
UID:10000390-1741806000-1741809600@www.kuba-juelich.de
SUMMARY:Vera Nentwich: Frau – sein ist auch keine Lösung
DESCRIPTION:Zum Internationalen Frauentag am 8. März laden die Gleichstellungsstellen der Städte Jülich und Linnich\, die Beratungsstelle für Frauen und Mädchen im Kreis Düren\, das Kulturbüro der Stadt Jülich\, die VHS Jülicher Land und die Gleichstellungsbeauftragte des Forschungszentrums Jülich zu einem besonderen Kabarettabend in den Kulturbahnhof in Jülich ein. \nAm Mittwoch\, den 12. März 2025\, um 19:00 Uhr präsentiert die Kabarettistin Vera Nentwich ihr Programm „Frau-sein ist auch keine Lösung“ \nVera Nentwich zeigt uns die Welt der Geschlechter aus der Sicht einer besonderen Frau. Einer\, die durch ihren »männlichen Migrationshintergrund« Geschlechtergrenzen gesprengt hat. Schließlich erscheint uns nichts festgeschriebener als das eigene Geschlecht. Da öffnet die Sichtweise einer Quereinsteigerin ganz neue Perspektiven. \nVera Nentwich nimmt Unterschiede aufs Korn\, die uns Normalsterblichen gar nicht mehr auffallen. Sie gibt Einblicke\, die mal zum Lachen anregen\, aber dann wieder nachdenklich stimmen\, und sorgt dafür\, dass das Publikum mit einigen Lachfalten mehr nach Hause geht. \n»Frau-sein ist auch keine Lösung« ist Kabarett\, wie es sein soll: bereichernd. \nTickets sind auf der Internetseite der VHS Jülicher Land ab dem 23.01.2025 erhältlich. \nVVK: 5\,00 € | AK: 7\,00 €
URL:https://www.kuba-juelich.de/event/vera-nentwich-frau-sein-ist-auch-keine-loesung/
CATEGORIES:Kleinkunst
ATTACH;FMTTYPE=image/jpeg:https://www.kuba-juelich.de/wp-content/uploads/2025/02/autorin-vera_nentwich_kabarett.jpg
END:VEVENT
BEGIN:VEVENT
DTSTART;TZID=Europe/Berlin:20250313T190000
DTEND;TZID=Europe/Berlin:20250313T200000
DTSTAMP:20260425T142339
CREATED:20250225T131411Z
LAST-MODIFIED:20250225T131535Z
UID:10000391-1741892400-1741896000@www.kuba-juelich.de
SUMMARY:Abends mit Beleuchtung
DESCRIPTION:Am Donnerstag\, 13. März\, um 19:00 Uhr ist es soweit: Im Kulturbahnhof Jülich wird gefeiert – und zwar musikalisch und mit einer geballten Ladung Frauenpower! \nPassend zum Internationalen Frauentag laden die Gleichstellungsstellen der Städte Jülich und Linnich\, die Beratungsstelle für Frauen und Mädchen im Kreis Düren\, das Kulturbüro der Stadt Jülich\, die VHS Jülicher Land und die Gleichstellungsbeauftragte im Forschungszentrum Jülich zu einem einzigartigen Abend ein. \nDas professionelle Klangwunder-Trio „Abends mit Beleuchtung“ aus Köln überrascht mit bekannten\, aber auf grandiose Art interpretierten Cover-Songs – gnadenlos ins deutsche übersetzt\, charmant verdreht und unglaublich komisch. Drei Frauen – Baby\, Honey und Sugar – mit Power und einer mega Bühnenpräsenz.  \nDas ist Pop mit quirligem Pep\, Rock mit mächtigem Ruck und Swing mit betörendem Gesang! \nEin Muss\, wenn man sich vom Einerlei der Popkultur mal eine schöne Pause gönnen möchte. \nTickets sind auf der Internetseite der VHS Jülicher Land ab dem 23.01.2025 erhältlich. \nVVK: 10\,00 € | AK: 12\,00 €
URL:https://www.kuba-juelich.de/event/abends-mit-beleuchtung/
CATEGORIES:Konzert
ATTACH;FMTTYPE=image/jpeg:https://www.kuba-juelich.de/wp-content/uploads/2025/02/Abends_mit_Beleuchtung.jpg
END:VEVENT
BEGIN:VEVENT
DTSTART;TZID=Europe/Berlin:20250314T200000
DTEND;TZID=Europe/Berlin:20250314T230000
DTSTAMP:20260425T142339
CREATED:20241105T121241Z
LAST-MODIFIED:20241105T121241Z
UID:10000307-1741982400-1741993200@www.kuba-juelich.de
SUMMARY:25 Jahre Mad Zeppelin
DESCRIPTION:Jubiläumskonzert \nDie Tour 2024/2025 ist für MAD ZEPPELIN eine Jubiläumstour in doppelter Hinsicht: Die Tribute-Band aus Mainz mit dem Jülicher Sänger Michael Dorp begeht nach über 300 Konzerten ihr 25-Jähriges! Gleichzeitig jährt sich das Erscheinungsdatum des legendären Doppelalbums „Physical Graffiti“ von Led Zeppelin zum 50. Mal! \nDeswegen featuren MAD ZEPPELIN diesen Rock-Meilenstein mit seiner unfassbaren Vielseitigkeit schwerpunktmäßig in ihrem aktuellen Programm: Von wunderschönen Balladen wie „Ten Years Gone“ und Folk-Ausflügen wie bei „Black Country Woman“ über den groovigen Funkrock von „Trampled Under Foot“\, wie ihn auch die Red Hot Chili Peppers nicht besser hinbekommen hätten. Den Höhepunkt bildet das Magnum Opus des Rock überhaupt\, das majestätische „Kashmir“.  Natürlich werden darüber hinaus aber auch die weiteren großen LED ZEPPELIN-Kracher wie „Whole Lotta Love“\, „Stairway to Heaven“\, „Moby Dick“ und „Dazed and Confused“ nicht fehlen. \nNicht zuletzt durch diverse andere ähnlich spannende Themen-Programme haben sich MAD ZEPPELIN über die Jahre den Ruf eines der besten LED-ZEPPELIN-Tribute Acts Europas erspielt\, denn bei ihrer Performance gelingt es den fünf MAD ZEPPELIN-Musikern bekanntermaßen\, den epischen Led Zeppelin-Sound\, die urwüchsige Power der Original-Rhythmussektion und die dynamische Interaktion zwischen Lead-Gitarre und Gesang auf die Bühnen im Hier und Jetzt zu zaubern. Ein Fest für gestandene Rockfans mit Sehnsucht nach der guten alten Zeit oder Kids\, die LED ZEPPELIN nie selbst live erleben konnten! \nDie Band könnt ihr am 14. März 2025 im Kulturbahnhof Jülich live erleben. Beginn 20 Uhr\, Einlass um 19 Uhr.  Der Eintritt beträgt 23 Euro. Es gibt ausschließlich eine Abendkasse. Reservierungen gerne über virginialisken@gmail.com
URL:https://www.kuba-juelich.de/event/25-jahre-mad-zeppelin/
CATEGORIES:Konzert
ATTACH;FMTTYPE=image/jpeg:https://www.kuba-juelich.de/wp-content/uploads/2024/11/20230324_Jlich_Bandfoto-Fotograf-Guenter-Jagodzinska-scaled.jpg
END:VEVENT
END:VCALENDAR