BEGIN:VCALENDAR
VERSION:2.0
PRODID:-//KuBa Jülich - ECPv6.2.9//NONSGML v1.0//EN
CALSCALE:GREGORIAN
METHOD:PUBLISH
X-WR-CALNAME:KuBa Jülich
X-ORIGINAL-URL:https://www.kuba-juelich.de
X-WR-CALDESC:Veranstaltungen für KuBa Jülich
REFRESH-INTERVAL;VALUE=DURATION:PT1H
X-Robots-Tag:noindex
X-PUBLISHED-TTL:PT1H
BEGIN:VTIMEZONE
TZID:Europe/Berlin
BEGIN:DAYLIGHT
TZOFFSETFROM:+0100
TZOFFSETTO:+0200
TZNAME:CEST
DTSTART:20250330T010000
END:DAYLIGHT
BEGIN:STANDARD
TZOFFSETFROM:+0200
TZOFFSETTO:+0100
TZNAME:CET
DTSTART:20251026T010000
END:STANDARD
END:VTIMEZONE
BEGIN:VEVENT
DTSTART;TZID=Europe/Berlin:20250307T200000
DTEND;TZID=Europe/Berlin:20250307T220000
DTSTAMP:20260425T130346
CREATED:20250225T132519Z
LAST-MODIFIED:20250225T132519Z
UID:10000392-1741377600-1741384800@www.kuba-juelich.de
SUMMARY:Jörg Hegemann Trio
DESCRIPTION:Nur Abendkasse – Mitglieder: 12€ | Nichtmitglieder: 17€ \nPlatzreservierungen über 0172-13 32 689 oder jueljazz@web.de \nVeranstalter: Jazzclub Jülich
URL:https://www.kuba-juelich.de/event/joerg-hegemann-trio/
CATEGORIES:Konzert
ATTACH;FMTTYPE=image/jpeg:https://www.kuba-juelich.de/wp-content/uploads/2025/02/04-Trio1-HPD_201115_60_ret-1024x681-1.jpg
END:VEVENT
BEGIN:VEVENT
DTSTART;TZID=Europe/Berlin:20250308T210000
DTEND;TZID=Europe/Berlin:20250308T233000
DTSTAMP:20260425T130346
CREATED:20231213T131810Z
LAST-MODIFIED:20241014T123940Z
UID:10000089-1741467600-1741476600@www.kuba-juelich.de
SUMMARY:TWILIGHT OBSESSION PARTY
DESCRIPTION:—All Styles of Dark Music—  \nDJ Insanity & DJ Sonic spielen für Euch einen schwarzbunten Mix aus Gothic\, Dark-Wave\, Industrial\, EBM\, Synth-Pop etc…  \nFacebook \nInstagram \nSpotify\nSpotify \nBier Happy Hour:\n21:00h – 22:00h 0\,33L 2 €
URL:https://www.kuba-juelich.de/event/twilight-obsession-party/
CATEGORIES:Party
ATTACH;FMTTYPE=image/jpeg:https://www.kuba-juelich.de/wp-content/uploads/2023/12/Twilight-Obsession-Maerz-25-Plakat-A4-gross-Kopie-scaled.jpg
END:VEVENT
END:VCALENDAR