BEGIN:VCALENDAR
VERSION:2.0
PRODID:-//KuBa Jülich - ECPv6.2.9//NONSGML v1.0//EN
CALSCALE:GREGORIAN
METHOD:PUBLISH
X-WR-CALNAME:KuBa Jülich
X-ORIGINAL-URL:https://www.kuba-juelich.de
X-WR-CALDESC:Veranstaltungen für KuBa Jülich
REFRESH-INTERVAL;VALUE=DURATION:PT1H
X-Robots-Tag:noindex
X-PUBLISHED-TTL:PT1H
BEGIN:VTIMEZONE
TZID:Europe/Berlin
BEGIN:DAYLIGHT
TZOFFSETFROM:+0100
TZOFFSETTO:+0200
TZNAME:CEST
DTSTART:20240331T010000
END:DAYLIGHT
BEGIN:STANDARD
TZOFFSETFROM:+0200
TZOFFSETTO:+0100
TZNAME:CET
DTSTART:20241027T010000
END:STANDARD
END:VTIMEZONE
BEGIN:VEVENT
DTSTART;TZID=Europe/Berlin:20241204T170000
DTEND;TZID=Europe/Berlin:20241204T190000
DTSTAMP:20260424T175930
CREATED:20241127T163737Z
LAST-MODIFIED:20241127T163737Z
UID:10000326-1733331600-1733338800@www.kuba-juelich.de
SUMMARY:Wie Engel fliegen lernen
DESCRIPTION:Familientheater zu Weihnachten \nAm Mittwoch\, den 04.12.2024 um 17:00 Uhr gastiert das BrilLe Theater mit seinem Stück „Wie Engel fliegen lernen “ im Kulturbahnhof in Jülich. Das Familienstück ist für Klein und Groß ab 4 Jahren geeignet. \nEin Engel sucht den wahren Grund von Weihnachten \nAuf der Erde geschehen auf einmal seltsame Dinge. Die Menschen hängen überall Schnüre mit kleinen Lämpchen auf\, essen Süßigkeiten\, bis ihnen schlecht ist und packen lauter Sachen in buntes Papier ein. Der Engel Bauz versteht das alles nicht und fragt Gott. „Die Menschen feiern Weihnachten.“ Aha\, aber was ist das? Da Bauz ein Jungengel ist und noch nicht fliegen kann\, verspricht Gott ihm Flügel\, sollte er herausfinden\, was Weihnachten ist. Auf der Suche nach einer Antwort „plumpst“ der Engel an verschiedene Orte und nimmt jedes Mal eine Antwort mit zurück in den Himmel. Doch leider liegt er damit nicht immer ganz richtig… \n„Wie Engel fliegen lernen“ ist ein kurzweiliges Theater für Kinder und Erwachsene\, bei dem – ganz nebenbei – unsere kulturell verankerten Bräuche und Weihnachtsrituale als von Menschen erdacht erklärt und vom eigentlichen Sinn\, der Geburt Jesus\, unterschieden werden. \nVVK: Kinder 6 € | Erwachsene 8 € | Tickets sind bei der Buchhandlung Thalia Jülich und online.
URL:https://www.kuba-juelich.de/event/wie-engel-fliegen-lernen/
CATEGORIES:Kleinkunst
ATTACH;FMTTYPE=image/jpeg:https://www.kuba-juelich.de/wp-content/uploads/2024/11/engel_danaschmidt.jpg
END:VEVENT
BEGIN:VEVENT
DTSTART;TZID=Europe/Berlin:20241206T200000
DTEND;TZID=Europe/Berlin:20241206T230000
DTSTAMP:20260424T175930
CREATED:20241127T164656Z
LAST-MODIFIED:20241127T164817Z
UID:10000327-1733515200-1733526000@www.kuba-juelich.de
SUMMARY:Lametta Sitzung
DESCRIPTION:ausverkauft
URL:https://www.kuba-juelich.de/event/lametta-sitzung/
CATEGORIES:Brauchtum
ATTACH;FMTTYPE=image/jpeg:https://www.kuba-juelich.de/wp-content/uploads/2024/11/320169344_5874521222658901_9072085128922403482_n.jpg
END:VEVENT
BEGIN:VEVENT
DTSTART;TZID=Europe/Berlin:20241207T193000
DTEND;TZID=Europe/Berlin:20241207T230000
DTSTAMP:20260424T175930
CREATED:20241127T164907Z
LAST-MODIFIED:20241127T164907Z
UID:10000328-1733599800-1733612400@www.kuba-juelich.de
SUMMARY:Lametta Sitzung
DESCRIPTION:ausverkauft
URL:https://www.kuba-juelich.de/event/lametta-sitzung-2/
CATEGORIES:Brauchtum
ATTACH;FMTTYPE=image/jpeg:https://www.kuba-juelich.de/wp-content/uploads/2024/11/320169344_5874521222658901_9072085128922403482_n.jpg
END:VEVENT
BEGIN:VEVENT
DTSTART;TZID=Europe/Berlin:20241208T170000
DTEND;TZID=Europe/Berlin:20241208T220000
DTSTAMP:20260424T175930
CREATED:20241127T164950Z
LAST-MODIFIED:20241127T164950Z
UID:10000329-1733677200-1733695200@www.kuba-juelich.de
SUMMARY:Lametta Sitzung
DESCRIPTION:ausverkauft
URL:https://www.kuba-juelich.de/event/lametta-sitzung-3/
CATEGORIES:Brauchtum
ATTACH;FMTTYPE=image/jpeg:https://www.kuba-juelich.de/wp-content/uploads/2024/11/320169344_5874521222658901_9072085128922403482_n.jpg
END:VEVENT
END:VCALENDAR