BEGIN:VCALENDAR
VERSION:2.0
PRODID:-//KuBa Jülich - ECPv6.2.9//NONSGML v1.0//EN
CALSCALE:GREGORIAN
METHOD:PUBLISH
X-WR-CALNAME:KuBa Jülich
X-ORIGINAL-URL:https://www.kuba-juelich.de
X-WR-CALDESC:Veranstaltungen für KuBa Jülich
REFRESH-INTERVAL;VALUE=DURATION:PT1H
X-Robots-Tag:noindex
X-PUBLISHED-TTL:PT1H
BEGIN:VTIMEZONE
TZID:Europe/Berlin
BEGIN:DAYLIGHT
TZOFFSETFROM:+0100
TZOFFSETTO:+0200
TZNAME:CEST
DTSTART:20240331T010000
END:DAYLIGHT
BEGIN:STANDARD
TZOFFSETFROM:+0200
TZOFFSETTO:+0100
TZNAME:CET
DTSTART:20241027T010000
END:STANDARD
END:VTIMEZONE
BEGIN:VEVENT
DTSTART;TZID=Europe/Berlin:20241123T190000
DTEND;TZID=Europe/Berlin:20241123T220000
DTSTAMP:20260424T151245
CREATED:20241112T131909Z
LAST-MODIFIED:20241112T131909Z
UID:10000312-1732388400-1732399200@www.kuba-juelich.de
SUMMARY:Rock of Tomorrow
DESCRIPTION:Am Samstag\, 23 November 2024 findet im Jülicher Kulturbahnhof ein Newcomer Konzert in Zusammenarbeit mit dem Musiknetzwerk Aachen e.V. und create music NRW statt. \nLive auf der KuBa Bühne stehen die Bands Coloers aus Aachen\, Crimson Spirit aus Olpe und NIOR aus Hückelhoven. \nColoers wurde 2023 von Laurenz (Gitarre\, Gesang)\, Simon (Gitarre\, Gesang)\, Emanuel (Schlagzeug) und Henry (Bass) in Aachen gegründet. Seitdem konzentriert sich coloers auf ihre musikalischen Wurzeln – Punkrock. Die Möglichkeit andere Menschen kennenzulernen und mit ihnen gemeinsame Zeit zu verbringen ist für die Band ein wichtiger Teil der Musik. Wenn sie Musik machen\, heißt das dem Alltag und der Realität zu entfliehen. Es ist ein Loslassen der Gefühle und Gedanken\, wobei vor allem Einsamkeit und Verlust eine Rolle spielen. Mit diesen Themen beschäftigen sie sich auch in ihrer ersten EP\, die sie momentan produzieren.\nCrimson Spirit liefern mit ihrem unverkennbaren Sound ein gekonntes Spiel zwischen fetzigen Riffs und eingängigen Hooks. Das Ergebnis ist eine energiegeladene Liveshow\, welche auch mit melancholischen Momenten das Publikum in ihren Bann zieht.\nAngelehnt an den Sound der Jahrtausendwende\, nennen NIOR ihren Stil „Nu Metalcore“ und bringen Grooves zurück\, die an KoRn\, Linkin Park oder P.O.D. erinnern.
URL:https://www.kuba-juelich.de/event/rock-of-tomorrow/
CATEGORIES:Konzert
ATTACH;FMTTYPE=image/jpeg:https://www.kuba-juelich.de/wp-content/uploads/2024/11/Plakat_Kubaxmuna.jpg
END:VEVENT
END:VCALENDAR