BEGIN:VCALENDAR
VERSION:2.0
PRODID:-//KuBa Jülich - ECPv6.2.9//NONSGML v1.0//EN
CALSCALE:GREGORIAN
METHOD:PUBLISH
X-WR-CALNAME:KuBa Jülich
X-ORIGINAL-URL:https://www.kuba-juelich.de
X-WR-CALDESC:Veranstaltungen für KuBa Jülich
REFRESH-INTERVAL;VALUE=DURATION:PT1H
X-Robots-Tag:noindex
X-PUBLISHED-TTL:PT1H
BEGIN:VTIMEZONE
TZID:Europe/Berlin
BEGIN:DAYLIGHT
TZOFFSETFROM:+0100
TZOFFSETTO:+0200
TZNAME:CEST
DTSTART:20240331T010000
END:DAYLIGHT
BEGIN:STANDARD
TZOFFSETFROM:+0200
TZOFFSETTO:+0100
TZNAME:CET
DTSTART:20241027T010000
END:STANDARD
END:VTIMEZONE
BEGIN:VEVENT
DTSTART;TZID=Europe/Berlin:20241106T150000
DTEND;TZID=Europe/Berlin:20241106T170000
DTSTAMP:20260424T062442
CREATED:20240910T101241Z
LAST-MODIFIED:20240910T101241Z
UID:10000269-1730905200-1730912400@www.kuba-juelich.de
SUMMARY:Marlene – Eine Hommage
DESCRIPTION:Am Mittwoch\, den 6. November 2024\, um 15:00 Uhr präsentiert das Das Da Theater sein Stück „Marlene – Eine Hommage“ im Kulturbahnhof Jülich. Die Veranstaltung ist aus der Zusammenarbeit mit dem Seniorenbeirat entstanden. \nMarlene Dietrich war eine Diva par excellence und der größte deutsche Weltstar aller Zeiten. Unsere musikalische Hommage „Marlene“ lässt die Film- und Stilikone von einst wieder lebendig werden. Dazu schlüpft Sängerin und Schauspielerin Anja Mathar in die Rolle der deutsch-amerikanischen Legende\, um vom Leben der Dietrich zu erzählen und deren Lieder zu singen. \nOb im eleganten schwarzen Abendkleid oder im damals für Frauen verpönten Hosenanzug: Anja Mathar verkörpert den oft unnahbar wirkenden Vamp so glaubhaft\, dass man hinter der Stilikone den Menschen erkennen kann. Sie singt die großen Hits wie „Ich bin von Kopf bis Fuß auf Liebe eingestellt” und spricht als „Marlene“ im Interview über ihr ereignisreiches Leben. Dabei erzählt sie auch davon\, wie die Dietrich sich als entschiedene Gegnerin der Nazis im Zweiten Weltkrieg für die zur Befreiung nach Europa entsandten US-Truppen engagierte. Denn die rund 500 Auftritte\, die sie in den letzten Kriegsjahren 1944/45 an allen Fronten zur Aufmunterung der GIs gibt\, nennt sie später „das Wichtigste\, das ich je gemacht habe“. \nVeranstalter: Kulturbüro der Stadt Jülich
URL:https://www.kuba-juelich.de/event/marlene-eine-hommage/
CATEGORIES:Kleinkunst
ATTACH;FMTTYPE=image/jpeg:https://www.kuba-juelich.de/wp-content/uploads/2024/09/marlene_pressebild_02_das_da_theater.jpg
END:VEVENT
BEGIN:VEVENT
DTSTART;TZID=Europe/Berlin:20241107T193000
DTEND;TZID=Europe/Berlin:20241107T223000
DTSTAMP:20260424T062442
CREATED:20240412T141647Z
LAST-MODIFIED:20240412T141647Z
UID:10000196-1731007800-1731018600@www.kuba-juelich.de
SUMMARY:RUDELSINGEN
DESCRIPTION:Das Original RUDELSINGEN mit Gika Bäumer und Lutz Angermann ist zurück in Jülich im KUBA. Das 9. Jülicher RUDELSINGEN startet am Donnerstag\, 7. November um 19.30 Uhr im KUBA an der Bahnhofstrasse \nGika Bäumer und Lutz Angermann singen mit euch die größten RUDELSINGEN Hits von gestern bis heute.  Jede/r kann nach Lust und Laune mitmachen und sich einen Abend lang in der Musik und im Gesang verlieren\, wie es sich bei dem wunderbaren Chor ringsherum am besten ergibt. Das gemeinsame Singen hat zudem noch einen schönen Nebeneffekt: Es ist gesund\, stärkt unser Immunsystem und jede/r kann es! Ein buntes Programm mit legendären Songs und Evergreens wird für jedes Konzert neu erstellt und überrascht mit vielen Entdeckungen\, Erinnerungen und neuen Lieblingsstücken. Wer noch nie beim RUDELSINGEN dabei war\, kann sich bedenkenlos dazugesellen\, denn Vorkenntnisse werden nicht gebraucht und das abendfüllende Programm hat für jede/n das passende Lieblingslied dabei. \nBeim Original RUDELSINGEN kommen seit über 11 Jahren bundesweit Menschen zusammen\, um miteinander Musik zu erleben. Generationen übergreifend wird der eigene Gesang Teil eines großen Chores. Viele Welthits stehen bei jedem RUDELSINGEN-Abend auf dem Programm – Rockklassiker treffen auf Schlager und Chansons & Radio-Hits auf Opernarien. Diese bunte Mischung sorgt bei allen Teilnehmern für gute Laune\, frischt Erinnerungen an die Entstehungszeit der Welthits auf und macht Lust auf mehr – die 10 RUDELSINGEN-Teams präsentieren die Liederauswahl bundesweit mit viel Humor & Unterhaltung und begleiten das Publikum instrumental von Song zu Song. \n„Das RUDELSINGEN ist zugleich ein tolles Konzerterlebnis und die Möglichkeit\, sich singend zu beteiligen\, denn die Liedtexte gehören dazu und jede/r ist herzlich eingeladen\, mitzumachen“\, sagt Gika Bäumer\, Vorsängerin beim RUDELSINGEN. Sie begleitet das Rudel gemeinsam mit Lutz Angermann. Die Texte werden mit einem Beamer für alle gut lesbar an eine Leinwand projiziert. \nDas RUDELSINGEN in Jülich  startet am Donnerstag\, 7. November um 19.30 Uhr im KUBA\, Bahnhofstr. 13 . Wer das nicht verpassen will\, kann sich unter www.rudelsingen.de noch Karten zum Vorverkaufspreis Preis von 16\,- EUR besorgen\, der Einlass beginnt um 18.30 Uhr.
URL:https://www.kuba-juelich.de/event/rudelsingen-2/
CATEGORIES:Konzert
ATTACH;FMTTYPE=image/jpeg:https://www.kuba-juelich.de/wp-content/uploads/2023/12/Rudelsingen_1.jpg
END:VEVENT
END:VCALENDAR