BEGIN:VCALENDAR
VERSION:2.0
PRODID:-//KuBa Jülich - ECPv6.2.9//NONSGML v1.0//EN
CALSCALE:GREGORIAN
METHOD:PUBLISH
X-ORIGINAL-URL:https://www.kuba-juelich.de
X-WR-CALDESC:Veranstaltungen für KuBa Jülich
REFRESH-INTERVAL;VALUE=DURATION:PT1H
X-Robots-Tag:noindex
X-PUBLISHED-TTL:PT1H
BEGIN:VTIMEZONE
TZID:Europe/Berlin
BEGIN:DAYLIGHT
TZOFFSETFROM:+0100
TZOFFSETTO:+0200
TZNAME:CEST
DTSTART:20240331T010000
END:DAYLIGHT
BEGIN:STANDARD
TZOFFSETFROM:+0200
TZOFFSETTO:+0100
TZNAME:CET
DTSTART:20241027T010000
END:STANDARD
END:VTIMEZONE
BEGIN:VEVENT
DTSTART;TZID=Europe/Berlin:20241025T200000
DTEND;TZID=Europe/Berlin:20241025T200000
DTSTAMP:20260424T125425
CREATED:20231213T140043Z
LAST-MODIFIED:20241014T105207Z
UID:10000097-1729886400-1729886400@www.kuba-juelich.de
SUMMARY:MANES MECKENSTOCK - FÄLLT AUS!
DESCRIPTION:Der geplante Kabarettabend mit Manes Meckenstock und seinem Programm „Lott jonn!“\, der am 25.10.2024 im Kulturbahnhof in Jülich stattfinden sollte\, muss leider abgesagt werden.  \nBereits gekaufte Tickets werden selbstverständlich rückerstattet. Bei Rückerstattungsproblemen oder weiteren Fragen steht das Kulturbüro der Stadt Jülich unter der E-Mail-Adresse kulturbuero@juelich.de oder telefonisch unter 02461-63-243 zur Verfügung. \nWir danken für das Verständnis und hoffen\, Sie bei weiteren Veranstaltungen begrüßen zu dürfen. \nUnsere Sprache hat ihre Deutlichkeit verloren. Das Sozialamt firmiert mittlerweile als Jobcenter\, das Altenheim verkauft sich als Seniorenresidenz und ein Puff ist heute eine Wellness-Oase. Die Freundin ist nicht unpünktlich\, sondern gefordert im Zeitmanagement –der Kollege ist nicht hässlich\, sondern kosmetisch bedürftig. Warum nicht das Kind beim Namen nennen? Mit rheinischer Respektlosigkeit seziert Manes Meckenstock in seinem aktuellen Programm die tagtäglichen Veränderungen. \nEin wort-witziger Abend mit dem verheißungsvollen Titel Lott jonn oder als das Würstchen Huppsi machte… \nAm Freitag\, den 25. Oktober 2024 um 20.00 Uhr freut sich Manes Meckenstock das Jülicher Publikum in der Kneipe im Kulturbahnhof Jülich begrüßen zu dürfen.
URL:https://www.kuba-juelich.de/event/manes-meckenstock/
CATEGORIES:Kleinkunst
ATTACH;FMTTYPE=image/jpeg:https://www.kuba-juelich.de/wp-content/uploads/2023/12/manes_meckenstock.jpg
END:VEVENT
END:VCALENDAR