BEGIN:VCALENDAR
VERSION:2.0
PRODID:-//KuBa Jülich - ECPv6.2.9//NONSGML v1.0//EN
CALSCALE:GREGORIAN
METHOD:PUBLISH
X-WR-CALNAME:KuBa Jülich
X-ORIGINAL-URL:https://www.kuba-juelich.de
X-WR-CALDESC:Veranstaltungen für KuBa Jülich
REFRESH-INTERVAL;VALUE=DURATION:PT1H
X-Robots-Tag:noindex
X-PUBLISHED-TTL:PT1H
BEGIN:VTIMEZONE
TZID:Europe/Berlin
BEGIN:DAYLIGHT
TZOFFSETFROM:+0100
TZOFFSETTO:+0200
TZNAME:CEST
DTSTART:20240331T010000
END:DAYLIGHT
BEGIN:STANDARD
TZOFFSETFROM:+0200
TZOFFSETTO:+0100
TZNAME:CET
DTSTART:20241027T010000
END:STANDARD
END:VTIMEZONE
BEGIN:VEVENT
DTSTART;TZID=Europe/Berlin:20241019T200000
DTEND;TZID=Europe/Berlin:20241019T223000
DTSTAMP:20260424T112510
CREATED:20240604T182730Z
LAST-MODIFIED:20241016T085916Z
UID:10000225-1729368000-1729377000@www.kuba-juelich.de
SUMMARY:Claudia Stump und Adriano Werner - FÄLLT AUS!
DESCRIPTION:Leider fällt die Veranstaltung „Impromusical von und mit Claudia Stump und Adriano Werner“ krankheitsbedingt aus.\nBereits gekaufte Tickets werden selbstverständlich rückerstattet. Online gekaufte Tickets werden automatisch erstattet.\nKunden von Vorverkaufsstellen erhalten den Kaufpreis bei der entsprechenden Vorverkaufsstelle\, unter Angabe der Ticketnummer\, zurück.\nVielen Dank für Ihr Verständnis. \nImpromusical von und mit Claudia Stump und Adriano Werner \nEin Herzensduo\, zwei Wirbelwinde – und jede Menge Spielwitz. Claudia Stump und Adriano Werner teilen die Bühne seit über 10 Jahren.Künstlerisch verbindet die beiden die Liebe zur Lyrik\, der Drang zur Musik und der Mut zur Tiefe. \nIn ihrem gleichnamigen Format „Ein Herz und eine Szene“ erzählen die beiden eine Beziehungsgeschichte\, die unter die Haut geht. Mit Komik aus dem Stehgreif und einer gekonnten Abfolge von Situationen präsentieren die Schauspieler eine Geschichte aus dem Alltag der Liebe und heben sie ins Rampenlicht. Wie sie mit musikalischen Einlagen und temporeichen Wendungen die Herzen der ZuschauerInnen berühren\, ist mehr als sehenswert. \nEine Ehe mit allem\, was dazu gehört: Harmonie und Ärger\, Irrungen und Wirrungen\, Gefühl und Emotion. Spannende Nebenschauplätze\, aufregende Wendungen und stilvolle Szenen inbegriffen. Die Akteure holen aus der Kunstform des improvisierten Theaters alles heraus\, was möglich ist: Schauspiel\, Gesang\, Lyrik und Bewegung. \nDas Publikum wählt\, wie die Geschichte weitergehen soll. Die beiden Schauspieler nehmen jeden Impuls auf und erfinden spontan eine Reaktion\, die die Szene in eine neue Richtung bringt.
URL:https://www.kuba-juelich.de/event/claudia-stump-und-adriano-werner/
CATEGORIES:Kleinkunst
ATTACH;FMTTYPE=image/jpeg:https://www.kuba-juelich.de/wp-content/uploads/2024/06/Herz_und_Szene-25-©Stump-1.jpg
END:VEVENT
END:VCALENDAR