BEGIN:VCALENDAR
VERSION:2.0
PRODID:-//KuBa Jülich - ECPv6.2.9//NONSGML v1.0//EN
CALSCALE:GREGORIAN
METHOD:PUBLISH
X-WR-CALNAME:KuBa Jülich
X-ORIGINAL-URL:https://www.kuba-juelich.de
X-WR-CALDESC:Veranstaltungen für KuBa Jülich
REFRESH-INTERVAL;VALUE=DURATION:PT1H
X-Robots-Tag:noindex
X-PUBLISHED-TTL:PT1H
BEGIN:VTIMEZONE
TZID:Europe/Berlin
BEGIN:DAYLIGHT
TZOFFSETFROM:+0100
TZOFFSETTO:+0200
TZNAME:CEST
DTSTART:20240331T010000
END:DAYLIGHT
BEGIN:STANDARD
TZOFFSETFROM:+0200
TZOFFSETTO:+0100
TZNAME:CET
DTSTART:20241027T010000
END:STANDARD
END:VTIMEZONE
BEGIN:VEVENT
DTSTART;TZID=Europe/Berlin:20241010T200000
DTEND;TZID=Europe/Berlin:20241010T220000
DTSTAMP:20260424T155925
CREATED:20240930T124152Z
LAST-MODIFIED:20240930T124152Z
UID:10000287-1728590400-1728597600@www.kuba-juelich.de
SUMMARY:Shakespeare geht immer?!
DESCRIPTION:Gesellschaft Frohsinn Stetternich 1880 e.V. \nRestkarten können bei Cityfriseurin Dunja \, Große Rurstraße 36 erworben werden.
URL:https://www.kuba-juelich.de/event/shakespeare-geht-immer/
CATEGORIES:Kleinkunst
ATTACH;FMTTYPE=image/jpeg:https://www.kuba-juelich.de/wp-content/uploads/2024/09/458158363_903425798473509_4464738026773990334_n.jpg
END:VEVENT
BEGIN:VEVENT
DTSTART;TZID=Europe/Berlin:20241011T200000
DTEND;TZID=Europe/Berlin:20241011T220000
DTSTAMP:20260424T155925
CREATED:20240930T124212Z
LAST-MODIFIED:20240930T124212Z
UID:10000288-1728676800-1728684000@www.kuba-juelich.de
SUMMARY:Shakespeare geht immer?!
DESCRIPTION:Gesellschaft Frohsinn Stetternich 1880 e.V. \nRestkarten können bei Cityfriseurin Dunja \, Große Rurstraße 36 erworben werden.
URL:https://www.kuba-juelich.de/event/shakespeare-geht-immer-2/
CATEGORIES:Kleinkunst
ATTACH;FMTTYPE=image/jpeg:https://www.kuba-juelich.de/wp-content/uploads/2024/09/458158363_903425798473509_4464738026773990334_n.jpg
END:VEVENT
BEGIN:VEVENT
DTSTART;TZID=Europe/Berlin:20241012T190000
DTEND;TZID=Europe/Berlin:20241012T210000
DTSTAMP:20260424T155925
CREATED:20240930T124249Z
LAST-MODIFIED:20240930T124249Z
UID:10000289-1728759600-1728766800@www.kuba-juelich.de
SUMMARY:Shakespeare geht immer?!
DESCRIPTION:Gesellschaft Frohsinn Stetternich 1880 e.V. \nRestkarten können bei Cityfriseurin Dunja \, Große Rurstraße 36 erworben werden.
URL:https://www.kuba-juelich.de/event/shakespeare-geht-immer-3/
CATEGORIES:Kleinkunst
ATTACH;FMTTYPE=image/jpeg:https://www.kuba-juelich.de/wp-content/uploads/2024/09/458158363_903425798473509_4464738026773990334_n.jpg
END:VEVENT
BEGIN:VEVENT
DTSTART;TZID=Europe/Berlin:20241013T180000
DTEND;TZID=Europe/Berlin:20241013T200000
DTSTAMP:20260424T155925
CREATED:20240930T124334Z
LAST-MODIFIED:20240930T124334Z
UID:10000290-1728842400-1728849600@www.kuba-juelich.de
SUMMARY:Shakespeare geht immer?!
DESCRIPTION:Gesellschaft Frohsinn Stetternich 1880 e.V. \nRestkarten können bei Cityfriseurin Dunja \, Große Rurstraße 36 erworben werden.
URL:https://www.kuba-juelich.de/event/shakespeare-geht-immer-4/
CATEGORIES:Kleinkunst
ATTACH;FMTTYPE=image/jpeg:https://www.kuba-juelich.de/wp-content/uploads/2024/09/458158363_903425798473509_4464738026773990334_n.jpg
END:VEVENT
END:VCALENDAR