BEGIN:VCALENDAR
VERSION:2.0
PRODID:-//KuBa Jülich - ECPv6.2.9//NONSGML v1.0//EN
CALSCALE:GREGORIAN
METHOD:PUBLISH
X-ORIGINAL-URL:https://www.kuba-juelich.de
X-WR-CALDESC:Veranstaltungen für KuBa Jülich
REFRESH-INTERVAL;VALUE=DURATION:PT1H
X-Robots-Tag:noindex
X-PUBLISHED-TTL:PT1H
BEGIN:VTIMEZONE
TZID:Europe/Berlin
BEGIN:DAYLIGHT
TZOFFSETFROM:+0100
TZOFFSETTO:+0200
TZNAME:CEST
DTSTART:20240331T010000
END:DAYLIGHT
BEGIN:STANDARD
TZOFFSETFROM:+0200
TZOFFSETTO:+0100
TZNAME:CET
DTSTART:20241027T010000
END:STANDARD
END:VTIMEZONE
BEGIN:VEVENT
DTSTART;TZID=Europe/Berlin:20241004T200000
DTEND;TZID=Europe/Berlin:20241004T230000
DTSTAMP:20260424T160143
CREATED:20240429T082305Z
LAST-MODIFIED:20240806T162242Z
UID:10000209-1728072000-1728082800@www.kuba-juelich.de
SUMMARY:Young Horses
DESCRIPTION:Crazy Horse Feeling mit „Neil Young“ Tribute Band „Young Horses“ im Kulturbahnhof \nMit ordentlich Pferdestärke und jung gebliebenem Temperament bringen die Young Horses den dynamischen Live-Spirit des kanadischen Woodstock-Veteranen\, Visionärs und Grunge-Urvaters Neil Young auf die Bühne. Ihr Stallgeruch und ein bisschen Unberechenbarkeit erzeugen die besondere Note für die Fans des Kommerz und Glamour verachtenden Superstars. \nDank Neil Youngs üppiger Stilvielfalt von Folklore über Country und Americana bis hin zum Hardrock\, gewinnen die Young Horses mit ihren Repertoire-Auszügen schnell die Herzen\, nicht nur von Fans und Insidern\, sondern ebenso von Musik-Liebhabern\, die Neil Young erst noch für sich entdecken dürfen. \nIm Zentrum der Show steht Sänger Roman Erken mit ausgeprägtem Sinn für den Duktus des Vorbilds. Was zählt ist Authentizität\, ohne das Original zu kopieren oder gar zu imitieren. Sein kongenialer Sidekick ist Lead-Gitarrist Axel Klein\, der Kenner durch seinen unglaublich originalgetreuen Neil Young-Sound beeindruckt und dabei emotional epische Solos improvisiert. Schließt man die Augen\, könnte man meinen\, tatsächlich Neil Youngs legendäre „Old Black“ Gibson Les Paul zu hören. Rhythmus-Gitarrist Gottfried Gaul liefert auf verlässlich hohem Energielevel die kernigen Rock-Riffs\, die Neil Youngs Musik geradezu plastisch greifbar machen. Background-Gesang sowie bezeichnend parallele Gesangslinien – etwa in „Cinnamon Girl“ – werden gekürt von Bassist Andreas Schermer\, der sich gerne durch schicke Verzierungen von allzu stereotypem Tieftongebumse hervorhebt. Schlagwerker Volker Brecher zeigt neben exorbitanter Dynamikfähigkeit ebenso feines Gespür für Signature Fills zwischen seiner präzisen Timing-Arbeit. \nWo es die Programmlänge den Young Horses gestattet\, ergänzen sie einen besonders reizvollen Akustik-Block mit Höhepunkten wie „The Needle and the Damage Done“\, „Old Man“\, „Helpless“ oder „Heart of Gold“. Das Sahnehäubchen im Akustik-Set bietet Rüdi Schilp\, der mit röhrender Blues Harp und hüpfendem Twang auf der Mandoline das Klangbild der Young Horses um eine folkloristische Facette bereichert. \nSo galoppiert die Band ungestüm im Geiste der Neil Young seit Jahrzehnten treuen Begleitband Crazy Horse durch die großen Hits und entfacht dabei einen wahren Steppenbrand. Getragen von ihrer Leidenschaft und Spielfreude an der Musik\, sind die Konzerte der Young Horses unvergleichliche Erlebnisse\, die garantiert niemanden unberührt zurücklassen. \nIn diesem Sinne: Hey\, hey\, my\, my – Rock’n Roll will never die! \nAm 04. Oktober 2024 ist die Band „Young Horses „aus dem Raum Mainz im Kulturbahnhof Jülich bei der „NoiseFull“ Reihe zu Gast. Einlass ist um 19:00 Uhr\, Beginn um 20:00 Uhr. Eintritt: 15\,00 Euro. Verbindliche Reservierungen werden gerne unter virginialisken@gmail.com entgegengenommen. Es gibt ausschließlich eine Abendkasse.
URL:https://www.kuba-juelich.de/event/young-horses/
CATEGORIES:Konzert
ATTACH;FMTTYPE=image/jpeg:https://www.kuba-juelich.de/wp-content/uploads/2024/04/2023-04-29-Young-Horses-Bandfotos-017-Fotograf-Thomas-Bartsch.jpg
END:VEVENT
END:VCALENDAR