BEGIN:VCALENDAR
VERSION:2.0
PRODID:-//KuBa Jülich - ECPv6.2.9//NONSGML v1.0//EN
CALSCALE:GREGORIAN
METHOD:PUBLISH
X-WR-CALNAME:KuBa Jülich
X-ORIGINAL-URL:https://www.kuba-juelich.de
X-WR-CALDESC:Veranstaltungen für KuBa Jülich
REFRESH-INTERVAL;VALUE=DURATION:PT1H
X-Robots-Tag:noindex
X-PUBLISHED-TTL:PT1H
BEGIN:VTIMEZONE
TZID:Europe/Berlin
BEGIN:DAYLIGHT
TZOFFSETFROM:+0100
TZOFFSETTO:+0200
TZNAME:CEST
DTSTART:20240331T010000
END:DAYLIGHT
BEGIN:STANDARD
TZOFFSETFROM:+0200
TZOFFSETTO:+0100
TZNAME:CET
DTSTART:20241027T010000
END:STANDARD
END:VTIMEZONE
BEGIN:VEVENT
DTSTART;TZID=Europe/Berlin:20240705T180000
DTEND;TZID=Europe/Berlin:20240705T210000
DTSTAMP:20260425T025107
CREATED:20240630T123903Z
LAST-MODIFIED:20240702T095347Z
UID:10000243-1720202400-1720213200@www.kuba-juelich.de
SUMMARY:Deutschland im Viertelfinale gegen Spanien
DESCRIPTION:Public Viewing im KuBa \nEinlass: 16:30 Uhr \nKein Eintritt | Mindestverzehr: 6 € \nAuf KINO & Großbildleinwand in der Halle und in der Kneipe. \nWie gewohnt mit köstlicher Stadionwurst vom Grill. \nWir zeigen auch das 2. Viertelfinale um 21 Uhr:\nPortugal – Frankreich
URL:https://www.kuba-juelich.de/event/public-viewing-zur-em-deutschland-im-viertelfinale/
CATEGORIES:Public Viewing
ATTACH;FMTTYPE=image/jpeg:https://www.kuba-juelich.de/wp-content/uploads/2024/06/240502_EM_Allgemein_WEB_02.jpg
END:VEVENT
END:VCALENDAR