BEGIN:VCALENDAR
VERSION:2.0
PRODID:-//KuBa Jülich - ECPv6.2.9//NONSGML v1.0//EN
CALSCALE:GREGORIAN
METHOD:PUBLISH
X-ORIGINAL-URL:https://www.kuba-juelich.de
X-WR-CALDESC:Veranstaltungen für KuBa Jülich
REFRESH-INTERVAL;VALUE=DURATION:PT1H
X-Robots-Tag:noindex
X-PUBLISHED-TTL:PT1H
BEGIN:VTIMEZONE
TZID:Europe/Berlin
BEGIN:DAYLIGHT
TZOFFSETFROM:+0100
TZOFFSETTO:+0200
TZNAME:CEST
DTSTART:20260329T010000
END:DAYLIGHT
BEGIN:STANDARD
TZOFFSETFROM:+0200
TZOFFSETTO:+0100
TZNAME:CET
DTSTART:20261025T010000
END:STANDARD
END:VTIMEZONE
BEGIN:VEVENT
DTSTART;TZID=Europe/Berlin:20261127T200000
DTEND;TZID=Europe/Berlin:20261127T220000
DTSTAMP:20260424T212232
CREATED:20260225T110654Z
LAST-MODIFIED:20260304T091250Z
UID:10000634-1795809600-1795816800@www.kuba-juelich.de
SUMMARY:Lagerfeuer Trio
DESCRIPTION:Du hast freitags noch nichts vor? Dann ändere das. \nDrei Stimmen\, Gitarre\, Bass\, Cajón – und ein Abend\, der alles kann: von ABBA bis Queen\, von Gänsehaut bis Lachflash\, von völlig schräg bis unfassbar gut plus eigene Ohrwürmer mit Mitsing-Garantie. \nWenn Bernd\, Yann und Heiko die Bühne betreten\, weiß niemand was kommt\, aber sicher ist\, es wird spontan\, virtuos\, mit großer Klappe und noch größerem Können.\nAlso sichere dir dein Ticket – und sei dabei\, wenn der Kulturbahnhof brennt (im besten Sinne).
URL:https://www.kuba-juelich.de/event/lagerfeuer-trio-3/
CATEGORIES:Konzert
ATTACH;FMTTYPE=image/jpeg:https://www.kuba-juelich.de/wp-content/uploads/2026/02/plakat-scaled.jpg
END:VEVENT
END:VCALENDAR