BEGIN:VCALENDAR
VERSION:2.0
PRODID:-//KuBa Jülich - ECPv6.2.9//NONSGML v1.0//EN
CALSCALE:GREGORIAN
METHOD:PUBLISH
X-WR-CALNAME:KuBa Jülich
X-ORIGINAL-URL:https://www.kuba-juelich.de
X-WR-CALDESC:Veranstaltungen für KuBa Jülich
REFRESH-INTERVAL;VALUE=DURATION:PT1H
X-Robots-Tag:noindex
X-PUBLISHED-TTL:PT1H
BEGIN:VTIMEZONE
TZID:Europe/Berlin
BEGIN:DAYLIGHT
TZOFFSETFROM:+0100
TZOFFSETTO:+0200
TZNAME:CEST
DTSTART:20250330T010000
END:DAYLIGHT
BEGIN:STANDARD
TZOFFSETFROM:+0200
TZOFFSETTO:+0100
TZNAME:CET
DTSTART:20251026T010000
END:STANDARD
END:VTIMEZONE
BEGIN:VEVENT
DTSTART;TZID=Europe/Berlin:20251203T180000
DTEND;TZID=Europe/Berlin:20251203T200000
DTSTAMP:20260424T141826
CREATED:20251125T110625Z
LAST-MODIFIED:20251125T110625Z
UID:10000566-1764784800-1764792000@www.kuba-juelich.de
SUMMARY:Internationaler Tag der Menschen mit Behinderung
DESCRIPTION:Der Internationale Tag der Menschen mit Behinderung wird jährlich am 3. Dezember gefeiert\, um das Bewusstsein für die Rechte und Bedüfnisse von Menschen mit Behinderungen zu stärken und Inklusion zu fördern.  \nDer Inklusionsbeirat AKI\, Arbeitskreis für ein inklusives Jülich\, lädt wiederholt anlässlich dieses Welttages auch in diesem Dezember zu einer Veranstaltung gemeinsam mit der Lebenshilfe Düren e.V. ein: \nWann: Mittwoch\, den 3. Dezember 2026 um 18 Uhr\nWo: im Kulturbahnhof in Jülich\nWas: ein wichtiger Fachvortrag zum BTHG Phase II und ein interessantes Gespräch mit Vertreterinnen und Vertretern des AKI\, der Lebenshilfe und der KoKoBe \nFür wen: für interessierte Erwachsene mit Assistenzbedarf\, ihre Eltern\, ihre Betreuungskräfte\, für Fachpersonal und am Thema Interessierte.\nEintritt ist für alle frei. \nAnmeldung einzelner Personen ist nicht zwingend erforderlich. Gerne dürfen Sie Gruppen und benötigte Rollstuhlplätze anmelden unter BLenzen@juelich.de
URL:https://www.kuba-juelich.de/event/internationaler-tag-der-menschen-mit-behinderung/
CATEGORIES:Sonstiges
ATTACH;FMTTYPE=image/jpeg:https://www.kuba-juelich.de/wp-content/uploads/2025/11/welttag_menschen_mit_behinderung.jpg
END:VEVENT
BEGIN:VEVENT
DTSTART;TZID=Europe/Berlin:20251205T200000
DTEND;TZID=Europe/Berlin:20251205T230000
DTSTAMP:20260424T141827
CREATED:20251125T110915Z
LAST-MODIFIED:20251125T110915Z
UID:10000567-1764964800-1764975600@www.kuba-juelich.de
SUMMARY:Lametta Sitzung
DESCRIPTION:ausverkauft
URL:https://www.kuba-juelich.de/event/lametta-sitzung-4/
CATEGORIES:Brauchtum
ATTACH;FMTTYPE=image/jpeg:https://www.kuba-juelich.de/wp-content/uploads/2024/11/320169344_5874521222658901_9072085128922403482_n.jpg
END:VEVENT
BEGIN:VEVENT
DTSTART;TZID=Europe/Berlin:20251206T193000
DTEND;TZID=Europe/Berlin:20251206T230000
DTSTAMP:20260424T141827
CREATED:20251125T110955Z
LAST-MODIFIED:20251125T110955Z
UID:10000568-1765049400-1765062000@www.kuba-juelich.de
SUMMARY:Lametta Sitzung
DESCRIPTION:ausverkauft
URL:https://www.kuba-juelich.de/event/lametta-sitzung-5/
CATEGORIES:Brauchtum
ATTACH;FMTTYPE=image/jpeg:https://www.kuba-juelich.de/wp-content/uploads/2024/11/320169344_5874521222658901_9072085128922403482_n.jpg
END:VEVENT
BEGIN:VEVENT
DTSTART;TZID=Europe/Berlin:20251207T170000
DTEND;TZID=Europe/Berlin:20251207T220000
DTSTAMP:20260424T141827
CREATED:20251125T111129Z
LAST-MODIFIED:20251125T111129Z
UID:10000569-1765126800-1765144800@www.kuba-juelich.de
SUMMARY:Lametta Sitzung
DESCRIPTION:Restkarten gibt es beim Präsidenten:\nhttps://www.thomasbeys.de
URL:https://www.kuba-juelich.de/event/lametta-sitzung-6/
CATEGORIES:Brauchtum
ATTACH;FMTTYPE=image/jpeg:https://www.kuba-juelich.de/wp-content/uploads/2024/11/320169344_5874521222658901_9072085128922403482_n.jpg
END:VEVENT
BEGIN:VEVENT
DTSTART;TZID=Europe/Berlin:20251213T160000
DTEND;TZID=Europe/Berlin:20251213T170000
DTSTAMP:20260424T141827
CREATED:20241220T105651Z
LAST-MODIFIED:20241221T133207Z
UID:10000354-1765641600-1765645200@www.kuba-juelich.de
SUMMARY:PLANSCHEMALÖÖR
DESCRIPTION:KINDER-Weihnachtsplansch \nAm 13. Dezember 2025 gibt es nach dem erfolgreichen Startschuss in 2024 wieder einen Kinder-Weihnachtsplansch in Jülich! Und auch dieses Jahr nehmen Euch die Planschis wieder mit auf eine große\, weihnachtliche Abenteuerreise. Also\, packt Eure Eltern ein und kommt vorbei!\nWird es schön? \nJa\, es wird schön 🙂 \nWir freuen uns sehr auf euch\, Eure Planschis. \nWichtig: Kinder können nur in Begleitung von einem Erziehungsberechtigten kommen.
URL:https://www.kuba-juelich.de/event/planschemaloeoer-3/
CATEGORIES:Konzert
ATTACH;FMTTYPE=image/jpeg:https://www.kuba-juelich.de/wp-content/uploads/2024/12/w4HyBgpe.jpg
END:VEVENT
BEGIN:VEVENT
DTSTART;TZID=Europe/Berlin:20251213T200000
DTEND;TZID=Europe/Berlin:20251213T200000
DTSTAMP:20260424T141827
CREATED:20241220T105819Z
LAST-MODIFIED:20241221T133305Z
UID:10000355-1765656000-1765656000@www.kuba-juelich.de
SUMMARY:PLANSCHEMALÖÖR
DESCRIPTION:Weihnachtsplansch \n\nAm 13.Dezember spielt Planschemalöör ihren legendären „Weihnachtsplansch“ zum zweiten Mal im Kulturbahnhof in Jülich!\nDabei garantieren die vier Kölner Jungs in Badehosen eine Mischung aus Besinnlichkeit und dem ganz normalen Plansche-Wahnsinn.\nDer Weihnachtsplansch ist wie ein dicker Komödien-Blockbuster aus den 2000er Jahren:\nLustig\, romantisch und ein Fest für die ganze Familie!
URL:https://www.kuba-juelich.de/event/planschemaloeoer-4/
CATEGORIES:Konzert
ATTACH;FMTTYPE=image/png:https://www.kuba-juelich.de/wp-content/uploads/2024/01/plansche_abend.png
END:VEVENT
BEGIN:VEVENT
DTSTART;TZID=Europe/Berlin:20251214T160000
DTEND;TZID=Europe/Berlin:20251214T190000
DTSTAMP:20260424T141827
CREATED:20250922T125746Z
LAST-MODIFIED:20251124T130141Z
UID:10000511-1765728000-1765738800@www.kuba-juelich.de
SUMMARY:RABAUE – Weihnachtsshow 2025 - FÄLLT AUS
DESCRIPTION:Die Veranstaltung fällt leider aus. Bereits erworbene Tickets werden automatisch rückerstattet. \nKomm ein bißchen mit nach Italien…\nWeihnachten bei Familie Quanz! \nSchon seit 11 Jahren touren die Rabaue mit ihrer Weihnachtsshow durchs Rheinland und haben sich mit den Figuren des Prinzenführers\, Adjutant Schuster und der Familie Quanz mittlerweile Kultstatus erarbeitet. \nGekonntes Chaos\, immer wieder Rabaue Weihnachtslieder und kleine musikalische Ausﬂüge in den Karneval garantieren einen unvergesslichen Abend\, bei dem kein Auge trocken bleibt. \nAuch in diesem Jahr wollen die Rabaue wieder eine nicht so ganz besinnliche Weihnachtszeit mit Euch feiern.
URL:https://www.kuba-juelich.de/event/rabaue-weihnachtsshow-2025/
CATEGORIES:Konzert
ATTACH;FMTTYPE=image/jpeg:https://www.kuba-juelich.de/wp-content/uploads/2025/09/rabaue1.jpg
END:VEVENT
BEGIN:VEVENT
DTSTART;TZID=Europe/Berlin:20251217T170000
DTEND;TZID=Europe/Berlin:20251217T210000
DTSTAMP:20260424T141827
CREATED:20251111T135624Z
LAST-MODIFIED:20251111T161724Z
UID:10000563-1765990800-1766005200@www.kuba-juelich.de
SUMMARY:Tomorrow – Film & Dialog für eine Region im Wandel
DESCRIPTION:Im Rahmen der Reihe „indeland im Gespräch“ lädt die indeland GmbH am Mittwoch\, 17. Dezember 2025\, ab 17 Uhr zu einem Filmabend im KuBa – KulturBahnhof Jülich ein. Gezeigt wird der vielfach ausgezeichnete Dokumentarfilm „Tomorrow – Die Welt ist voller Lösungen“\, der zeigt\, wie Men-schen weltweit aktiv werden\, um ökologische und soziale Herausforderungen mit kreativen Ideen anzugehen.\nIm Anschluss an den Film berichten Akteurinnen und Akteure aus dem Rheinischen Revier auf dem Podium\, wie sie in ihren Projekten und Initiativen nachhaltige Lösungen entwickeln – von der Ener-gie- und Landwirtschaft über Bildung bis hin zu neuen Formen des Zusammenlebens. Der regionale Bezug macht deutlich: Auch im indeland entstehen bereits heute viele Wege in eine lebenswerte Zukunft. Danach gibt es Gelegenheit zum offenen Gespräch und zur Vernetzung bei Getränken und kleinen Snacks. \nDer Eintritt ist frei\, eine Anmeldung ist nicht zwingend erforderlich\, aber mit der Anmeldung sichern Sie sich ein Ticket\, da die Teilnehmerzahl begrenzt ist.  \nLink zur Anmeldung:\nhttps://beteiligung.nrw.de/k/1019046.  \nProgramm:\nab 17.00 Uhr Einlass\n17.30 Uhr Begrüßung und kurze Einführung in den Film\n18.00 Uhr Beginn der Filmvorführung\n20.00 Uhr Podiumsgespräch\nab 20.45 Uhr Gemütlicher Ausklang mit Snacks und Getränken \nAuf der Webseite zum Film sind weitere Informationen zu finden.\nFSK 0\, Laufzeit 118 Minuten
URL:https://www.kuba-juelich.de/event/tomorrow-film-dialog-fuer-eine-region-im-wandel/
CATEGORIES:Sonstiges
ATTACH;FMTTYPE=image/jpeg:https://www.kuba-juelich.de/wp-content/uploads/2025/11/tomorrow_plakat_din-a4-001.jpg
END:VEVENT
BEGIN:VEVENT
DTSTART;TZID=Europe/Berlin:20251223T210000
DTEND;TZID=Europe/Berlin:20251223T230000
DTSTAMP:20260424T141827
CREATED:20251023T095752Z
LAST-MODIFIED:20251217T091736Z
UID:10000551-1766523600-1766530800@www.kuba-juelich.de
SUMMARY:x-mas coming home party
DESCRIPTION:Die Veranstaltung ist ausverkauft. \n+++2 Areas+++DJ Buto mit 80s/90s & Party Classics+++DJ John Brisby mit Charts\, Rock und Party Hits+++ \nEinlass: 21 Uhr \nEinlass ab 18 Jahre
URL:https://www.kuba-juelich.de/event/x-mas-coming-home-party-3/
CATEGORIES:Party
ATTACH;FMTTYPE=image/jpeg:https://www.kuba-juelich.de/wp-content/uploads/2025/10/251002_KuBa_xmas_Cominghome-Party_WEB.jpg
END:VEVENT
END:VCALENDAR