BEGIN:VCALENDAR
VERSION:2.0
PRODID:-//KuBa Jülich - ECPv6.2.9//NONSGML v1.0//EN
CALSCALE:GREGORIAN
METHOD:PUBLISH
X-WR-CALNAME:KuBa Jülich
X-ORIGINAL-URL:https://www.kuba-juelich.de
X-WR-CALDESC:Veranstaltungen für KuBa Jülich
REFRESH-INTERVAL;VALUE=DURATION:PT1H
X-Robots-Tag:noindex
X-PUBLISHED-TTL:PT1H
BEGIN:VTIMEZONE
TZID:Europe/Berlin
BEGIN:DAYLIGHT
TZOFFSETFROM:+0100
TZOFFSETTO:+0200
TZNAME:CEST
DTSTART:20240331T010000
END:DAYLIGHT
BEGIN:STANDARD
TZOFFSETFROM:+0200
TZOFFSETTO:+0100
TZNAME:CET
DTSTART:20241027T010000
END:STANDARD
END:VTIMEZONE
BEGIN:VEVENT
DTSTART;TZID=Europe/Berlin:20241201T190000
DTEND;TZID=Europe/Berlin:20241201T190000
DTSTAMP:20260424T151229
CREATED:20240124T114952Z
LAST-MODIFIED:20240124T114952Z
UID:10000153-1733079600-1733079600@www.kuba-juelich.de
SUMMARY:MILJÖ MITSING-TOUR 2024
DESCRIPTION:Alle Jahre wieder\, wenn es draußen kalt und ungemütlich wird\, ziehen MILJÖ musikalisch blank und laden zum Unplugged-Abend in ihr rollendes Wohnzimmer. Die fünf Jungs vom „Ö de Cologne„\, die schon seit der Schulzeit zusammen Musik machen\, haben sich im letzten Jahrzehnt an die Spitze des kölschen Musikkosmos gespielt und sich über die Stadtgrenzen hinaus einen Namen gemacht. In der Kommodenschublade haben sie alle bekannten Hits aus 12 Jahren Bandgeschichte\, nicht selten verpackt in neuen musikalischen Gewändern quer durch alle Stilrichtungen. Ihre ausgestöpselten Mitsing-Abende zeichnen sich durch handgemachte Töne\, hohen Mitsingfaktor\, Heimatliebe und eine gesunde Prise Humor aus. Textheft inklusive.“ \nTeilbestuhlte Veranstaltung ohne Sitzplatzanspruch. \n 
URL:https://www.kuba-juelich.de/event/miljoe-mitsing-tour-2024/
CATEGORIES:Konzert
ATTACH;FMTTYPE=image/jpeg:https://www.kuba-juelich.de/wp-content/uploads/2024/01/MILJOE__Unplugged__2024__Feed_ohne_dates_v1.jpg
END:VEVENT
BEGIN:VEVENT
DTSTART;TZID=Europe/Berlin:20241204T170000
DTEND;TZID=Europe/Berlin:20241204T190000
DTSTAMP:20260424T151229
CREATED:20241127T163737Z
LAST-MODIFIED:20241127T163737Z
UID:10000326-1733331600-1733338800@www.kuba-juelich.de
SUMMARY:Wie Engel fliegen lernen
DESCRIPTION:Familientheater zu Weihnachten \nAm Mittwoch\, den 04.12.2024 um 17:00 Uhr gastiert das BrilLe Theater mit seinem Stück „Wie Engel fliegen lernen “ im Kulturbahnhof in Jülich. Das Familienstück ist für Klein und Groß ab 4 Jahren geeignet. \nEin Engel sucht den wahren Grund von Weihnachten \nAuf der Erde geschehen auf einmal seltsame Dinge. Die Menschen hängen überall Schnüre mit kleinen Lämpchen auf\, essen Süßigkeiten\, bis ihnen schlecht ist und packen lauter Sachen in buntes Papier ein. Der Engel Bauz versteht das alles nicht und fragt Gott. „Die Menschen feiern Weihnachten.“ Aha\, aber was ist das? Da Bauz ein Jungengel ist und noch nicht fliegen kann\, verspricht Gott ihm Flügel\, sollte er herausfinden\, was Weihnachten ist. Auf der Suche nach einer Antwort „plumpst“ der Engel an verschiedene Orte und nimmt jedes Mal eine Antwort mit zurück in den Himmel. Doch leider liegt er damit nicht immer ganz richtig… \n„Wie Engel fliegen lernen“ ist ein kurzweiliges Theater für Kinder und Erwachsene\, bei dem – ganz nebenbei – unsere kulturell verankerten Bräuche und Weihnachtsrituale als von Menschen erdacht erklärt und vom eigentlichen Sinn\, der Geburt Jesus\, unterschieden werden. \nVVK: Kinder 6 € | Erwachsene 8 € | Tickets sind bei der Buchhandlung Thalia Jülich und online.
URL:https://www.kuba-juelich.de/event/wie-engel-fliegen-lernen/
CATEGORIES:Kleinkunst
ATTACH;FMTTYPE=image/jpeg:https://www.kuba-juelich.de/wp-content/uploads/2024/11/engel_danaschmidt.jpg
END:VEVENT
BEGIN:VEVENT
DTSTART;TZID=Europe/Berlin:20241206T200000
DTEND;TZID=Europe/Berlin:20241206T230000
DTSTAMP:20260424T151229
CREATED:20241127T164656Z
LAST-MODIFIED:20241127T164817Z
UID:10000327-1733515200-1733526000@www.kuba-juelich.de
SUMMARY:Lametta Sitzung
DESCRIPTION:ausverkauft
URL:https://www.kuba-juelich.de/event/lametta-sitzung/
CATEGORIES:Brauchtum
ATTACH;FMTTYPE=image/jpeg:https://www.kuba-juelich.de/wp-content/uploads/2024/11/320169344_5874521222658901_9072085128922403482_n.jpg
END:VEVENT
BEGIN:VEVENT
DTSTART;TZID=Europe/Berlin:20241207T193000
DTEND;TZID=Europe/Berlin:20241207T230000
DTSTAMP:20260424T151229
CREATED:20241127T164907Z
LAST-MODIFIED:20241127T164907Z
UID:10000328-1733599800-1733612400@www.kuba-juelich.de
SUMMARY:Lametta Sitzung
DESCRIPTION:ausverkauft
URL:https://www.kuba-juelich.de/event/lametta-sitzung-2/
CATEGORIES:Brauchtum
ATTACH;FMTTYPE=image/jpeg:https://www.kuba-juelich.de/wp-content/uploads/2024/11/320169344_5874521222658901_9072085128922403482_n.jpg
END:VEVENT
BEGIN:VEVENT
DTSTART;TZID=Europe/Berlin:20241208T170000
DTEND;TZID=Europe/Berlin:20241208T220000
DTSTAMP:20260424T151230
CREATED:20241127T164950Z
LAST-MODIFIED:20241127T164950Z
UID:10000329-1733677200-1733695200@www.kuba-juelich.de
SUMMARY:Lametta Sitzung
DESCRIPTION:ausverkauft
URL:https://www.kuba-juelich.de/event/lametta-sitzung-3/
CATEGORIES:Brauchtum
ATTACH;FMTTYPE=image/jpeg:https://www.kuba-juelich.de/wp-content/uploads/2024/11/320169344_5874521222658901_9072085128922403482_n.jpg
END:VEVENT
BEGIN:VEVENT
DTSTART;TZID=Europe/Berlin:20241214T160000
DTEND;TZID=Europe/Berlin:20241214T170000
DTSTAMP:20260424T151230
CREATED:20240124T104547Z
LAST-MODIFIED:20240124T104547Z
UID:10000150-1734192000-1734195600@www.kuba-juelich.de
SUMMARY:PLANSCHEMALÖÖR
DESCRIPTION:KINDER-Weihnachtsplansch \nAm 14. Dezember 2024 gibt es endlich auch einen Kinder-Weihnachtsplansch in Jülich! Es wird getanzt\, gesungen und natürlich geplanscht. Euch erwartet eine bunte Mischung aus Weihnachtsliedern und Planschemalöör-Songs. \nUnd das Beste ist: Alle Erwachsenen dürfen auch dabei sein\, müssen aber hinten stehen\, denn bei diesem Konzert sind die Kinder an der Macht. Also packt eure ganze Familie (und Kekse) ein und schwingt mit uns das Tanzbein. \nWird es schön? \nJa\, es wird schön 🙂 \nWir freuen uns sehr auf euch\, Eure Planschis. \nWichtig: Kinder können nur in Begleitung von einem Erziehungsberechtigten kommen.
URL:https://www.kuba-juelich.de/event/planschemaloeoer/
CATEGORIES:Konzert
ATTACH;FMTTYPE=image/jpeg:https://www.kuba-juelich.de/wp-content/uploads/2024/01/plansche_kinder.jpg
END:VEVENT
BEGIN:VEVENT
DTSTART;TZID=Europe/Berlin:20241214T200000
DTEND;TZID=Europe/Berlin:20241214T200000
DTSTAMP:20260424T151230
CREATED:20240124T110514Z
LAST-MODIFIED:20240124T110514Z
UID:10000152-1734206400-1734206400@www.kuba-juelich.de
SUMMARY:PLANSCHEMALÖÖR
DESCRIPTION:Weihnachtsplansch \n\nAm 14.Dezember spielt Planschemalöör ihren legendären „Weihnachtsplansch“ zum ersten Mal im Kulturbahnhof in Jülich! Dabei garantieren die vier Kölner Jungs in Badehosen eine Mischung aus Besinnlichkeit und dem ganz normalen Plansche-Wahnsinn. \nDer Weihnachtsplansch ist wie ein dicker Komödien-Blockbuster aus den 2000er Jahren: Lustig\, romantisch und ein Fest für die ganze Familie!
URL:https://www.kuba-juelich.de/event/planschemaloeoer-2/
CATEGORIES:Konzert
ATTACH;FMTTYPE=image/png:https://www.kuba-juelich.de/wp-content/uploads/2024/01/plansche_abend.png
END:VEVENT
BEGIN:VEVENT
DTSTART;TZID=Europe/Berlin:20241221T170000
DTEND;TZID=Europe/Berlin:20241221T235900
DTSTAMP:20260424T151230
CREATED:20240916T113034Z
LAST-MODIFIED:20241122T101432Z
UID:10000282-1734800400-1734825540@www.kuba-juelich.de
SUMMARY:10. Jülichsampler Releaseparty
DESCRIPTION:RELEASEPARTY JÜLICHSAMPLER X im Kulturbahnhof Jülich \nAm Samstag\, 21.12.2024 steigt im Kulturbahnhof die Releaseparty des  Jülichsamplers X.\nBereits Anfang der 80er Jahre erkannten Kalle Hommelsheim und Winnes Rademächers das musikalische Potential Jülichs und bündelten Bands auf dem 1. und 2. Jülichsampler auf Kassette. Dann war lange Funkstille\, bis Markus Uhlenbruck und Cornel Cremer sich 1998 in den Kopf gesetzt haben diese großartige Sache wieder aufleben zu lassen. Sie veröffentlichten 1998 den 3. Jülichsampler. 2001\, 2004\, 2007\, 2010\, 2013  und 2017 folgten dann die Nummern 4-9\nNun ist es nach längerer Pause endlich wieder soweit! Der 10. Jülichsampler: Jülichsapler X steht vor der Veröffentlichung.\nMan hat es wieder geschafft 14 Bands aus dem Raum Jülich zu mobilisieren\, einen eigenen und vor allem exklusiven Song für den 10. Jülichsampler zu komponieren und aufzunehmen.\nFolgende Bands sind auf dem Sampler vertreten: clAudyo\, Dead Bees In Bourbon\, DreaMachine\, Embrace the Silence\, Forger\, GL3IS\, L.D. Stardust and the Ziggys from Mars\, Les 6 Kölsch 1 Cola\, Miss Resis\, Mokkafurchen\, Pohl\, Psycho Luna\, SpellOtones und die WEB Liveband. \nDie Releaseparty mit fast allen Sampler Bands findet am Samstag\, 21.12.2024 ab 17:00 Uhr im Kulturbahnhof Jülich statt. Einlass ist um 16:30 Uhr. \nZur Aftershowparty legen DJ Chris und DJ Buto auf. \nTickets gibt es ab sofort im Vorverkauf für 9\,99 € zzgl. Gebühren oder für 15 € an der Abendkasse.
URL:https://www.kuba-juelich.de/event/10-juelichsampler-releaseparty/
CATEGORIES:Konzert
ATTACH;FMTTYPE=image/jpeg:https://www.kuba-juelich.de/wp-content/uploads/2024/09/Plakat_10_juel_sampler_a2_bands_final_s.jpg
END:VEVENT
BEGIN:VEVENT
DTSTART;TZID=Europe/Berlin:20241223T210000
DTEND;TZID=Europe/Berlin:20241223T230000
DTSTAMP:20260424T151230
CREATED:20241106T144416Z
LAST-MODIFIED:20241223T153720Z
UID:10000309-1734987600-1734994800@www.kuba-juelich.de
SUMMARY:x-mas coming home party
DESCRIPTION:Keine Tickets mehr verfügbar. \n+++2 Areas+++DJ Buto mit 80s/90s & Party Classics+++DJ John Brisby mit Charts\, Rock und Party Hits+++ \nEinlass: 21 Uhr+++Happy Hour von 21-22 Uhr \nEinlass ab 18 Jahre
URL:https://www.kuba-juelich.de/event/x-mas-coming-home-party-2/
CATEGORIES:Party
ATTACH;FMTTYPE=image/jpeg:https://www.kuba-juelich.de/wp-content/uploads/2024/11/241005_Kuba_xmas-Cominghome-Party_WEB.jpg
END:VEVENT
END:VCALENDAR