BEGIN:VCALENDAR
VERSION:2.0
PRODID:-//KuBa Jülich - ECPv6.2.9//NONSGML v1.0//EN
CALSCALE:GREGORIAN
METHOD:PUBLISH
X-WR-CALNAME:KuBa Jülich
X-ORIGINAL-URL:https://www.kuba-juelich.de
X-WR-CALDESC:Veranstaltungen für KuBa Jülich
REFRESH-INTERVAL;VALUE=DURATION:PT1H
X-Robots-Tag:noindex
X-PUBLISHED-TTL:PT1H
BEGIN:VTIMEZONE
TZID:Europe/Berlin
BEGIN:DAYLIGHT
TZOFFSETFROM:+0100
TZOFFSETTO:+0200
TZNAME:CEST
DTSTART:20240331T010000
END:DAYLIGHT
BEGIN:STANDARD
TZOFFSETFROM:+0200
TZOFFSETTO:+0100
TZNAME:CET
DTSTART:20241027T010000
END:STANDARD
END:VTIMEZONE
BEGIN:VEVENT
DTSTART;TZID=Europe/Berlin:20240913T180000
DTEND;TZID=Europe/Berlin:20240913T230000
DTSTAMP:20260424T155933
CREATED:20240903T091311Z
LAST-MODIFIED:20240903T192929Z
UID:10000268-1726250400-1726268400@www.kuba-juelich.de
SUMMARY:KuBa Biergarten Closing
DESCRIPTION:Als Ersatz für das Schüttelfestchen findet heute das KuBa Biergarten Closing statt.\nPräsident Thomas Beys sorgt den ganzen Abend für Stimmung und gute Laune im Biergarten. \nLos geht’s ab 19 Uhr mit DJ Buto\, der für die entsprechende musikalische Unterhaltung sorgt.\nGegen 20 Uhr gibt es dann eine Stunde Live Musik und Kölsche Tön von und mit der Band Raderdoll. \nIm Anschluss geht’s in der Kneipe weiter mit DJ Buto. Die Tanzfläche ist eröffnet! \nDer Biergarten öffnet schon um 18 Uhr. \nWir freuen uns auf einen tollen Abend mit euch!
URL:https://www.kuba-juelich.de/event/kuba-biergarten-closing/
CATEGORIES:Konzert,Party
ATTACH;FMTTYPE=image/jpeg:https://www.kuba-juelich.de/wp-content/uploads/2024/09/KuBa_Biergarten-scaled.jpg
END:VEVENT
BEGIN:VEVENT
DTSTART;TZID=Europe/Berlin:20240913T190000
DTEND;TZID=Europe/Berlin:20240913T230000
DTSTAMP:20260424T155933
CREATED:20240619T134906Z
LAST-MODIFIED:20240903T091700Z
UID:10000240-1726254000-1726268400@www.kuba-juelich.de
SUMMARY:Schüttelfestchen Open Air
DESCRIPTION:DIE VERANSTALTNG FINDET SO NICHT STATT. Leider sind zu wenige Tickets verkauft.\nEs gibt aber eine Alternativ-Veranstaltung: KuBa Biergarten Closing mit Live Musik von Raderdoll und DJ Buto.\nDer ursprüngliche Ticketpreis wird erstattet\, bzw. bei Wunsch auf das Biergarten Closing angerechnet.\nTicket Erstattung am 13.09. vor Ort ab 18 Uhr. Sollte dies nicht möglich sein bitte mit dem KuBa-Büro Kontakt aufnehmne.\ninfo@kuba-juelich.de oder  02461-346643. \nSCHÜTTELFESTCHEN BIERGARTEN OPEN AIR \nNach einem Jahr Pause findet am 13. September nun endlich die dritte Auflage vom sogenannten „Schüttelfest“ statt. In diesem Jahr in der abgewandelten Variante im gemütlichen KuBa-Biergarten und daher unter dem neuen Namen „Schüttelfestchen“. \nDie besondere Open-Air Atmosphäre im Biergarten hinter dem Jülicher Kulturbahnhof verspicht bei einem hoffentlich lauen Sommerabend einen unterhaltsamen Abend bei Musik und kühlen Getränken. \nFür das musikalische Programm sorgen die bekannten Kölner Bands Kempes Feinest und Bel Air. Abgerundet wird der Abend mit kölschen Tönen von der Band Raderdoll. \nNatürlich hat auch Präsident Thomas Beys einige Überraschungen für das „Schüttelfestchen“ Publikum geplant. \nWenn Kempes Feinest die Bühne entert\, wird es bunt und laut. Die 5 Musiker um Frontfrau Nici sprühen vor Lebensfreude und stecken mit dieser unbändigen Energie ihr Publikum an. \nKempes Feinest verbinden die Liebe zur kölschen Sprache mit einem frechen musikalischen Mix aus Pop\, Rock\, Ska & Latin. Sie erschaffen daraus ganz eigene Songs zum Tanzen und Balladen zum Schunkeln – Musik\, die berührt und ins Ohr geht. \nPoppig-rockige Nummern wie “Verbeeje” oder “Wenn du nit danze kanns” wechseln sich munter mit emotionalen Parts wie “Naach verdreive” oder “Mädche vum Rhing” ab – da bleibt niemand still sitzen und kein Auge trocken. \nDie fünf Jungs von Bel Air haben sich Ende 2021 gegründet und sind voller ansteckender Energie. Mit ihren Singles „Konfetti in der Luff“ oder „Dat nächste Kölsch“ wird sofort klar wofür sie stehen: frische\, tanzbare Pop/Rockmusik mit Texten\, die man sofort mitsingen kann.\n100% kölsches Feeling!\n100% unbeschwerte Euphorie die begeistert! \nNach der Live Musik ist vor der Party mit DJ Buto. In der Kneipe wird bis tief in die Nacht weitergefeiert. \nDas „Schüttelfestchen“ findet am Freitag\, den 13.09.2024 im KuBa-Biergarten in Jülich statt.  \nEinlass ist ab 18 Uhr und Beginn ab 19 Uhr. \nDie Tickets gibt es ab sofort im KuBa-Kiosk.
URL:https://www.kuba-juelich.de/event/schuettelfestchen/
CATEGORIES:Konzert
ATTACH;FMTTYPE=image/jpeg:https://www.kuba-juelich.de/wp-content/uploads/2024/06/240612_Schuettelfestchen_Plakat_WEB_ausfall.jpg
END:VEVENT
BEGIN:VEVENT
DTSTART;TZID=Europe/Berlin:20240915T150000
DTEND;TZID=Europe/Berlin:20240915T170000
DTSTAMP:20260424T155933
CREATED:20240902T100303Z
LAST-MODIFIED:20240902T100303Z
UID:10000267-1726412400-1726419600@www.kuba-juelich.de
SUMMARY:Torazón  –  Raed Koshaba & Uruk-Ensemble
DESCRIPTION:Kultur ohne Grenzen präsentiert: \nOrient triftt Flamenco\nTorazón  –  Raed Koshaba & Uruk-Ensemble\nam Sonntag\, den 15.9.2024\, Kulturbahnhof Jülich \nDas Quartett Torazón singt und spielt Weltmusik\, die die verschiedenen Einflüsse der traditionellen spanischen Musik widerspiegelt. Dazu gehören der Flamenco\, der seine Wurzeln teilweise in der arabischen Musik hat\, sowie die südamerikanische Musik\, bei der Spanien und Südamerika sich über die Jahrhunderte gegenseitig beeinflusst haben. Ein drittes Element des Repertoires sind die Lieder\, die bis heute von den Nachfahren der sephardischen Juden in aller Welt lebendig gehalten werden. Der atmosphärische Klang von Torazón wird geprägt durch die ungewöhnliche Kombination von Flamencogitarre\, Violine und expressivem Gesang. \nDen zweiten Teil des Doppelkonzerts bestreiten Raed Koshaba und das Uruk-Ensemble. Raed stammt aus dem Irak und ist Oud-Virtuose. Sein Projekt Uruk-Ensemble besteht aus sechs Musikerinnen und Musikern aus verschiedenen musikalischen Traditionen: Oud\, Flamenco-Gitarre\, Jazz-Gitarre\, Flöte\, klassische Harfe und orientalische Percussion. Die Musiker spielen Raeds Kompositionen\, in die neben ihrem orientalischen Ursprung Elemente des Flamencos\, südamerikanische Rhythmen\, jazzige Akkorde und freie Improvisationen einfließen. \nZu erleben ist ein einzigartiges Konzert mit zwei Ensembles\, die zum ersten Mal gemeinsam auf einer Veranstaltung musizieren werden. \nEintritt frei – Die Musiker freuen sich jedoch über eine Spende
URL:https://www.kuba-juelich.de/event/torazon-raed-koshaba-uruk-ensemble/
CATEGORIES:Konzert
ATTACH;FMTTYPE=image/jpeg:https://www.kuba-juelich.de/wp-content/uploads/2024/09/Torazon-Foto-A.Meyen_.jpg
END:VEVENT
BEGIN:VEVENT
DTSTART;TZID=Europe/Berlin:20240920T200000
DTEND;TZID=Europe/Berlin:20240920T233000
DTSTAMP:20260424T155933
CREATED:20240828T092058Z
LAST-MODIFIED:20240828T092313Z
UID:10000266-1726862400-1726875000@www.kuba-juelich.de
SUMMARY:Klare Kante
DESCRIPTION:Am Freitag\, 20. September 2024 heißt es ab 20 Uhr „Klare Kante!“ im Jülicher Kulturbahnhof\, wenn die 3 Bands Männi\, Magawa und Fluegge die Bühne in der KuBa Kneipe rocken. \nMänni: Melancholischer Punkrock aus Aachen\nDeutschsprachiger Punkrock mit viel Melancholie und Witz. Manchmal tiefgründig\, oft\npolitisch\, raue Stimme\, weicher Kern. Songs über die Freude am Scheitern und dem Drang\nalles verändern zu wollen\, für alle die auch nicht klar kommen und mit Dreck\, Müll\, Chaos in einer durchzechten Nacht etwas anfangen können. Kratzig\, rotzig\, einfühlsam. \nMagawa\nFür alle Fans von Dÿse\, Nina Hagen\, Rage Against the Machine\, Dead Kennedys und Patty Smith.  Die drei Mitte 20-ährigen muss man vielleicht nicht gesehen\, aber gehört haben. Gitarre\, Bass\, Schlagzeug und drei Stimmen demonstrieren\, wie Liebe machen bei 105 Dezibel klingt. \nFluegge – Punkrock\, Indie und Emo mit Herz\nFluegge ist deutschsprachiger Punkrock\, der zwischen Melancholie und Energie pendelt. Die Band kombiniert rauen Punk mit den nachdenklichen Tönen von Indie und Emo – eine Mischung\, die tief geht und bewegt. Ihre Texte sind nachdenklich und oft politisch\, getrieben vom Wunsch nach Gerechtigkeit und dem Drang\, etwas in der Welt zu verändern. Gleichzeitig finden sich in ihrer Musik aber auch die kleinen Geschichten des Alltags\, die uns alle berühren: persönliche Krisen\, gesellschaftliche Beobachtungen und der ewige Kampf\, gegen sich selbst.
URL:https://www.kuba-juelich.de/event/klare-kante/
CATEGORIES:Konzert
ATTACH;FMTTYPE=image/jpeg:https://www.kuba-juelich.de/wp-content/uploads/2024/08/240826_Kuba_Konzert-KlareKante-Webplakat.jpg
END:VEVENT
BEGIN:VEVENT
DTSTART;TZID=Europe/Berlin:20240925T193000
DTEND;TZID=Europe/Berlin:20240925T213000
DTSTAMP:20260424T155933
CREATED:20240918T074603Z
LAST-MODIFIED:20240918T074603Z
UID:10000283-1727292600-1727299800@www.kuba-juelich.de
SUMMARY:Carlina Flores – Agustin Luna
DESCRIPTION:Kultur ohne Grenzen präsentiert: Gitarrenklang aus Südamerika \nCarlina Flores ist Gitarristin und stammt aus Venezuela. Sie begann ihr Musikstudium im Alter von sieben Jahren und spielte das venezolanische Cuatro. Nach ihrer mit Auszeichnung abgeschlossenen akademischen Ausbildung spielte sie als Gastgitarristin zusammen mit den wichtigsten Symphonieorchestern Venezuelas. Sie gewann erste Preise bei zahlreichen Gitarrenwettbewerben ihres Landes und spielte auf mehreren internationalen Gitarrenfestivals in Europa. Ihren Master of Music\, Fachrichtung klassische Gitarre\, absolvierte sie an der Hochschule für Musik und Tanz in Köln. Parallel zu ihren musikalischen Projekten arbeitet sie als Dozentin für Gitarre und als Ensembleleiterin an mehreren Musikschulen in Köln und Hennef.   \nDer argentinische Gitarrist Agustín Luna hat ein Gespür für die subtilen Signale verschiedener musikalischer Sprachen. Er verfügt über eine bewundernswerte Technik\, die die Ressourcen der klassischen Gitarre mit populären Melodien zu einer   eigenen Klangentwicklung verbindet. Sein polyphoner Umgang mit der Gitarre führt bei seinen Kompositionen und Arrangements zu einer einzigartigen Kreativität. Aufgrund seines intensiven Studiums des klassischen Repertoires sind die Einflüsse von Komponisten wie Bach\, Villa Lobos und anderen wahrzunehmen\, schon einmal vermischt mit einem Tango oder einem folkloristischen Stück. Agustín ist Virtuosität\, Sensibilität und Emotion. \nZu erleben ist ein einzigartiges Konzert mit zwei Gitarristen\, die zum ersten Mal gemeinsam auf einer Veranstaltung musizieren werden. \nVeranstaltungsort: Kulturbahnhof\, Bahnhofstr. 13\, 52428 Jülich\nBeginn: 25.09.2024\, 19:30 Uhr – Einlass ab 19:00 Uhr\nEintritt frei – Die Musiker freuen sich jedoch über eine Spende \nVeranstalter: Kultur ohne Grenzen e.V.
URL:https://www.kuba-juelich.de/event/carlina-flores-agustin-luna/
CATEGORIES:Konzert
ATTACH;FMTTYPE=image/jpeg:https://www.kuba-juelich.de/wp-content/uploads/2024/09/Agustin-Luna.jpg
END:VEVENT
BEGIN:VEVENT
DTSTART;TZID=Europe/Berlin:20240927T200000
DTEND;TZID=Europe/Berlin:20240927T200000
DTSTAMP:20260424T155933
CREATED:20240325T125156Z
LAST-MODIFIED:20240927T143113Z
UID:10000193-1727467200-1727467200@www.kuba-juelich.de
SUMMARY:Lagerfeuer Trio
DESCRIPTION:AUSVERKAUFT! \nWas soll man schreiben zu einer Band\, deren Zählwerk nach 18 Jahren in unveränderter Besetzung über 800 Konzerte anzeigt? Vielleicht lässt man am besten die zahlreichen treuen Wiederholungstäter*innen zu Wort kommen\, die das Publikum regelmäßig zum „vierten Bandmitglied“ werden lassen: „Ich hab sie so oft gehört\, aber jedes mal bin ich wieder komplett von den Socken“ „Beste Kombi aus Können\, Humor und großer Klappe\, die ich kenne“ „Unfassbare Liveband\, von geil bis schräg und zurück in Sekunden\, und dann die Sprüche…“\, sind nur 3 von zahlreichen ähnlich lautenden Zitaten aus dem virtuellen Poesiealbum des Aachener Trios. \nDer Kern bleibt: Akustikgitarre\, Kontrabass\, Cajon\, 3 Stimmen. Ein wilder Ritt durch die Popgeschichte von ganz früher bis übermorgen\, Ohrwürmer\, eigentlich unspielbare Kuriositäten und alles dazwischen\, von Abba über Bernstein bis Queen und Bloodhound Gang\, immer unterbrochen von Eigenkompositionen mit Ohrwurmgarantie. Der Rest wird immer wieder neu erfunden und zwar jedesmal\, wenn Bernd\, Yann und Heiko die Bühne entern. So geht live!
URL:https://www.kuba-juelich.de/event/lagerfeuer-trio/
CATEGORIES:Konzert
ATTACH;FMTTYPE=image/jpeg:https://www.kuba-juelich.de/wp-content/uploads/2024/03/plakat-scaled.jpg
END:VEVENT
BEGIN:VEVENT
DTSTART;TZID=Europe/Berlin:20240928T200000
DTEND;TZID=Europe/Berlin:20240928T200000
DTSTAMP:20260424T155933
CREATED:20231213T134502Z
LAST-MODIFIED:20231213T134502Z
UID:10000096-1727553600-1727553600@www.kuba-juelich.de
SUMMARY:BERNHARD HOECKER
DESCRIPTION:Das sechste Soloprogramm von Bernhard Hoëcker läuft sich warm. Der Comedian wird sich wieder um das Wohl der Menschheit kümmern und ihr über seine mentale Trittleiterden Aufstieg erleichtern. Wie sind die Dinge des Lebens eigentlich richtig zu sehen? Gibt es überhaupt ein Richtig oder doch fast eher nur ein Falsch? Was soll das überhaupt alles? Nachhaltig\, vegan oder sprachlos? Fakten legt Bernhard Hoëcker vorher auf sämtliche Prüfsteine und mariniert\, dreht\, seziert und wendet sie auf seinem Geistesgrill. Erst dann wird angerichtet. \nWie steht es eigentlich z.B. um das autonome Fahren? Wird da alles richtig gemacht oder auch ein bisschen falsch? Oder greift da irgendeiner mal gerade so richtig daneben und den Philanthropen gruselt es? Warum verlottert eigentlich unsere Sprache? Oder ist das auch schon wieder nicht richtig? Diesen und so manch anderen Problemen nimmt sich Autopilot Bernhard Hoëcker an\, bevor er sein Publikum damit behelligt\, begeistert und in den freien Fall entlässt. \nEines steht fest: der Key-Influencer aus der Riege des Comedy – Personalsist mit Wissen und Erkenntnis gewappnet. Das darf man sich einfach nicht entgehen lassen und sollte sich unbedingt ein Scheibchen davon abschneiden. \nAm Samstag\, den 28. September 2024 um 20.00 Uhr freut sich Bernard Hoecker das Jülicher Publikum im Kulturbahnhof in Jülich begrüßen zu dürfen. \nStadt Jülich / Kulturbüro | Kulturbahnhof Jülich | Tickets sind bei der Buchhandlung Thalia Jülich und auf der Internetseite des Kulturbüros unter www.juelich.de/kulturbuero erhältlich. VVK: 18\,00 € zzgl. Gebühren | AK: 24\,00 € inkl. Gebühren.
URL:https://www.kuba-juelich.de/event/bernhard-hoecker/
CATEGORIES:Kleinkunst
ATTACH;FMTTYPE=image/png:https://www.kuba-juelich.de/wp-content/uploads/2023/12/bernhard-hoecker_morgenwargesternallesbesser.png
END:VEVENT
END:VCALENDAR