BEGIN:VCALENDAR
VERSION:2.0
PRODID:-//KuBa Jülich - ECPv6.2.9//NONSGML v1.0//EN
CALSCALE:GREGORIAN
METHOD:PUBLISH
X-ORIGINAL-URL:https://www.kuba-juelich.de
X-WR-CALDESC:Veranstaltungen für KuBa Jülich
REFRESH-INTERVAL;VALUE=DURATION:PT1H
X-Robots-Tag:noindex
X-PUBLISHED-TTL:PT1H
BEGIN:VTIMEZONE
TZID:Europe/Berlin
BEGIN:DAYLIGHT
TZOFFSETFROM:+0100
TZOFFSETTO:+0200
TZNAME:CEST
DTSTART:20260329T010000
END:DAYLIGHT
BEGIN:STANDARD
TZOFFSETFROM:+0200
TZOFFSETTO:+0100
TZNAME:CET
DTSTART:20261025T010000
END:STANDARD
END:VTIMEZONE
BEGIN:VEVENT
DTSTART;TZID=Europe/Berlin:20261003T200000
DTEND;TZID=Europe/Berlin:20261003T220000
DTSTAMP:20260424T173633
CREATED:20250618T095454Z
LAST-MODIFIED:20260203T164820Z
UID:10000468-1791057600-1791064800@www.kuba-juelich.de
SUMMARY:Martin Schopps - „Elternabend“ – Wenn Schule zur Comedy-Show wird!
DESCRIPTION:Die Veranstaltung ist ausverkauft. \nEin Abend der alles ans Licht bringt\, was Eltern und Lehrer im Wahnsinn vereint –\nVon überbehütenden Planierraupen-Eltern\, die ihren Kindern die Hausaufgaben in der großen Pause mit dem SUV fertiggeschrieben auf den Schulhof bringen\, von Schülern\, die das Klassenzimmer Dank Wape und Shisha nicht nur geistig vernebeln\, bis hin zu weichgespülten Kollegen\, die an alldem im pädagogischen Kuschelmodus bei einer Flasche Rotwein selbstbewusst und grandios scheitern.\nWer erinnert sich noch an die Schule von früher? Als noch der Schulzahnarzt kam und nicht der Schul-Tätowierer?\nAls der Lehrer noch mit feuchter Kreide geworfen und ohne Rechtsbeistand die Noten laut vorgelesen hat? Als der Schulfotograf noch ohne Erlaubnis der Eltern ein Gruppenfoto schiessen durfte und die Schüler\, die Hausaufgaben noch selber abschreiben mussten?\nAls Eltern den Lehrer noch nicht in ElternWhatsApp-Gruppen in denWahnsinn getrieben haben – Sondern im ganz normalen Leben? \nUnd wie wird es in Zukunft sein?\nWird es KI-Lehrer geben? Und wenn ja\, werden die wie ihre Vorgänger Probleme mit dem Update bekommen? \nPointenreich\, mit ungeheurem Sprachwitz und immer auf den Punkt – so ist der „Elternabend“ mit Martin Schopps. Ein Abend voller Humor\, Erinnerungen und Zukunftsvisionen.\nEin Abend für Eltern\, Lehrer und alle\, die schon mal in der Schule waren!
URL:https://www.kuba-juelich.de/event/martin-schopps-elternabend-wenn-schule-zur-comedy-show-wird/
CATEGORIES:Kleinkunst
ATTACH;FMTTYPE=image/jpeg:https://www.kuba-juelich.de/wp-content/uploads/2025/06/schopps_neu-scaled.jpg
END:VEVENT
END:VCALENDAR