BEGIN:VCALENDAR
VERSION:2.0
PRODID:-//KuBa Jülich - ECPv6.2.9//NONSGML v1.0//EN
CALSCALE:GREGORIAN
METHOD:PUBLISH
X-WR-CALNAME:KuBa Jülich
X-ORIGINAL-URL:https://www.kuba-juelich.de
X-WR-CALDESC:Veranstaltungen für KuBa Jülich
REFRESH-INTERVAL;VALUE=DURATION:PT1H
X-Robots-Tag:noindex
X-PUBLISHED-TTL:PT1H
BEGIN:VTIMEZONE
TZID:Europe/Berlin
BEGIN:DAYLIGHT
TZOFFSETFROM:+0100
TZOFFSETTO:+0200
TZNAME:CEST
DTSTART:20260329T010000
END:DAYLIGHT
BEGIN:STANDARD
TZOFFSETFROM:+0200
TZOFFSETTO:+0100
TZNAME:CET
DTSTART:20261025T010000
END:STANDARD
END:VTIMEZONE
BEGIN:VEVENT
DTSTART;TZID=Europe/Berlin:20260731T200000
DTEND;TZID=Europe/Berlin:20260731T220000
DTSTAMP:20260424T141740
CREATED:20260331T121510Z
LAST-MODIFIED:20260331T121510Z
UID:10000653-1785528000-1785535200@www.kuba-juelich.de
SUMMARY:Biergarten Konzert: SOUL XPRESS
DESCRIPTION:Mit Arndt Bander (Akustikgitarre\, Backing Vocals) und Janusz Korzen (Cajon\, Percussion) hat die Sängerin Susan Lentzen hochkarätige und aus vielen Projekten bekannte Musiker an ihrer Seite. Dieses Trio ist ein Garant für verdammt gute Live-Musik und begeistern sein Publikum mit bekannten und geliebten Rock & Pop Perlen.\nMit unverwechselbarem Charme machen sie jeden Cover-Song gekonnt zu ihrer ureigenen Version. Geh´ mit\, auf eine musikalische Zeitreise\, angefangen in den 60er Jahren mit Beat und Pop Musik von den Beatles oder Folk-Rock von Simon & Garefunkel über Hits von Aretha Franklin bis zu den Rolling Stones.\nAus den schrägen 70er Jahren stehen Songs von Janis Joplin\, Carole King\, Fleetwood Mac oder Linda Ronstadt im Mittelpunkt. Um eine perfekte Mischung zu erhalten \, dürfen aus den 80er und 90er Jahren Hits von Bands wie Depeche Mode\, Nirvana oder Sting nicht fehlen. Je nach Anlass\, schiebt die Band auch gerne einmal eine Rock-Nummer von AC/DC oder Metallica mit ins Programm. Vielleicht ruft ja der ein oder andere Song bei Dir längst vergessene Erinnerungen wach und zaubert Dir so ein Lächeln ins Gesicht.
URL:https://www.kuba-juelich.de/event/biergarten-konzert-soul-xpress-2/
CATEGORIES:Konzert
ATTACH;FMTTYPE=image/jpeg:https://www.kuba-juelich.de/wp-content/uploads/2024/01/WhatsApp-Image-2023-08-28-at-20.49.34.jpeg
END:VEVENT
END:VCALENDAR