BEGIN:VCALENDAR
VERSION:2.0
PRODID:-//KuBa Jülich - ECPv6.2.9//NONSGML v1.0//EN
CALSCALE:GREGORIAN
METHOD:PUBLISH
X-WR-CALNAME:KuBa Jülich
X-ORIGINAL-URL:https://www.kuba-juelich.de
X-WR-CALDESC:Veranstaltungen für KuBa Jülich
REFRESH-INTERVAL;VALUE=DURATION:PT1H
X-Robots-Tag:noindex
X-PUBLISHED-TTL:PT1H
BEGIN:VTIMEZONE
TZID:Europe/Berlin
BEGIN:DAYLIGHT
TZOFFSETFROM:+0100
TZOFFSETTO:+0200
TZNAME:CEST
DTSTART:20260329T010000
END:DAYLIGHT
BEGIN:STANDARD
TZOFFSETFROM:+0200
TZOFFSETTO:+0100
TZNAME:CET
DTSTART:20261025T010000
END:STANDARD
END:VTIMEZONE
BEGIN:VEVENT
DTSTART;TZID=Europe/Berlin:20260724T180000
DTEND;TZID=Europe/Berlin:20260724T200000
DTSTAMP:20260425T025814
CREATED:20260327T100104Z
LAST-MODIFIED:20260327T100104Z
UID:10000651-1784916000-1784923200@www.kuba-juelich.de
SUMMARY:Weinreise durch Portugal im KuBa
DESCRIPTION:Am Freitag\, dem 24. Juli 2026 um 18.00 Uhr findet die nächste Portugal-Weinprobe im Biergarten des Kulturbahnhofs Jülich statt.  \nUnter dem Motto „Weinreise durch Portugal“ werden Weiß-\, Rosé- und Rotweine aus den verschiedensten Regionen vorgestellt. Angefangen mit den frischen Vinho Verde Weißweinen nahe der spanischen Grenze über klassische Rotweine von Douro und Dao\, Tejo und Alentejo bis zu den fruchtigen Rosés der Algarve. Weine von namhaften und ausgezeichneten Weingütern ebenso wie auch von kleinen\, weniger bekannten Quintas\, die mit viel Herzblut Weine von großer Qualität erzeugen. \nDazu gibt es portugiesische Spezialitäten wie Käse\, Schinken\, Oliven\, Thunfisch und Original portugiesisches Mais- und Alentejo-Brot. Der Kostenbeitrag für Weine\, Wasser und port. Spezialitäten beträgt 35\,00 Euro pro Person. \nEine verbindliche Anmeldung ist notwendig. Bei ausgebuchter Veranstaltung entscheidet die Reihenfolge der Anmeldung über die Teilnahme. Die Veranstaltung findet auch bei schlechtem Wetter statt\, im KuBa. \nErlebt einen schönen Abend\, probiert neue Weine und hört Wissenswertes und Interessantes über die Weingüter und die Weinregionen Portugals.  \nAnmeldungen unter: vollmundig@schmitz-weine.de oder 0172 – 203 8883
URL:https://www.kuba-juelich.de/event/weinreise-durch-portugal-im-kuba/
CATEGORIES:Sonstiges
ATTACH;FMTTYPE=image/jpeg:https://www.kuba-juelich.de/wp-content/uploads/2026/03/Weinprobe_Kuba_2026.jpg
END:VEVENT
END:VCALENDAR