BEGIN:VCALENDAR
VERSION:2.0
PRODID:-//KuBa Jülich - ECPv6.2.9//NONSGML v1.0//EN
CALSCALE:GREGORIAN
METHOD:PUBLISH
X-ORIGINAL-URL:https://www.kuba-juelich.de
X-WR-CALDESC:Veranstaltungen für KuBa Jülich
REFRESH-INTERVAL;VALUE=DURATION:PT1H
X-Robots-Tag:noindex
X-PUBLISHED-TTL:PT1H
BEGIN:VTIMEZONE
TZID:Europe/Berlin
BEGIN:DAYLIGHT
TZOFFSETFROM:+0100
TZOFFSETTO:+0200
TZNAME:CEST
DTSTART:20260329T010000
END:DAYLIGHT
BEGIN:STANDARD
TZOFFSETFROM:+0200
TZOFFSETTO:+0100
TZNAME:CET
DTSTART:20261025T010000
END:STANDARD
END:VTIMEZONE
BEGIN:VEVENT
DTSTART;TZID=Europe/Berlin:20260531T180000
DTEND;TZID=Europe/Berlin:20260531T200000
DTSTAMP:20260424T112559
CREATED:20260401T100604Z
LAST-MODIFIED:20260401T100604Z
UID:10000659-1780250400-1780257600@www.kuba-juelich.de
SUMMARY:Marie Lumpp „Mama ohne Plan“
DESCRIPTION:Früher habe ich Bad Boys gedatet\, heute ziehe ich sie groß.“ Jede Mutter erinnert sich an den Moment zurück\, in dem sich Ihr Vorname in „Mama“ änderte. „Marie“ findet sich „plötzlich“ als zweifache Mutter in Jogginghose auf dem Spielplatz wieder\, und nichts ist mehr wie früher… Marie Lumpp spielt\, singt und schimpft in atemberaubernder Offenheit über die Achterbahn der Mutterschaft und springt dabei rasant durch 13 verschiedene Rollen. Ein turbulentes One-Woman-Comedy-Theaterstück über gute Zeiten\, gut gemeinte Ratschläge – und den Versuch\, stets alles richtig zu machen. \nIn Kanada ist „Suddenly Mommy“ seit Jahren ein Comedy-Smash-Hit! Schauspielerin und Sängerin Marie Lumpp bringt ihn nun endlich auch nach Deutschland – und schlüpft dabei in die Rolle der „Mama ohne Plan“ – was ihr leicht fällt\, da sie auch im echten Leben selbst den Spagat zwischen Bühne und Baby meistern muss. Eine humorvolle Show über erschütternde Erkenntnisse und darüber\, dass alles immer anders kommt\, als man es plant. \nEintritt: VVK 20\,00 € zzgl. Gebühren | AK 25\,00 € inkl. Gebühren | Tickets online: https://ztix.de oder bei der VVK – Stelle Kiosk im Kuba | Einlass: 17.30 Uhr
URL:https://www.kuba-juelich.de/event/marie-lumpp-mama-ohne-plan-2/
CATEGORIES:Kleinkunst
ATTACH;FMTTYPE=image/jpeg:https://www.kuba-juelich.de/wp-content/uploads/2026/04/marie-lumpp-31.05.2026_socialmedia.jpg
END:VEVENT
END:VCALENDAR