BEGIN:VCALENDAR
VERSION:2.0
PRODID:-//KuBa Jülich - ECPv6.2.9//NONSGML v1.0//EN
CALSCALE:GREGORIAN
METHOD:PUBLISH
X-ORIGINAL-URL:https://www.kuba-juelich.de
X-WR-CALDESC:Veranstaltungen für KuBa Jülich
REFRESH-INTERVAL;VALUE=DURATION:PT1H
X-Robots-Tag:noindex
X-PUBLISHED-TTL:PT1H
BEGIN:VTIMEZONE
TZID:Europe/Berlin
BEGIN:DAYLIGHT
TZOFFSETFROM:+0100
TZOFFSETTO:+0200
TZNAME:CEST
DTSTART:20260329T010000
END:DAYLIGHT
BEGIN:STANDARD
TZOFFSETFROM:+0200
TZOFFSETTO:+0100
TZNAME:CET
DTSTART:20261025T010000
END:STANDARD
END:VTIMEZONE
BEGIN:VEVENT
DTSTART;TZID=Europe/Berlin:20260526T170000
DTEND;TZID=Europe/Berlin:20260526T190000
DTSTAMP:20260424T112616
CREATED:20260416T112423Z
LAST-MODIFIED:20260416T112423Z
UID:10000672-1779814800-1779822000@www.kuba-juelich.de
SUMMARY:Der Super Mario Galaxy Film
DESCRIPTION:Kinder / Animation / Abenteuer | USA 2026 | FSK: ab 6 | 99 Min. | 17:00 Uhr | 4.00 Euro \nRegie: Aaron Horvath und Michael Jelenic \nDER SUPER MARIO GALAXY FILM ist der neue Animationsfilm\, basierend auf der Welt von „Super Mario Bros.“ Das erste Mario-Abenteuer Der Super Mario Bros. Film startete 2023 in den Kinos\, spielte weltweit mehr als 1\,3 Milliarden Dollar ein und begeisterte in Deutschland mehr als 5 Millionen Kinozuschauer.
URL:https://www.kuba-juelich.de/event/der-super-mario-galaxy-film/
CATEGORIES:Kino
ATTACH;FMTTYPE=image/jpeg:https://www.kuba-juelich.de/wp-content/uploads/2026/04/Digital_MO2_crt.OneSheet_crn.MontageOneSheet_siz.2480x3508_cta.Release-Date_cou.DE_German.des_s©-2026-Universal-Pictures-International-Germany-GmbH.jpg
END:VEVENT
BEGIN:VEVENT
DTSTART;TZID=Europe/Berlin:20260526T200000
DTEND;TZID=Europe/Berlin:20260526T220000
DTSTAMP:20260424T112616
CREATED:20260416T113019Z
LAST-MODIFIED:20260416T113019Z
UID:10000673-1779825600-1779832800@www.kuba-juelich.de
SUMMARY:Romería - Das Tagebuch meiner Mutter
DESCRIPTION:Drama | Spanien\, Deutschland 2025 | FSK: ab 16 | 114 Min. | 6.50 Euro / 6.00 Euro erm. \nRegie: Carla Simón | Darsteller: Llúcia Garcia\, Mitch \, Tristán Ulloa\, Alberto Gracia \nDie 18jährige Marina ist nach dem frühen Aids-Tod ihrer Eltern bei der Familie ihrer Mutter in Katalonien aufgewachsen. Nun reist sie nach Vigo an die galicische Atlantikküste\, um zum ersten Mal die Familie ihres Vaters Fon zu treffen und mit eigenen Augen zu sehen\, wo ihre Eltern die kurze\, wilde Zeit ihrer Liebe in den 80er Jahren erlebten\, im Aufbruch nach Ende der Franco-Diktatur. Eigentlicher Anlass von Marinas Reise ist eine simple Formalie: Für ihr Stipendium an der Filmhochschule braucht sie die Sterbeurkunde ihres Vaters. Zu ihrem Erstaunen weist das Dokument Fon als kinderlos aus\, ein Fehler\, der sich durch die  Unterschrift der Großeltern leicht korrigieren ließe.  \nMarina wird von der Familie in Galicien mit offenen Armen empfangen. Sie taucht ein in eine schwirrende Welt voller neuer Tanten\, Onkeln\, Cousins und Kusinen – und Geschichten\, die sich auf seltsame Weise widersprechen. Ihre Ankunft rührt lange verschüttete Emotionen auf\, verdrängte Gefühle\, Scham\, Schmerz und Zärtlichkeit. Hinter den Erzählungen\, den Lügen\, der Liebe und dem Schweigen der anderen zeichnet sich ab\, wie das Leben ihrer Eltern gewesen sein könnte. Für Marina beginnt\, begleitet vom Tagebuch ihrer Mutter\, die aufwühlende Reise in eine Erinnerung\, die sie sich selbst schaffen muss.
URL:https://www.kuba-juelich.de/event/romeria-das-tagebuch-meiner-mutter/
CATEGORIES:Kino
ATTACH;FMTTYPE=image/jpeg:https://www.kuba-juelich.de/wp-content/uploads/2026/04/ROM_Plakat_14RZ_web.jpg
END:VEVENT
END:VCALENDAR