BEGIN:VCALENDAR
VERSION:2.0
PRODID:-//KuBa Jülich - ECPv6.2.9//NONSGML v1.0//EN
CALSCALE:GREGORIAN
METHOD:PUBLISH
X-WR-CALNAME:KuBa Jülich
X-ORIGINAL-URL:https://www.kuba-juelich.de
X-WR-CALDESC:Veranstaltungen für KuBa Jülich
REFRESH-INTERVAL;VALUE=DURATION:PT1H
X-Robots-Tag:noindex
X-PUBLISHED-TTL:PT1H
BEGIN:VTIMEZONE
TZID:Europe/Berlin
BEGIN:DAYLIGHT
TZOFFSETFROM:+0100
TZOFFSETTO:+0200
TZNAME:CEST
DTSTART:20260329T010000
END:DAYLIGHT
BEGIN:STANDARD
TZOFFSETFROM:+0200
TZOFFSETTO:+0100
TZNAME:CET
DTSTART:20261025T010000
END:STANDARD
END:VTIMEZONE
BEGIN:VEVENT
DTSTART;TZID=Europe/Berlin:20260518T200000
DTEND;TZID=Europe/Berlin:20260518T220000
DTSTAMP:20260424T112411
CREATED:20260416T104740Z
LAST-MODIFIED:20260416T104740Z
UID:10000669-1779134400-1779141600@www.kuba-juelich.de
SUMMARY:Das Drama - Noch mal auf Anfang
DESCRIPTION:Drama | USA 2026 | FSK: ab 12 | 106 Min. | 6.50 Euro / 6.00 Euro erm. \nRegie: Kristoffer Borgli | Darsteller: Robert Pattinson\, Zendaya \nEin glücklich verlobtes Paar steht kurz vor der Traumhochzeit – doch in den Tagen vor dem Ja-Wort bröckelt die Fassade. Eine unerwartete Enthüllung wirft nicht nur die Hochzeitsplanung aus der Bahn\, sondern alles\, was sie über einander zu wissen glauben. \nDer Film geht den Fragen nach\, inwieweit wir fähig sind zu verzeihen und einzugestehen\, dass sich Menschen verändern können.
URL:https://www.kuba-juelich.de/event/das-drama-noch-mal-auf-anfang/
CATEGORIES:Kino
ATTACH;FMTTYPE=image/jpeg:https://www.kuba-juelich.de/wp-content/uploads/2026/04/Drama-NmaA_Artwork_DIN_A4_300ppi_sRGB_RZ-scaled.jpg
END:VEVENT
END:VCALENDAR