BEGIN:VCALENDAR
VERSION:2.0
PRODID:-//KuBa Jülich - ECPv6.2.9//NONSGML v1.0//EN
CALSCALE:GREGORIAN
METHOD:PUBLISH
X-WR-CALNAME:KuBa Jülich
X-ORIGINAL-URL:https://www.kuba-juelich.de
X-WR-CALDESC:Veranstaltungen für KuBa Jülich
REFRESH-INTERVAL;VALUE=DURATION:PT1H
X-Robots-Tag:noindex
X-PUBLISHED-TTL:PT1H
BEGIN:VTIMEZONE
TZID:Europe/Berlin
BEGIN:DAYLIGHT
TZOFFSETFROM:+0100
TZOFFSETTO:+0200
TZNAME:CEST
DTSTART:20260329T010000
END:DAYLIGHT
BEGIN:STANDARD
TZOFFSETFROM:+0200
TZOFFSETTO:+0100
TZNAME:CET
DTSTART:20261025T010000
END:STANDARD
END:VTIMEZONE
BEGIN:VEVENT
DTSTART;TZID=Europe/Berlin:20260516T200000
DTEND;TZID=Europe/Berlin:20260516T220000
DTSTAMP:20260424T112411
CREATED:20250828T095329Z
LAST-MODIFIED:20250828T095329Z
UID:10000493-1778961600-1778968800@www.kuba-juelich.de
SUMMARY:Handwerker Peters - „Lachkräfte-Mangel | Abhilfe für Baustelle & Leben“
DESCRIPTION:Die ultimative Handwerker-Comedy – normal sollte das halten! Handwerker Peters\, HP genannt\, wurde vom Publikum zum neuen Comedy-Star in Rheinland-Pfalz gewählt und ist seitdem mit seiner eigenen Serie auf RPR1. zu hören. HP löst all unsere Probleme auf Baustelle (und) Leben. Neben Fachkräfte-Mangel herrscht in Deutschland Lachkräfte-Mangel. Warum sind viele so schlecht gelaunt und hysterisch? Dabei kann man mit wenig Werkzeug frohen Mutes die Schlaglöcher des Alltags beseitigen. \nHandwerker Peters leistet Abhilfe mit einem Rundum-Tutorial. Endlich erklärt uns einer\, wie Handwerker ticken\, warum sie theoretisch alles können und warum wir erst vier Mal anrufen müssen\, bevor sie dann doch alles reparieren. \nDer Eifeler Comedyblitz in den Medien: Fernsehauftritte u.a. bei WDR & ARD\, Radiocomedy bei RPR1 & SWR3; ausgezeichnet als „Comedian & Kabarettist des Jahres“ (Deutsches Künstlermagazin). Seine Sketch-Serie ist in den sozialen Medien ein Hit (insgesamt über acht Millionen Aufrufe bei Instagram\, TikTok und Facebook).
URL:https://www.kuba-juelich.de/event/handwerker-peters-lachkraefte-mangel-abhilfe-fuer-baustelle-leben/
CATEGORIES:Kleinkunst
ATTACH;FMTTYPE=image/jpeg:https://www.kuba-juelich.de/wp-content/uploads/2025/08/Handwerker-Peters-Lachkraeftemangel-Instagram-R.jpg
END:VEVENT
END:VCALENDAR