BEGIN:VCALENDAR
VERSION:2.0
PRODID:-//KuBa Jülich - ECPv6.2.9//NONSGML v1.0//EN
CALSCALE:GREGORIAN
METHOD:PUBLISH
X-ORIGINAL-URL:https://www.kuba-juelich.de
X-WR-CALDESC:Veranstaltungen für KuBa Jülich
REFRESH-INTERVAL;VALUE=DURATION:PT1H
X-Robots-Tag:noindex
X-PUBLISHED-TTL:PT1H
BEGIN:VTIMEZONE
TZID:Europe/Berlin
BEGIN:DAYLIGHT
TZOFFSETFROM:+0100
TZOFFSETTO:+0200
TZNAME:CEST
DTSTART:20260329T010000
END:DAYLIGHT
BEGIN:STANDARD
TZOFFSETFROM:+0200
TZOFFSETTO:+0100
TZNAME:CET
DTSTART:20261025T010000
END:STANDARD
END:VTIMEZONE
BEGIN:VEVENT
DTSTART;TZID=Europe/Berlin:20260511T200000
DTEND;TZID=Europe/Berlin:20260511T220000
DTSTAMP:20260424T141955
CREATED:20260416T102713Z
LAST-MODIFIED:20260416T102713Z
UID:10000666-1778529600-1778536800@www.kuba-juelich.de
SUMMARY:Calle Málaga - Ein Zuhause in Tanger
DESCRIPTION:Drama | Frankreich/ Spanien/ Deutschland/ Belgien/ Marokko | FSK: ab 12 | 116 Min. | 6.50 Euro / 6.00 Euro erm. \nRegie: Maryam Touzani | Darsteller: Carmen Maura\, Marta Etura\, Ahmed Boulane\, María Alfonso Rosso \nMaría Ángeles\, 79\, ist tief verwurzelt im spanischen Viertel von Tanger. Ihre Wohnung in der Calle Málaga – voller Erinnerungen\, Blumen und antiker Schätze – ist ihr ganzer Stolz. Vom Balkon aus beobachtet sie das bunte Treiben der Stadt – ruhig\, zufrieden\, in ihrer eigenen Welt.\nDoch als ihre Tochter Clara die Wohnung verkaufen will\, gerät alles ins Wanken. Statt ins Seniorenheim zu ziehen\, stellt sich María Ángeles quer. Mit Witz\, List und Herz kämpft sie um ihr Zuhause. Überraschend findet sie dabei neue Nähe\, Lebenslust und eine Liebe\, die sie längst verloren glaubte.
URL:https://www.kuba-juelich.de/event/calle-malaga-ein-zuhause-in-tanger/
CATEGORIES:Kino
ATTACH;FMTTYPE=image/jpeg:https://www.kuba-juelich.de/wp-content/uploads/2026/04/Calle-Malaga_artwork_kinoplakat_A4-scaled.jpg
END:VEVENT
END:VCALENDAR