BEGIN:VCALENDAR
VERSION:2.0
PRODID:-//KuBa Jülich - ECPv6.2.9//NONSGML v1.0//EN
CALSCALE:GREGORIAN
METHOD:PUBLISH
X-ORIGINAL-URL:https://www.kuba-juelich.de
X-WR-CALDESC:Veranstaltungen für KuBa Jülich
REFRESH-INTERVAL;VALUE=DURATION:PT1H
X-Robots-Tag:noindex
X-PUBLISHED-TTL:PT1H
BEGIN:VTIMEZONE
TZID:Europe/Berlin
BEGIN:DAYLIGHT
TZOFFSETFROM:+0100
TZOFFSETTO:+0200
TZNAME:CEST
DTSTART:20260329T010000
END:DAYLIGHT
BEGIN:STANDARD
TZOFFSETFROM:+0200
TZOFFSETTO:+0100
TZNAME:CET
DTSTART:20261025T010000
END:STANDARD
END:VTIMEZONE
BEGIN:VEVENT
DTSTART;TZID=Europe/Berlin:20260427T170000
DTEND;TZID=Europe/Berlin:20260427T190000
DTSTAMP:20260424T112553
CREATED:20260318T112851Z
LAST-MODIFIED:20260318T112851Z
UID:10000646-1777309200-1777316400@www.kuba-juelich.de
SUMMARY:Hoppers
DESCRIPTION:Was läuft in der Tierwelt heute so? \nDas findet man am besten heraus\, wenn man selbst zum Tier wird. In Disney Pixars HOPPERS gewinnt Tierfreundin Mabel als Biber äußerst überraschende Erkenntnisse. Aber anstatt sich an die Regeln zu halten\, stellt sie die natürliche Ordnung völlig auf den Kopf und zettelt einen tierischen Aufstand an. Und das nur\, weil sie unbedingt den Teich retten will. \nEine Geschichte\, wie nur PIXAR sie erzählen kann.
URL:https://www.kuba-juelich.de/event/hoppers/
CATEGORIES:Kino
ATTACH;FMTTYPE=image/jpeg:https://www.kuba-juelich.de/wp-content/uploads/2026/03/018022-19_Hoppers_HP_DINA4_RZ_72dpi_RGB.jpg
END:VEVENT
BEGIN:VEVENT
DTSTART;TZID=Europe/Berlin:20260427T200000
DTEND;TZID=Europe/Berlin:20260427T220000
DTSTAMP:20260424T112553
CREATED:20260318T113109Z
LAST-MODIFIED:20260318T113109Z
UID:10000647-1777320000-1777327200@www.kuba-juelich.de
SUMMARY:Nouvelle Vague
DESCRIPTION:Komödie | Frankreich 2025 | FSK: ab 12 | 106 Min. | 6.50 Euro / 6.00 Euro erm. \nRegie: Richard Linklater | Darsteller: Guillaume Marbeck\, Zoey Deutch\, Aubry Dullin \nParis\, Ende der 1950er-Jahre: Der 28-jährige Jean-Luc Godard hat als Einziger in seinem Freundeskreis noch keinen eigenen Film gemacht. Mit einem verrückten Team\, einem amerikanischen Filmstar und wenig Geld gelingt ihm schließlich unter abenteuerlichen Umständen mit AUSSER ATEM ein Meisterwerk\, das in die Filmgeschichte eingehen und das Kino für immer verändern wird.\nKult-Regisseur Richard Linklater  lässt mit NOUVELLE VAGUE eine ganze Generation junger Wilder wieder lebendig werden: beneidenswert lässig\, unverschämt mutig und angetrieben vom unbedingten Willen\, alles neu und anders zu machen. Ein Film\, der vor Esprit\, Dynamik und Humor nur so sprüht und einen dazu bringt\, sich wieder kopfüber in das Kino zu verlieben. Seine Weltpremiere feierte NOUVELLE VAGUE beim Filmfestival von Cannes – unter großem Applaus von Kritik\, Publikum und von Fans wie Quentin Tarantino.
URL:https://www.kuba-juelich.de/event/nouvelle-vague/
CATEGORIES:Kino
ATTACH;FMTTYPE=image/jpeg:https://www.kuba-juelich.de/wp-content/uploads/2026/03/NOUVELLEVAGUE_A4_300dpi-scaled.jpg
END:VEVENT
END:VCALENDAR