BEGIN:VCALENDAR
VERSION:2.0
PRODID:-//KuBa Jülich - ECPv6.2.9//NONSGML v1.0//EN
CALSCALE:GREGORIAN
METHOD:PUBLISH
X-ORIGINAL-URL:https://www.kuba-juelich.de
X-WR-CALDESC:Veranstaltungen für KuBa Jülich
REFRESH-INTERVAL;VALUE=DURATION:PT1H
X-Robots-Tag:noindex
X-PUBLISHED-TTL:PT1H
BEGIN:VTIMEZONE
TZID:Europe/Berlin
BEGIN:DAYLIGHT
TZOFFSETFROM:+0100
TZOFFSETTO:+0200
TZNAME:CEST
DTSTART:20260329T010000
END:DAYLIGHT
BEGIN:STANDARD
TZOFFSETFROM:+0200
TZOFFSETTO:+0100
TZNAME:CET
DTSTART:20261025T010000
END:STANDARD
END:VTIMEZONE
BEGIN:VEVENT
DTSTART;TZID=Europe/Berlin:20260425T160000
DTEND;TZID=Europe/Berlin:20260425T220000
DTSTAMP:20260424T095202
CREATED:20260413T103357Z
LAST-MODIFIED:20260413T103357Z
UID:10000664-1777132800-1777154400@www.kuba-juelich.de
SUMMARY:JÜLICH FEIERT VIELFALT - 20 JAHRE STAMMHAUS JÜLICH
DESCRIPTION:Ganz Jülich ist eingeladen! \nDas Stammhaus Jülich feiert sein 20- jähriges Jubläum und wir möchten dieses besondere Ereignis mit der gesamten Stadt feiern. \nFreuen Sie sich auf ein buntes\, lebendiges Fest voller Begegnungen\, Musik und Gemeinschaft. Gemeinsam mochten wir ein starkes Zeichen setzen: für Inklusion\, Zusammenhalt und für eine Stadt\, in der jeder Mensch mit und ohne Behinderung dazugehört. \nKommen Sie vorbei\, bringen Sie Familie und Freunde mit und werden Sie Teil eines Tages\,d er zeigt\, was Jülich ausmacht: Herz\, Vielfalt und Miteinander
URL:https://www.kuba-juelich.de/event/juelich-feiert-vielfalt-20-jahre-stammhaus-juelich/
CATEGORIES:Sonstiges
ATTACH;FMTTYPE=image/jpeg:https://www.kuba-juelich.de/wp-content/uploads/2026/04/Plakat-Jubilaeum-Stammhaus-Juelich--scaled.jpg
END:VEVENT
END:VCALENDAR