BEGIN:VCALENDAR
VERSION:2.0
PRODID:-//KuBa Jülich - ECPv6.2.9//NONSGML v1.0//EN
CALSCALE:GREGORIAN
METHOD:PUBLISH
X-ORIGINAL-URL:https://www.kuba-juelich.de
X-WR-CALDESC:Veranstaltungen für KuBa Jülich
REFRESH-INTERVAL;VALUE=DURATION:PT1H
X-Robots-Tag:noindex
X-PUBLISHED-TTL:PT1H
BEGIN:VTIMEZONE
TZID:Europe/Berlin
BEGIN:DAYLIGHT
TZOFFSETFROM:+0100
TZOFFSETTO:+0200
TZNAME:CEST
DTSTART:20260329T010000
END:DAYLIGHT
BEGIN:STANDARD
TZOFFSETFROM:+0200
TZOFFSETTO:+0100
TZNAME:CET
DTSTART:20261025T010000
END:STANDARD
END:VTIMEZONE
BEGIN:VEVENT
DTSTART;TZID=Europe/Berlin:20260328T200000
DTEND;TZID=Europe/Berlin:20260328T220000
DTSTAMP:20260424T112615
CREATED:20260205T111950Z
LAST-MODIFIED:20260205T111950Z
UID:10000609-1774728000-1774735200@www.kuba-juelich.de
SUMMARY:The Rotten Tigers
DESCRIPTION:„The Rotten Tigers“ Coverband feiert 60-jähriges Jubiläum. \nEigentlich müsste die Band „Wir wüssten ja nicht\, was wir Freitagsabends machen sollten“ heißen – ist aber wenig glaubwürdig. \nSo covert man sich seit vielen Jahren durch die Musik der 80er wöchentlich im Proberaum. Regelmäßige Auftritte waren selten und so wurde immer mal wieder bei privaten Feiern oder besonderen Anlässen gespielt. \nWer also Lust auf was Gutes aus der Zeitkapsel hat\, dem sei dieser Abend ans Herz gelegt. \n  \nBerthold Peters – Gitarre \nErich Gussen – Schlagzeug \nChristoph Uerlichs – Bass
URL:https://www.kuba-juelich.de/event/the-rotten-tigers-2/
CATEGORIES:Konzert
ATTACH;FMTTYPE=image/jpeg:https://www.kuba-juelich.de/wp-content/uploads/2026/02/Rotten-Tigers-scaled.jpg
END:VEVENT
END:VCALENDAR