BEGIN:VCALENDAR
VERSION:2.0
PRODID:-//KuBa Jülich - ECPv6.2.9//NONSGML v1.0//EN
CALSCALE:GREGORIAN
METHOD:PUBLISH
X-ORIGINAL-URL:https://www.kuba-juelich.de
X-WR-CALDESC:Veranstaltungen für KuBa Jülich
REFRESH-INTERVAL;VALUE=DURATION:PT1H
X-Robots-Tag:noindex
X-PUBLISHED-TTL:PT1H
BEGIN:VTIMEZONE
TZID:Europe/Berlin
BEGIN:DAYLIGHT
TZOFFSETFROM:+0100
TZOFFSETTO:+0200
TZNAME:CEST
DTSTART:20260329T010000
END:DAYLIGHT
BEGIN:STANDARD
TZOFFSETFROM:+0200
TZOFFSETTO:+0100
TZNAME:CET
DTSTART:20261025T010000
END:STANDARD
END:VTIMEZONE
BEGIN:VEVENT
DTSTART;TZID=Europe/Berlin:20260314T200000
DTEND;TZID=Europe/Berlin:20260314T230000
DTSTAMP:20260424T112615
CREATED:20251007T072105Z
LAST-MODIFIED:20251007T072118Z
UID:10000528-1773518400-1773529200@www.kuba-juelich.de
SUMMARY:Töricht - Kleinkunstkommando - TalÄntfrei
DESCRIPTION:Töricht live im KUBA – 14.03.2026 \nAus der Region Düren/Jülich direkt ins Herz: Töricht! \nGegründet mitten in der Pandemie\, sind sie der laute Gegenentwurf zum Stillstand – roh\, emotional und voller Energie. Mit einer explosiven Mischung aus Punk\, Ska\, Oi! und einer Prise Metal liefern sie ehrliche Songs über Wut\, Hoffnung\, Mut\, Freundschaft – und natürlich jede Menge Klamauk. \nAm 14. März verwandelt sich das KUBA in ein brodelndes Dualuniversum: laut\, wild\, authentisch – Töricht! \nMit dabei sind zwei starke Support-Acts: \nKleinkunstkommando – vier Musiker\, vier Charaktere\, ein Ziel: Musik mit Herz\, Tiefgang und einer guten Portion Humor. Eingängige Melodien\, kluge Texte und charmante Selbstironie – mal nachdenklich\, mal verspielt\, aber immer mitreißend. \nTalÄntfrei – für ehrlichen Deutschrock. Gegründet aus Freundschaft und Familie\, begeistern sie mit Songs voller Power\, Herz und Zusammenhalt. \nEin Abend voller Freundschaft\, Klamauk und richtig guter Musik!
URL:https://www.kuba-juelich.de/event/toericht-kleinkunstkommando-talaentfrei/
CATEGORIES:Konzert
ATTACH;FMTTYPE=image/jpeg:https://www.kuba-juelich.de/wp-content/uploads/2025/10/plakat_2026.jpg
END:VEVENT
END:VCALENDAR