BEGIN:VCALENDAR
VERSION:2.0
PRODID:-//KuBa Jülich - ECPv6.2.9//NONSGML v1.0//EN
CALSCALE:GREGORIAN
METHOD:PUBLISH
X-WR-CALNAME:KuBa Jülich
X-ORIGINAL-URL:https://www.kuba-juelich.de
X-WR-CALDESC:Veranstaltungen für KuBa Jülich
REFRESH-INTERVAL;VALUE=DURATION:PT1H
X-Robots-Tag:noindex
X-PUBLISHED-TTL:PT1H
BEGIN:VTIMEZONE
TZID:Europe/Berlin
BEGIN:DAYLIGHT
TZOFFSETFROM:+0100
TZOFFSETTO:+0200
TZNAME:CEST
DTSTART:20260329T010000
END:DAYLIGHT
BEGIN:STANDARD
TZOFFSETFROM:+0200
TZOFFSETTO:+0100
TZNAME:CET
DTSTART:20261025T010000
END:STANDARD
END:VTIMEZONE
BEGIN:VEVENT
DTSTART;TZID=Europe/Berlin:20260214T191100
DTEND;TZID=Europe/Berlin:20260214T230000
DTSTAMP:20260424T125049
CREATED:20251022T114027Z
LAST-MODIFIED:20260107T134717Z
UID:10000548-1771096260-1771110000@www.kuba-juelich.de
SUMMARY:CCKG Trunksitzung
DESCRIPTION:Einlass: 18:11 Uhr / Beginn: 19:11 Uhr\nEintritt: 17 € + Geb. \nTicket sind online verfügbar.
URL:https://www.kuba-juelich.de/event/cckg-trunksitzung-3/
CATEGORIES:Brauchtum
ATTACH;FMTTYPE=image/jpeg:https://www.kuba-juelich.de/wp-content/uploads/2025/10/250930_CCKG-Sessionsplakat_o-Eroeffnung_WEB_KORR.jpg
END:VEVENT
END:VCALENDAR