BEGIN:VCALENDAR
VERSION:2.0
PRODID:-//KuBa Jülich - ECPv6.2.9//NONSGML v1.0//EN
CALSCALE:GREGORIAN
METHOD:PUBLISH
X-ORIGINAL-URL:https://www.kuba-juelich.de
X-WR-CALDESC:Veranstaltungen für KuBa Jülich
REFRESH-INTERVAL;VALUE=DURATION:PT1H
X-Robots-Tag:noindex
X-PUBLISHED-TTL:PT1H
BEGIN:VTIMEZONE
TZID:Europe/Berlin
BEGIN:DAYLIGHT
TZOFFSETFROM:+0100
TZOFFSETTO:+0200
TZNAME:CEST
DTSTART:20250330T010000
END:DAYLIGHT
BEGIN:STANDARD
TZOFFSETFROM:+0200
TZOFFSETTO:+0100
TZNAME:CET
DTSTART:20251026T010000
END:STANDARD
END:VTIMEZONE
BEGIN:VEVENT
DTSTART;TZID=Europe/Berlin:20251107T200000
DTEND;TZID=Europe/Berlin:20251107T230000
DTSTAMP:20260424T173548
CREATED:20250924T103420Z
LAST-MODIFIED:20250924T103420Z
UID:10000522-1762545600-1762556400@www.kuba-juelich.de
SUMMARY:Klare Kante 2
DESCRIPTION:Am Freitag\, 7. November 2025 heißt es wieder ab 20 Uhr „Klare Kante!“ im Jülicher Kulturbahnhof\, wenn die 3 Bands Ranzen\, Burden to Atlas und Fluegge die Bühne in der KuBa Kneipe rocken. \nRaus aus der Komfortzone\, rein in die Midlifecrisis. Ranzen kommen aus  Würzburg und spielen Chanson-punk\, wie ihn das Leben schreibt.\nDie drei Musiker/innen singen über Themen\, über die zu Recht noch niemand gesungen hat und geben Antworten auf Fragen\, die niemals gestellt wurden\, z.B. ob man mit Beulenpest ins Freibad gehen sollte? Bei Ranzen machen einfache Menschen einfache Musik. Oft geht es um Bier\, aber eben nicht immer\, genau wie im echten Leben. Also\, lasst Euch verzaubern. \nBurden to Atlas streben nach reinem\, authentischem Ausdruck und gestatten ihrer Kunst\, sich losgelöst von musikalischen Konventionen zu entwickeln. Bunt und vielfältig wie unsere alltäglichen Einflüsse\, wechseln sich in ihren Stücken innerhalb von Sekunden melancholische Math-Rock Muße mit düsteren Deathcore Deichbrüchen ab. \nFluegge ist deutschsprachiger Punkrock\, der zwischen Melancholie und  Energie pendelt. Die Band kombiniert rauen Punk mit den nachdenklichen  Tönen von Indie und Emo – eine Mischung\, die tief geht und bewegt. Ihre Texte sind nachdenklich und oft politisch\, getrieben vom Wunsch nach Gerechtigkeit und dem Drang\, etwas in der Welt zu verändern.\nGleichzeitig finden sich in ihrer Musik aber auch die kleinen Geschichten des Alltags\, die uns alle berühren: persönliche Krisen\, gesellschaftliche Beobachtungen und der ewige Kampf\, gegen sich selbst.
URL:https://www.kuba-juelich.de/event/klare-kante-2/
CATEGORIES:Konzert
ATTACH;FMTTYPE=image/jpeg:https://www.kuba-juelich.de/wp-content/uploads/2025/09/250904_Kuba_Konzert-KlareKante-Webplakat-02.jpg
END:VEVENT
END:VCALENDAR