BEGIN:VCALENDAR
VERSION:2.0
PRODID:-//KuBa Jülich - ECPv6.2.9//NONSGML v1.0//EN
CALSCALE:GREGORIAN
METHOD:PUBLISH
X-ORIGINAL-URL:https://www.kuba-juelich.de
X-WR-CALDESC:Veranstaltungen für KuBa Jülich
REFRESH-INTERVAL;VALUE=DURATION:PT1H
X-Robots-Tag:noindex
X-PUBLISHED-TTL:PT1H
BEGIN:VTIMEZONE
TZID:Europe/Berlin
BEGIN:DAYLIGHT
TZOFFSETFROM:+0100
TZOFFSETTO:+0200
TZNAME:CEST
DTSTART:20250330T010000
END:DAYLIGHT
BEGIN:STANDARD
TZOFFSETFROM:+0200
TZOFFSETTO:+0100
TZNAME:CET
DTSTART:20251026T010000
END:STANDARD
END:VTIMEZONE
BEGIN:VEVENT
DTSTART;TZID=Europe/Berlin:20251106T180000
DTEND;TZID=Europe/Berlin:20251106T200000
DTSTAMP:20260424T173551
CREATED:20250926T093339Z
LAST-MODIFIED:20250926T093339Z
UID:10000526-1762452000-1762459200@www.kuba-juelich.de
SUMMARY:RHEINISCHER MUNDART ABEND
DESCRIPTION:Jesonge on Verzällt \nIn Kooperation mit dem Jülicher Geschichstverein 1923 e.V. veranstaltet der Jülicher Kulturbahnhof erneut einen Rheinischen Mundartabend. Das Team der Mundartfreunde Jülich hat für Donnerstag\, 6. November ein heiter beschwingtes Programm zusammengestellt\, bei dem für jeden Mundartbegeisterten etwas dabei sein sollte. Unter dem Motto: „Jesonge on verzällt“ präsentieren sie ab 18 Uhr im Kulturbahnhof Sketche op Platt und sorgen so für Spaß und Lacher. Begleitet werden die Jülicher Mundartfreunde vom „Quetschemann“ Jörg Fuhrländer.\nEbenfalls mit dabei sind die Mundartfreunde aus Kirchberg. \nKarten sind für 10 € im Vorverkauf im KuBa-Kiosk erhältlich.
URL:https://www.kuba-juelich.de/event/rheinischer-mundart-abend-3/
CATEGORIES:Kleinkunst
ATTACH;FMTTYPE=image/jpeg:https://www.kuba-juelich.de/wp-content/uploads/2025/09/250924_RheinischeMundart_Flyer_WEB_03.jpg
END:VEVENT
END:VCALENDAR