BEGIN:VCALENDAR
VERSION:2.0
PRODID:-//KuBa Jülich - ECPv6.2.9//NONSGML v1.0//EN
CALSCALE:GREGORIAN
METHOD:PUBLISH
X-ORIGINAL-URL:https://www.kuba-juelich.de
X-WR-CALDESC:Veranstaltungen für KuBa Jülich
REFRESH-INTERVAL;VALUE=DURATION:PT1H
X-Robots-Tag:noindex
X-PUBLISHED-TTL:PT1H
BEGIN:VTIMEZONE
TZID:Europe/Berlin
BEGIN:DAYLIGHT
TZOFFSETFROM:+0100
TZOFFSETTO:+0200
TZNAME:CEST
DTSTART:20250330T010000
END:DAYLIGHT
BEGIN:STANDARD
TZOFFSETFROM:+0200
TZOFFSETTO:+0100
TZNAME:CET
DTSTART:20251026T010000
END:STANDARD
END:VTIMEZONE
BEGIN:VEVENT
DTSTART;TZID=Europe/Berlin:20251030T100000
DTEND;TZID=Europe/Berlin:20251030T110000
DTSTAMP:20260424T173555
CREATED:20250924T100053Z
LAST-MODIFIED:20250924T100127Z
UID:10000518-1761818400-1761822000@www.kuba-juelich.de
SUMMARY:Kindertheater "Knallwut"
DESCRIPTION:die exen und flunker produktion „Knallwut“ \nOb wir federleicht hüpfen oder uns bleischwer fühlen\, ob wir uns verschließen oder laut brüllen\, hat alles einen Grund: die Gefühle. Sie wohnen in uns und sind ziemlich schwer zu bändigen. Ist das toll!«\, jubelt die Freude. »Doof!«\, mäkelt der Ärger. »Trau mich nicht!«\, flüstert die Angst. »Keine Lust.«\, sagt die Traurigkeit. Und dann kommt die Wut angerauscht: Knall Bumm Kaputt! \nEin humorvolles Theaterstück über die Geheimnisse der Wut im Wechselbad der Gefühle. \nab 4 Jahren | Eintritt: Kinder 6\,00 € | pädagogische Begleitpersonen frei | NUR Gruppenanmeldungen unter 02461 62243 oder Kulturbuero@juelich.de \nVeranstalter: Stadt Jülich / Kulturbüro
URL:https://www.kuba-juelich.de/event/kindertheater-knallwut/
CATEGORIES:Kleinkunst
ATTACH;FMTTYPE=image/jpeg:https://www.kuba-juelich.de/wp-content/uploads/2025/09/korrektur-instagram-knallwut-30.10.2025-281-29.jpg
END:VEVENT
END:VCALENDAR