BEGIN:VCALENDAR
VERSION:2.0
PRODID:-//KuBa Jülich - ECPv6.2.9//NONSGML v1.0//EN
CALSCALE:GREGORIAN
METHOD:PUBLISH
X-WR-CALNAME:KuBa Jülich
X-ORIGINAL-URL:https://www.kuba-juelich.de
X-WR-CALDESC:Veranstaltungen für KuBa Jülich
REFRESH-INTERVAL;VALUE=DURATION:PT1H
X-Robots-Tag:noindex
X-PUBLISHED-TTL:PT1H
BEGIN:VTIMEZONE
TZID:Europe/Berlin
BEGIN:DAYLIGHT
TZOFFSETFROM:+0100
TZOFFSETTO:+0200
TZNAME:CEST
DTSTART:20250330T010000
END:DAYLIGHT
BEGIN:STANDARD
TZOFFSETFROM:+0200
TZOFFSETTO:+0100
TZNAME:CET
DTSTART:20251026T010000
END:STANDARD
END:VTIMEZONE
BEGIN:VEVENT
DTSTART;TZID=Europe/Berlin:20251007T100000
DTEND;TZID=Europe/Berlin:20251007T120000
DTSTAMP:20260424T195659
CREATED:20250924T095504Z
LAST-MODIFIED:20250924T095504Z
UID:10000516-1759831200-1759838400@www.kuba-juelich.de
SUMMARY:Compagnie Nik "3 min"
DESCRIPTION:In der mexikanischen Wüste öffnet sich für drei Minuten ein Grenzzaun. Familien\, die seit Jahrzehnten getrennt sind\, können sich im trockenen Flussbett des Rio Bravo begegnen. Dann schließt sich der Zaun wieder und trennt die Menschen erneut. Am Anfang der Produktion stand eine siebenwöchige Reise nach Mexiko\, um dieser  menschlichen Tragödie mitten in der Wüste zu begegnen und sie in ein Theaterstück zu verwandeln. Dann kam Corona und kam das Ende dieser Pläne. Geblieben ist das Motiv der dreiminütigen Begegnungen und die Frage\, was sich in diesem kurzen Moment erzählen lässt. Wir haben uns auf eine neue\, eine Gedankenreise begeben und uns gefragt\, was Migration\, Grenzen und Flucht für unser gesellschaftliches „Wir“ bedeuten als weißes\, privilegiertes künstlerisches Team. \nDa sind eine Schauspielerin und ein Schauspieler\, die die Magie und die Last des Moments erkunden\, auf einer nackten Bühne\, auf der eine Uhr rückwärtsläuft – 3 Minuten – wieder und wieder und wieder und wieder. Es entsteht ein Sinnbild für die vielfache Teilung dieser Welt an allen Grenzen – gleichgültig\, ob diese aus Beton und Stahl oder Worten und Meinungen errichtet sind. \nab 14 Jahren | Eintritt: Jugendliche 6\,00 € | pädagogische Begleitpersonen frei | NUR Gruppenanmeldungen unter 02461 62243 oder Kulturbuero@juelich.de \nVeranstalter: Stadt Jülich / Kulturbüro
URL:https://www.kuba-juelich.de/event/compagnie-nik-3-min/
CATEGORIES:Kleinkunst
ATTACH;FMTTYPE=image/jpeg:https://www.kuba-juelich.de/wp-content/uploads/2025/09/3-min-07.10.2025.jpg
END:VEVENT
END:VCALENDAR