BEGIN:VCALENDAR
VERSION:2.0
PRODID:-//KuBa Jülich - ECPv6.2.9//NONSGML v1.0//EN
CALSCALE:GREGORIAN
METHOD:PUBLISH
X-WR-CALNAME:KuBa Jülich
X-ORIGINAL-URL:https://www.kuba-juelich.de
X-WR-CALDESC:Veranstaltungen für KuBa Jülich
REFRESH-INTERVAL;VALUE=DURATION:PT1H
X-Robots-Tag:noindex
X-PUBLISHED-TTL:PT1H
BEGIN:VTIMEZONE
TZID:Europe/Berlin
BEGIN:DAYLIGHT
TZOFFSETFROM:+0100
TZOFFSETTO:+0200
TZNAME:CEST
DTSTART:20250330T010000
END:DAYLIGHT
BEGIN:STANDARD
TZOFFSETFROM:+0200
TZOFFSETTO:+0100
TZNAME:CET
DTSTART:20251026T010000
END:STANDARD
END:VTIMEZONE
BEGIN:VEVENT
DTSTART;TZID=Europe/Berlin:20251001T170000
DTEND;TZID=Europe/Berlin:20251001T190000
DTSTAMP:20260424T195659
CREATED:20250604T134410Z
LAST-MODIFIED:20250825T094626Z
UID:10000453-1759338000-1759345200@www.kuba-juelich.de
SUMMARY:„indeland im Gespräch“ –  Dialogreihe zur Zukunft der Region
DESCRIPTION:„indeland im Gespräch“ zur See-Entwicklung \nDie Veranstaltung wurde aufgrund der vorhergesagten sehr hohen Temperaturen Anfang Juli abgesagt. Dies ist der neue Termin. \n\nMit der Dialogreihe „indeland im Gespräch“ lädt die Entwicklungsgesellschaft indeland GmbH Bürgerinnen und Bürger dazu ein\, aktiv an der Gestaltung der Zukunft ihrer Region teilzuhaben. Der nächste Termin ist am Mittwoch\, 01. Oktober 2025\, von 17 bis 19 Uhr im KuBa in Jülich. Im Mittelpunkt der Veranstaltung steht die Entwicklung des Indesees. Neben einem Impulsvortrag zur zukünftigen Gestaltung des Sees werden aktuelle Planungen vorgestellt. Zudem haben die Teilnehmenden die Möglichkeit\, mit Mitarbeitenden der indeland GmbH ins Gespräch zu kommen und eigene Fragen oder Anregungen einzubringen. \nEine Anmeldung ist nicht zwingend erforderlich\, hilft uns aber bei der Planung. Die Teilnahme ist kostenlos. \n(c) indeland GmbH / HHVISION
URL:https://www.kuba-juelich.de/event/indeland-im-gespraech-dialogreihe-zur-zukunft-der-region/
CATEGORIES:Sonstiges
ATTACH;FMTTYPE=image/jpeg:https://www.kuba-juelich.de/wp-content/uploads/2025/06/250730_IND_Flyer_indeland-im-Gespraech_Juelich.jpg
END:VEVENT
END:VCALENDAR