BEGIN:VCALENDAR
VERSION:2.0
PRODID:-//KuBa Jülich - ECPv6.2.9//NONSGML v1.0//EN
CALSCALE:GREGORIAN
METHOD:PUBLISH
X-WR-CALNAME:KuBa Jülich
X-ORIGINAL-URL:https://www.kuba-juelich.de
X-WR-CALDESC:Veranstaltungen für KuBa Jülich
REFRESH-INTERVAL;VALUE=DURATION:PT1H
X-Robots-Tag:noindex
X-PUBLISHED-TTL:PT1H
BEGIN:VTIMEZONE
TZID:Europe/Berlin
BEGIN:DAYLIGHT
TZOFFSETFROM:+0100
TZOFFSETTO:+0200
TZNAME:CEST
DTSTART:20250330T010000
END:DAYLIGHT
BEGIN:STANDARD
TZOFFSETFROM:+0200
TZOFFSETTO:+0100
TZNAME:CET
DTSTART:20251026T010000
END:STANDARD
END:VTIMEZONE
BEGIN:VEVENT
DTSTART;TZID=Europe/Berlin:20250117T200000
DTEND;TZID=Europe/Berlin:20250117T230000
DTSTAMP:20260424T230933
CREATED:20241119T142011Z
LAST-MODIFIED:20250107T102534Z
UID:10000321-1737144000-1737154800@www.kuba-juelich.de
SUMMARY:Loss mer singe
DESCRIPTION:Die Veranstaltung ist ausverkauft \nLoss mer Singe! Diese Veranstaltungsreihe muss man in Köln niemandem mehr erklären. Aber auch in Jülich hat sich das „Einsingen in den Karneval“ über die letzten Jahre etabliert und die Fangemeine wird von Jahr zu Jahr größer. Da ist es nur logisch\, dass es auch in der anstehenden Session wieder eine Veranstaltung geben wird. \nDie Spielregeln für einen solchen Einsing-Abend sind weiterhin unverändert: aus den erneut über 300 kölschen (beziehungsweise auf den rheinischen Karneval bezogenen) Musiktiteln\, die in dieser Session auf Tonträger oder im Internet erscheinen\, werden im Vorfeld 20 Titel ausgewählt.\nAlle Besucher erhalten Textzettel mit den Refrains der Lieder und dann geht’s los: die 20 Stücke werden nacheinander gespielt – selbstverständlich gibt es auch ein paar interessante Infos vom Moderator zu den jeweiligen Liedern. Am Ende wird abgestimmt und der „Kneipenhit der Session“ gewählt. \nNach dem Programm wird DJ Buto weiter für eine rauschende Karnevalsnacht sorgen. \nVVK 10 € inkl. Gebühren | VVK: Buchhandlung Thalia in Jülich und Online
URL:https://www.kuba-juelich.de/event/loss-mer-singe-2/
CATEGORIES:Brauchtum
ATTACH;FMTTYPE=image/jpeg:https://www.kuba-juelich.de/wp-content/uploads/2023/12/tom_beys.jpg
END:VEVENT
END:VCALENDAR